BEGIN:VCALENDAR
VERSION:2.0
PRODID:-//aDoddle - Community Mapping - ECPv6.15.11//NONSGML v1.0//EN
CALSCALE:GREGORIAN
METHOD:PUBLISH
X-WR-CALNAME:aDoddle - Community Mapping
X-ORIGINAL-URL:https://adoddle.org
X-WR-CALDESC:Events for aDoddle - Community Mapping
REFRESH-INTERVAL;VALUE=DURATION:PT1H
X-Robots-Tag:noindex
X-PUBLISHED-TTL:PT1H
BEGIN:VTIMEZONE
TZID:Europe/London
BEGIN:DAYLIGHT
TZOFFSETFROM:+0000
TZOFFSETTO:+0100
TZNAME:BST
DTSTART:20250330T010000
END:DAYLIGHT
BEGIN:STANDARD
TZOFFSETFROM:+0100
TZOFFSETTO:+0000
TZNAME:GMT
DTSTART:20251026T010000
END:STANDARD
BEGIN:DAYLIGHT
TZOFFSETFROM:+0000
TZOFFSETTO:+0100
TZNAME:BST
DTSTART:20260329T010000
END:DAYLIGHT
BEGIN:STANDARD
TZOFFSETFROM:+0100
TZOFFSETTO:+0000
TZNAME:GMT
DTSTART:20261025T010000
END:STANDARD
BEGIN:DAYLIGHT
TZOFFSETFROM:+0000
TZOFFSETTO:+0100
TZNAME:BST
DTSTART:20270328T010000
END:DAYLIGHT
BEGIN:STANDARD
TZOFFSETFROM:+0100
TZOFFSETTO:+0000
TZNAME:GMT
DTSTART:20271031T010000
END:STANDARD
END:VTIMEZONE
BEGIN:VEVENT
DTSTART;VALUE=DATE:20260107
DTEND;VALUE=DATE:20260214
DTSTAMP:20260424T210033
CREATED:20211205T205041Z
LAST-MODIFIED:20260105T114827Z
UID:4884-1767744000-1771027199@adoddle.org
SUMMARY:Big Schools' Birdwatch
DESCRIPTION:Big Schools’ Birdwatch\nThe RSPB’s Big Schools’ Birdwatch is a citizen science project for schools across the UK. It takes place alongside\, the RSPB’s Big Garden Birdwatch. \nIt’s easy (and free!) to get involved\, and we find that most children are excited to be a part of this important research. All you have to do is count the bird species you can see in your school\, and then send the results to the RSPB. Easy! \nSubmission for results is open between 6th January – 13th February. \nRSPB’s Big Schools’ Birdwatch has been running for over 20 years\, and the reason it’s been going for so long is that it’s such valuable work. The results that schools submit to the RSPB are used by scientists to help create a picture of how birds are faring across the UK. \nTo register for RSPB’s Big Schools’ Birdwatch\, you can follow this link\, which takes you to their website. \n  \nSource: Big Schools’ Birdwatch (rspb.org.uk)
URL:https://adoddle.org/events-calendar/big-schools-birdwatch/
CATEGORIES:Awareness Week,National,UK
ATTACH;FMTTYPE=image/png:https://adoddle.org/wp-content/uploads/2021/12/Birdwatch-2.png
END:VEVENT
BEGIN:VEVENT
DTSTART;VALUE=DATE:20260119
DTEND;VALUE=DATE:20260126
DTSTAMP:20260424T210033
CREATED:20220603T091013Z
LAST-MODIFIED:20260109T133345Z
UID:5968-1768780800-1769385599@adoddle.org
SUMMARY:Cervical Cancer Prevention Week
DESCRIPTION:This week is Cervical Cancer Prevention Week. \nStatistics show that 1 in 3 people don’t go to their cervical screening appointment due to embarrassment or fear. There’s a lot of built-up stigma around the test\, but it’s one that’s vitally important. \nAccording to the NHS\, the early signs of ovarian cancer can be: \n\na swollen tummy or feeling bloated\npain or tenderness in your tummy or the area between the hips (pelvis)\nno appetite or feeling full quickly after eating\nan urgent need to pee or needing to pee more often\n\nCervical cancer is curable with early detection. It is also very slow to spread\, increasing the chances of cure. All we have to do is test and start treatment before cancer grows. \nTherefore it is crucial that women aged 25 – 64 take up their free cervical screening on the NHS as soon as they receive their invitation. \n  \nFind out more at: Cervical Cancer Prevention Week | Awareness Days \n 
URL:https://adoddle.org/events-calendar/cervical-cancer-prevention-week/
CATEGORIES:Awareness Week,National,UK
ATTACH;FMTTYPE=image/png:https://adoddle.org/wp-content/uploads/2022/06/Cervical-Cancer-AW-1.png
END:VEVENT
BEGIN:VEVENT
DTSTART;VALUE=DATE:20260125
DTEND;VALUE=DATE:20260126
DTSTAMP:20260424T210033
CREATED:20221214T145932Z
LAST-MODIFIED:20251223T124839Z
UID:6769-1769299200-1769385599@adoddle.org
SUMMARY:Burns Night
DESCRIPTION:The 25th January is known nationally as Burns Night.\n\n\n \n\n\nKnown in medieval Celtic culture as a story teller\, verse maker and composer\, the word ‘Bard’ has become synonymous with the world’s greatest poets. However\, few are as celebrated as Scotland’s own ‘National Bard’\, Robert Burns\, who we pay tribute to on 25 January each year.\n\n\n \n\n\nBorn in Ayrshire in 1759\, Robert Burns is Scotland’s national bard. Affectionately known as ‘the Ploughman Poet’\, his verses stand as a fitting testament to Scotland’s proud literary history.\n\n\n \n\n\nAuld Lang Syne\, perhaps Burns’ most famous work\, is one of the most widely sung songs of the English language. The song has crossed borders and oceans and can be heard across the globe on Hogmanay and New Year.\n\n\n \n\n\nSource:  https://www.scotland.org/events/burns-night\n\n\n \n\n\n#BurnsNight #Scotland #VisitScotland #AuldLangSyne #RobertBurns
URL:https://adoddle.org/events-calendar/burns-night/
CATEGORIES:Awareness Day,National,UK
ATTACH;FMTTYPE=image/png:https://adoddle.org/wp-content/uploads/2022/12/burnsnight-1.png
END:VEVENT
END:VCALENDAR