BEGIN:VCALENDAR
VERSION:2.0
PRODID:-//aDoddle - Community Mapping - ECPv6.15.11//NONSGML v1.0//EN
CALSCALE:GREGORIAN
METHOD:PUBLISH
X-ORIGINAL-URL:https://adoddle.org
X-WR-CALDESC:Events for aDoddle - Community Mapping
REFRESH-INTERVAL;VALUE=DURATION:PT1H
X-Robots-Tag:noindex
X-PUBLISHED-TTL:PT1H
BEGIN:VTIMEZONE
TZID:Europe/London
BEGIN:DAYLIGHT
TZOFFSETFROM:+0000
TZOFFSETTO:+0100
TZNAME:BST
DTSTART:20250330T010000
END:DAYLIGHT
BEGIN:STANDARD
TZOFFSETFROM:+0100
TZOFFSETTO:+0000
TZNAME:GMT
DTSTART:20251026T010000
END:STANDARD
BEGIN:DAYLIGHT
TZOFFSETFROM:+0000
TZOFFSETTO:+0100
TZNAME:BST
DTSTART:20260329T010000
END:DAYLIGHT
BEGIN:STANDARD
TZOFFSETFROM:+0100
TZOFFSETTO:+0000
TZNAME:GMT
DTSTART:20261025T010000
END:STANDARD
BEGIN:DAYLIGHT
TZOFFSETFROM:+0000
TZOFFSETTO:+0100
TZNAME:BST
DTSTART:20270328T010000
END:DAYLIGHT
BEGIN:STANDARD
TZOFFSETFROM:+0100
TZOFFSETTO:+0000
TZNAME:GMT
DTSTART:20271031T010000
END:STANDARD
END:VTIMEZONE
BEGIN:VEVENT
DTSTART;VALUE=DATE:20260301
DTEND;VALUE=DATE:20260401
DTSTAMP:20260424T174336
CREATED:20230201T142423Z
LAST-MODIFIED:20260226T114158Z
UID:6982-1772323200-1775001599@adoddle.org
SUMMARY:National Endometriosis Awareness Month
DESCRIPTION:National Endometriosis Awareness Month  is observed from 1st March each year.\n\nIt helps to raise awareness about this condition that can be hidden and often unrecognised.\n\n#Endometriosis is a disease that affects women when tissue similar to the lining of the womb grows on the outer part of the uterus instead of inside it. Symptoms include pain\, like dysmenorrhoea\, dyspareunia\, and chronic pelvic or abdominal pain. Endometriosis is known to lead to infertility. The prevalence rate ranges from 25% to 40% for women with subfertility.\n\nNational Endometriosis Awareness Month helps to spread information about endometriosis as a debilitating\, and disabling disease. It recognises the consequences of living with endometriosis for the patient\, care provider\, and all those affected by the disease. This March\, Endometriosis UK are hosting events for political representatives across all 4 nations to raise awareness of endometriosis with those in power. Take action by asking your elected representatives to attend events in March using our easy-to-use form.\n\n\n\n#WomensHealth #Endo #EndoWarrior #Infertility #MenstrualHealth\n\n\nEnding endometriosis starts by saying it | Endometriosis UK (endometriosis-uk.org)
URL:https://adoddle.org/events-calendar/endometriosis-awareness-month/
CATEGORIES:Awareness Month,International,National,UK
ATTACH;FMTTYPE=image/png:https://adoddle.org/wp-content/uploads/2023/02/Endo-AW-Month.png
END:VEVENT
BEGIN:VEVENT
DTSTART;VALUE=DATE:20260301
DTEND;VALUE=DATE:20260401
DTSTAMP:20260424T174336
CREATED:20230214T105500Z
LAST-MODIFIED:20260219T162050Z
UID:7041-1772323200-1775001599@adoddle.org
SUMMARY:National Women's History Month
DESCRIPTION:The National Women’s History Month’s theme for 2026 celebrates  Leading the Change: Women Shaping a Sustainable Future.  \nIt expands our understanding of sustainability beyond just environmental concerns. It encompasses financial sustainability\, community resilience\, leadership succession\, and intergenerational equity. Whether developing green technologies\, advancing economic justice\, strengthening education systems\, or building civic power – women are designing blueprints for sustainable transformation. This theme affirms that shaping a sustainable future means fostering systems that support both people and the planet. \nGOALS & OBJECTIVES \n\n\nHonour: Celebrate the diverse contributions of women who are leading sustainability efforts across environmental\, economic\, educational\, and social justice movements. \n\n\nEducate: Raise awareness about the important historical and contemporary roles of women in shaping sustainable change. \n\n\nInspire: Empower individuals and institutions on how to take action toward sustainability\, equity\, and justice in their own spheres of influence. \n\n\nConnect: Build bridges across generations\, geographies\, and disciplines to foster collaboration\, mentorship\, and shared learning. \n\n\nEnvision: Encourage a long-term vision for our future where women’s leadership is central to thriving communities and a healthy planet. \n\n\n  \nWho are the women in your community or organisation that you will honour? \nSource: Women’s History Theme 2026 – National Women’s History Alliance \n  \n 
URL:https://adoddle.org/events-calendar/national-womens-history-month/
CATEGORIES:Awareness Month,National,UK,World
ATTACH;FMTTYPE=image/png:https://adoddle.org/wp-content/uploads/2023/02/Womens-History-Month-2.png
END:VEVENT
BEGIN:VEVENT
DTSTART;VALUE=DATE:20260309
DTEND;VALUE=DATE:20260316
DTSTAMP:20260424T174336
CREATED:20250210T114506Z
LAST-MODIFIED:20260302T171844Z
UID:11815-1773014400-1773619199@adoddle.org
SUMMARY:Empathy Week
DESCRIPTION:Empathy Week is an innovative educational festival that encourages students\, educators\, and communities to explore the power of #Empathy and how it can transform relationships\, societies\, and the world. Held annually\, this week-long event brings together schools\, communities\, and global thought leaders to engage in various activities designed to develop empathy and emotional intelligence in young people. \nEmpathy Week offers a range of educational resources\, including workshops\, talks\, and interactive sessions\, to help participants understand the importance of empathy in everyday life. By incorporating storytelling\, group discussions\, and reflective exercises\, the event provides students with the tools they need to build meaningful connections with others\, resolve conflicts\, and become compassionate leaders. \nThe goal of Empathy Week is not only to raise awareness but to create lasting change\, fostering a generation of individuals who are mindful\, kind\, and capable of making a positive impact in their communities. Through these efforts\, the event strives to build the #EmpathyGeneration\, a global movement committed to using empathy to address social challenges and promote understanding. \n#EmpathyGeneration #CompassionateLeadership #EducatingWithEmpathy #BuildingEmpathy \nSource:  Empathy Week | Awareness Days
URL:https://adoddle.org/events-calendar/empathy-week/
CATEGORIES:Awareness Week,National,UK
ATTACH;FMTTYPE=image/png:https://adoddle.org/wp-content/uploads/2025/02/Empathy-week-1.png
END:VEVENT
BEGIN:VEVENT
DTSTART;VALUE=DATE:20260315
DTEND;VALUE=DATE:20260316
DTSTAMP:20260424T174336
CREATED:20220307T084602Z
LAST-MODIFIED:20260307T120340Z
UID:5199-1773532800-1773619199@adoddle.org
SUMMARY:Mother's Day
DESCRIPTION:Mothering Sunday\, more commonly known as Mother’s Day\, is observed in The UK every year on the fourth Sunday of Lent\, which means it is a moveable feast. As such it is always three weeks before Easter Sunday. \nIt is a day for celebrating #Mothers and showering them with gifts and treats. \nThe origins of Mothering Sunday\nCelebrations of motherhood go back to the ancient Greeks and Romans. The Greeks had festivals honouring Rhea and Cybele\, known as the mother goddesses\, and the Romans celebrated mothers during the festival of Hilaria. \nThe roots of Mothering Sunday can be found in the church. It was originally a day when Christians would return to their ‘mother’ church\, the church in their hometown\, or where their family worshiped. As such it also became a time when wealthy landowners would give their younger servants the day off so that they could go home to attend church with their families. \nIn time\, it evolved to become a church celebration of mothers and #Motherhood. It was a day when the church would pray for mothers and hand out flowers\, commonly daffodils\, to not only the mothers in the church but all women. It also became a more secular occasion\, a time when people would not return home to attend church\, but return home to spend time with their mothers. \nNo matter whether the day is referred to as #MotheringSunday or as #MothersDay\, the principle message remains the same\, respect and appreciate your mother and other women in your life who have helped you to become the person you are.
URL:https://adoddle.org/events-calendar/mothers-day/
CATEGORIES:Awareness Day,National,UK
ATTACH;FMTTYPE=image/jpeg:https://adoddle.org/wp-content/uploads/2022/03/Mothers-Day.jpg
END:VEVENT
END:VCALENDAR