BEGIN:VCALENDAR
VERSION:2.0
PRODID:-//aDoddle - Community Mapping - ECPv6.15.11//NONSGML v1.0//EN
CALSCALE:GREGORIAN
METHOD:PUBLISH
X-WR-CALNAME:aDoddle - Community Mapping
X-ORIGINAL-URL:https://adoddle.org
X-WR-CALDESC:Events for aDoddle - Community Mapping
REFRESH-INTERVAL;VALUE=DURATION:PT1H
X-Robots-Tag:noindex
X-PUBLISHED-TTL:PT1H
BEGIN:VTIMEZONE
TZID:Europe/London
BEGIN:DAYLIGHT
TZOFFSETFROM:+0000
TZOFFSETTO:+0100
TZNAME:BST
DTSTART:20240331T010000
END:DAYLIGHT
BEGIN:STANDARD
TZOFFSETFROM:+0100
TZOFFSETTO:+0000
TZNAME:GMT
DTSTART:20241027T010000
END:STANDARD
BEGIN:DAYLIGHT
TZOFFSETFROM:+0000
TZOFFSETTO:+0100
TZNAME:BST
DTSTART:20250330T010000
END:DAYLIGHT
BEGIN:STANDARD
TZOFFSETFROM:+0100
TZOFFSETTO:+0000
TZNAME:GMT
DTSTART:20251026T010000
END:STANDARD
BEGIN:DAYLIGHT
TZOFFSETFROM:+0000
TZOFFSETTO:+0100
TZNAME:BST
DTSTART:20260329T010000
END:DAYLIGHT
BEGIN:STANDARD
TZOFFSETFROM:+0100
TZOFFSETTO:+0000
TZNAME:GMT
DTSTART:20261025T010000
END:STANDARD
END:VTIMEZONE
BEGIN:VEVENT
DTSTART;VALUE=DATE:20250801
DTEND;VALUE=DATE:20250802
DTSTAMP:20260421T112555
CREATED:20230715T095159Z
LAST-MODIFIED:20250619T203510Z
UID:8341-1754006400-1754092799@adoddle.org
SUMMARY:Yorkshire Day
DESCRIPTION:Yorkshire Day is celebrated on August 1st. Yorkshire belongs to the United Kingdom and was formerly known as the County of York. The name came from it being the Shire of the city of York\, commonly referred to as York’s Shire. It is the largest county in the U.K. and has always been recognized as a cultural region and a geographical territory. \nAs an area on the up and up\, it’s becoming one of the most important places in the UK\, as the likes of #Leeds\, #Hull\, #Bradford have become prominent as centres of finance\, culture and much more. \nIf you live in #Yorkshire\, why not check out some of our wonderful charities and organisations based in the area on our Community Maps. Many are looking for #Volunteers. \nYorkshire and The Humber | aDoddle – Community Mapping \n 
URL:https://adoddle.org/events-calendar/yorkshire-day/
CATEGORIES:Awareness Day,National,UK
ATTACH;FMTTYPE=image/png:https://adoddle.org/wp-content/uploads/2023/07/Yorkshire-Day.png
END:VEVENT
BEGIN:VEVENT
DTSTART;VALUE=DATE:20250804
DTEND;VALUE=DATE:20250805
DTSTAMP:20260421T112555
CREATED:20240717T102343Z
LAST-MODIFIED:20250618T213056Z
UID:10673-1754265600-1754351999@adoddle.org
SUMMARY:Single Working Women's Day
DESCRIPTION:Single Working Women’s Day takes place on the 4th of August. Celebrated annually\, this day recognises and honours the contributions of single working women to society. It highlights their strength\, resilience\, and the unique challenges they face while balancing work\, family\, and personal life. This day is an opportunity to celebrate their achievements and raise awareness about the support and resources they need. \nSingle Working Women’s Day acknowledges the hard work and dedication of single women who juggle multiple responsibilities. These women often serve as the primary breadwinners for their families while managing household duties and personal commitments. The day also sheds light on the systemic issues that single working women encounter\, such as wage gaps\, workplace discrimination\, and the lack of adequate childcare support. \nThroughout the day\, various activities and events are organised to celebrate single working women. These may include workshops\, seminars\, and networking events aimed at empowering women and providing them with valuable resources. Organisations and communities often come together to host appreciation events\, where single working women are recognised and celebrated for their contributions. \n#SingleWorkingWomensDay #WomenEmpowerment #SingleWorkingWomen #CelebrateWomen #WomenInWorkforce #SupportSingleWomen #WomenAchievements #SingleMothers \nSource: Single Working Women’s Day | Awareness Days
URL:https://adoddle.org/events-calendar/single-working-womens-day/
CATEGORIES:Awareness Day,National,UK
ATTACH;FMTTYPE=image/png:https://adoddle.org/wp-content/uploads/2024/07/Single-Working-Women.png
END:VEVENT
BEGIN:VEVENT
DTSTART;VALUE=DATE:20250806
DTEND;VALUE=DATE:20250807
DTSTAMP:20260421T112555
CREATED:20230724T151210Z
LAST-MODIFIED:20250722T123011Z
UID:8456-1754438400-1754524799@adoddle.org
SUMMARY:National Opportunity Day
DESCRIPTION:Imagine a world where setbacks are simply stepping stones. A world where a change in direction is not seen as failure\, but as an opportunity to discover hidden talents and uncover new passions. This is the world we invite you to explore on #NationalOpportunityDay on 6th August. It’s a world where limitations are shattered\, and aspirations are embraced. \nWhether it’s vocational training\, apprenticeships\, work-based learning\, or pursuing an alternative higher education path\, National Opportunity Day celebrates all these options and more. No student should ever feel left behind. It’s never too late and there’s always a possibility. There’s something for everyone. We’re here to help you navigate through the maze of opportunities and find the path that resonates with you. \nLife is full of unexpected twists and turns. Sometimes\, the path we envision takes a detour. But here’s the thing: that detour can lead us to remarkable opportunities we never even dreamed of. That’s what National Opportunity Day is all about – celebrating the boundless possibilities that await everyone\, regardless of any disappointment or setbacks. \nA smooth ride is rare. Many students find themselves disappointed when they don’t achieve the results they hoped for\, or secure the further education place they had set their heart on. It’s natural to feel overwhelmed and unsure of what to do next. However\, this is not the end of the road. It’s just the beginning. \nNational Opportunity Day is a day dedicated to shedding light on all the possible opportunities beyond the traditional route. We hope to inspire and empower students to embrace alternative options that can lead to a fulfilling and successful future. \n  \nSource: National Opportunity Day 2025 | Global Awareness Days Events Calendar 2025
URL:https://adoddle.org/events-calendar/national-opportunity-day/
CATEGORIES:Awareness Day,National,UK
ATTACH;FMTTYPE=image/jpeg:https://adoddle.org/wp-content/uploads/2023/07/Nat-Opportunity-Day.jpg
END:VEVENT
BEGIN:VEVENT
DTSTART;VALUE=DATE:20250812
DTEND;VALUE=DATE:20250813
DTSTAMP:20260421T112555
CREATED:20230709T182707Z
LAST-MODIFIED:20250625T202642Z
UID:8328-1754956800-1755043199@adoddle.org
SUMMARY:International Youth Day
DESCRIPTION:International Youth Day on August 12th focuses on the difficulties that some young people are experiencing throughout the world. Half the children between the age of six and 13 lack basic reading and math skills and childhood poverty is still a prevalent problem globally. \n#InternationalYouthDay was created by the UN to help draw awareness to these issues as we strive to find solutions. It’s a day for reflection but also a day for taking action so get involved. There’ll be many concerts\, workshops and cultural events taking place so have a look at what is happening in your local area. \nIt’s an initiative that honours the traits of young people and that acknowledges the challenges that today’s fledging youth face. To support the elimination of these issues it is important that the youth is able to reach the right resources for education\, wellbeing\, medicine and more. \nInternational Youth Day began in 2000 and was organised by the UN to recognise the input that young people make in education\, community development\, environmental groups\, volunteering for different social projects. \n  \nSource: International Youth Day (nationaltoday.com) \n 
URL:https://adoddle.org/events-calendar/international-youth-day/
CATEGORIES:Awareness Day,International,UK,World
ATTACH;FMTTYPE=image/png:https://adoddle.org/wp-content/uploads/2023/07/International-Youth-Day.png
END:VEVENT
BEGIN:VEVENT
DTSTART;VALUE=DATE:20250817
DTEND;VALUE=DATE:20250818
DTSTAMP:20260421T112555
CREATED:20220702T092748Z
LAST-MODIFIED:20250619T205753Z
UID:6057-1755388800-1755475199@adoddle.org
SUMMARY:National Non-Profit Day
DESCRIPTION:National Non-Profit Day is commemorated on August 17 each year to recognize non-profit organisations’ ongoing efforts to serve the local community. If you’ve ever volunteered\, you’re well aware of the significance of these charitable organisations. \nNonprofits throughout the country work to promote awareness and offer assistance to individuals who otherwise would not be able to afford it. Their activities contribute to the shaping of our society and provide hope for a brighter future. \nNon Profit organisations are the glue that hold together many communities across the UK\, offering support to people who need it and helping to build connected communities. They do vital work\, which can often go under-appreciated. \nThat’s why we’re celebrating #NationalNonprofitDay\, to shine a light on the wonderful non-profit organisations working to make a difference in their area. \nWhy not take some time to familiarise yourself with the non-profit organisations in your area? \nLearn more on aDoddle.org
URL:https://adoddle.org/events-calendar/national-nonprofit-day/
CATEGORIES:Awareness Day,National,UK
ATTACH;FMTTYPE=image/png:https://adoddle.org/wp-content/uploads/2022/06/17-Aug-National-Non-Profit-Day-FB-Facebook-Post.png
END:VEVENT
BEGIN:VEVENT
DTSTART;VALUE=DATE:20250818
DTEND;VALUE=DATE:20250819
DTSTAMP:20260421T112555
CREATED:20230707T162921Z
LAST-MODIFIED:20250625T203620Z
UID:8240-1755475200-1755561599@adoddle.org
SUMMARY:Never Give Up Day
DESCRIPTION:On August 18th We Celebrate Never Give Up Day. This Day Is All About Cultivating A Mindset Of Determination\nThe day not only applauds people for reaching their goals but also supports those who are still trying to achieve their goals. This unique celebration day is dedicated to showcasing the impactful resilience and determination in our community. \n#NeverGiveUpDay encourages awareness-raising activities\, (sports) events\, runs/walks for charity\, workshops and community programs. Health and social care associations\, organisations and charities can initiate their call to action and fundraising events. \nAll in all\, Never Give Up Day provides a common platform for individuals and professionals to use their imagination and judgment to innovate to inspire. \nSource:  nevergiveupday.com \n 
URL:https://adoddle.org/events-calendar/never-give-up-day/
CATEGORIES:Awareness Day,National,UK
ATTACH;FMTTYPE=image/png:https://adoddle.org/wp-content/uploads/2023/07/Never-Give-UP.png
END:VEVENT
BEGIN:VEVENT
DTSTART;VALUE=DATE:20250819
DTEND;VALUE=DATE:20250820
DTSTAMP:20260421T112555
CREATED:20230709T174245Z
LAST-MODIFIED:20250701T113242Z
UID:8325-1755561600-1755647999@adoddle.org
SUMMARY:World Photography Day
DESCRIPTION:World Photo Day is on August 19th and it celebrates the day when the French government purchased the patent for the daguerreotype process. The daguerreotype process is a photographic process that creates highly detailed images on a sheet of copper plate with a thin coat of silver. \nThe day requires participants to share a photo of their world\, which can be anything the photographer chooses. The definition of photography is quite literally “drawing the light” and British scientist Sir John Herschel came up with it in 1839. He used the Greek word phōtós\, which means “light” and graphê which means “drawing or writing”. \nHow to Celebrate?\nWhether you are an amateur\, a professional\, or someone who spends most of his or her day taking phone pictures and sharing them with your social media followers\, World Photography Day is an easy holiday to celebrate. Here are some ways you can enjoy this day: \n\nLearn and read more about the history and science behind photography.\nIf you have always wanted to learn photography\, maybe today is the time to start taking lessons.\nIf you are a photographer\, why not volunteer your time to teach your craft and trade to others?\n\n#WorldPhotographyDay #SayCheese \n  \nSource: \nhttps://nationaltoday.com/world-photo-day/
URL:https://adoddle.org/events-calendar/world-photo-day/
CATEGORIES:Awareness Day,International,UK,World
ATTACH;FMTTYPE=image/png:https://adoddle.org/wp-content/uploads/2023/07/World-Photo-Day.png
END:VEVENT
BEGIN:VEVENT
DTSTART;VALUE=DATE:20250826
DTEND;VALUE=DATE:20250827
DTSTAMP:20260421T112555
CREATED:20230712T114912Z
LAST-MODIFIED:20250629T153908Z
UID:8337-1756166400-1756252799@adoddle.org
SUMMARY:International Dog Day
DESCRIPTION:International Dog Day is a special celebration of all dogs around the world and the companionship and loyalty that they show to us. \nDogs truly are ‘man’s best friend’\, and #InternationalDogDay is a fantastic opportunity to showcase what these special animals do to keep us safe\, guide us\, and bring us joy. If you think about all the roles our furry friends play in our communities\, it really is quite incredible! They have quite remarkable abilities\, often sacrificing their own safety to selflessly protect the most vulnerable in our society. They work with law enforcement\, emergency services\, the army\, and individuals that may need additional help\, like those who are partially sighted or who need extra support. Not to mention\, they consistently show us unconditional love and unending comfort\, and brighten up our ‘ruff’ days with their waggy tails and goofy smiles. They’re not only super cute\, but they’re extremely useful\, and humans and dogs have a long and special relationship that has evolved over thousands of years of cooperation\, trust\, and kinship. \nInternational Dog Day raises awareness\, too\, of the significance of rescuing our furry friends\, as there are so many dogs in the world that are in need of a stable home\, and a loving family. The day can act as a gentle reminder for us to try and help these exceptional animals where we can. Sadly\, many rescue centres and dog shelters are fit to burst with abandoned dogs\, often for reasons through no fault of their own. Although it’s not a decision to be taken lightly – pups\, and training and looking after a ‘new best friend’ can be a lot of work! – rescuing instead of buying from a pet store or a breeder can be so\, so rewarding. \n#DogShelter #HappyDogDay #DogRescue #DoggyDay #InternationalDogDay2025 #AdoptDontShop \n  \nSource: International Dog Day | 26th August 2025 | Twinkl – Twinkl
URL:https://adoddle.org/events-calendar/international-dog-day/
CATEGORIES:Awareness Day,International,National,UK
ATTACH;FMTTYPE=image/png:https://adoddle.org/wp-content/uploads/2023/07/International-Dog-Day.png
END:VEVENT
BEGIN:VEVENT
DTSTART;VALUE=DATE:20250826
DTEND;VALUE=DATE:20250827
DTSTAMP:20260421T112555
CREATED:20230720T103408Z
LAST-MODIFIED:20250701T114450Z
UID:8425-1756166400-1756252799@adoddle.org
SUMMARY:Women's Equality Day
DESCRIPTION:Women’s Equality Day\, celebrated every August 26th\, commemorates the passage of women’s suffrage and reminds us of the hurdles overcome by the heroic women who faced violence and #Discrimination to propel the women’s movement forward. \nIn the early 19th century\, American women\, who generally couldn’t inherit property and made half of a man’s wages in any available jobs\, began organizing to demand political rights and representation. \nBy the early 1900s\, several countries including Finland\, New Zealand\, and the United Kingdom had legalized voting for women as the movement continued to sweep across the world. \nIn the U.S.\, the 19th Amendment to the Constitution was first introduced in 1878\, but it failed to gain traction. It wasn’t until women’s involvement in the World War I effort made their contributions painfully obvious that women’s suffrage finally gained enough support. Women’s rights groups pointed out the hypocrisy of fighting for democracy in Europe while denying it to half of the American citizens at home. \nWomen aren’t done fighting for equal rights. Today\, the wage gap between men and women still impacts women’s economic power\, and gender-based discrimination still plagues workplaces and business transactions. \n#WomensEqualityDay is all about uplifting and #EmpoweringWomen\, and marvelling at how far women have progressed\, defying all odds and oppression. General traditions include men and women expressing gratitude to influential women in their lives\, supporting local businesses run by women\, and celebrating womanhood with your girl gang and special ladies. \n  \nSource:  WOMEN’S EQUALITY DAY – August 26\, 2025 – National Today \n 
URL:https://adoddle.org/events-calendar/womens-equality-day/
CATEGORIES:Awareness Day,International,UK,World
ATTACH;FMTTYPE=image/png:https://adoddle.org/wp-content/uploads/2023/07/Womens-Equality-Day.png
END:VEVENT
BEGIN:VEVENT
DTSTART;VALUE=DATE:20250830
DTEND;VALUE=DATE:20250831
DTSTAMP:20260421T112555
CREATED:20230724T142839Z
LAST-MODIFIED:20250701T114338Z
UID:8452-1756512000-1756598399@adoddle.org
SUMMARY:National Grief Awareness Day
DESCRIPTION:National Grief Awareness Day\, also known as National Bereavement Day\, is recognised annually on August 30th. It was founded in 2014 by Angie Cartwright\, a woman who experienced the loss of many of her loved ones. Its purpose is to raise awareness of the different ways in which grief can manifest in our lives. \nAugust 30th is an opportunity to realize that everyone copes with loss differently and to learn how to help yourself and others through the grieving process. You can observe #NationalGriefAwarenessDay no matter what type of loss you’ve been through. \nSome common reasons people experience grief include: \n\n\nThe death of a loved one \n\n\nA divorce\, breakup\, or other separation \n\n\nGetting fired from a job or losing a promotion \n\n\nLosing one’s business or livelihood \n\n\nLearning about a chronic illness or condition \n\n\nLosing financial stability \n\n\nThe death of a pet \n\n\nImprisonment \n\n\nA child leaving home \n\n\nPregnancy or loss of pregnancy \n\n\nEach of these is a valid reason for grieving. However\, grief can often be hard to understand. National Grief Awareness Day recognizes the challenges of comforting someone in grief and seeks to eliminate barriers that can prevent empathy\, patience\, and understanding. \nIn addition\, National Grief Awareness Day is important because it encourages people everywhere to support themselves and their loved ones through the #Grieving process\, no matter what. By raising awareness about grief with factual information and encouraging open lines of communication\, people everywhere can hope to receive better support\, care\, and comfort as they try to heal. \nSource:  What is National Grief Awareness Day & Why Does it Matter? | BetterHelp
URL:https://adoddle.org/events-calendar/national-grief-awareness-day/
CATEGORIES:Awareness Day,National,UK
ATTACH;FMTTYPE=image/png:https://adoddle.org/wp-content/uploads/2023/07/National-Grief-Day.png
END:VEVENT
END:VCALENDAR