BEGIN:VCALENDAR
VERSION:2.0
PRODID:-//aDoddle - Community Mapping - ECPv6.15.11//NONSGML v1.0//EN
CALSCALE:GREGORIAN
METHOD:PUBLISH
X-WR-CALNAME:aDoddle - Community Mapping
X-ORIGINAL-URL:https://adoddle.org
X-WR-CALDESC:Events for aDoddle - Community Mapping
REFRESH-INTERVAL;VALUE=DURATION:PT1H
X-Robots-Tag:noindex
X-PUBLISHED-TTL:PT1H
BEGIN:VTIMEZONE
TZID:Europe/London
BEGIN:DAYLIGHT
TZOFFSETFROM:+0000
TZOFFSETTO:+0100
TZNAME:BST
DTSTART:20240331T010000
END:DAYLIGHT
BEGIN:STANDARD
TZOFFSETFROM:+0100
TZOFFSETTO:+0000
TZNAME:GMT
DTSTART:20241027T010000
END:STANDARD
BEGIN:DAYLIGHT
TZOFFSETFROM:+0000
TZOFFSETTO:+0100
TZNAME:BST
DTSTART:20250330T010000
END:DAYLIGHT
BEGIN:STANDARD
TZOFFSETFROM:+0100
TZOFFSETTO:+0000
TZNAME:GMT
DTSTART:20251026T010000
END:STANDARD
BEGIN:DAYLIGHT
TZOFFSETFROM:+0000
TZOFFSETTO:+0100
TZNAME:BST
DTSTART:20260329T010000
END:DAYLIGHT
BEGIN:STANDARD
TZOFFSETFROM:+0100
TZOFFSETTO:+0000
TZNAME:GMT
DTSTART:20261025T010000
END:STANDARD
END:VTIMEZONE
BEGIN:VEVENT
DTSTART;VALUE=DATE:20250529
DTEND;VALUE=DATE:20250530
DTSTAMP:20260423T083443
CREATED:20230517T123924Z
LAST-MODIFIED:20250404T123036Z
UID:8120-1748476800-1748563199@adoddle.org
SUMMARY:World Digestive Health Day
DESCRIPTION:WDHD 2025\nYour Digestive Health: Nourish to Flourish\nEach year\, the World Gastroenterology Organisation (WGO) celebrates World Digestive Health Day (WDHD) with a global public health campaign to raise awareness about the prevention\, prevalence\, diagnosis\, management\, and treatment of digestive diseases and disorders. This year’s campaign\, Your Digestive Health: Nourish to Flourish\, is celebrated on Thursday\, 29 May 2025. \nDigestive health forms the foundation of overall wellness\, influencing not only physical vitality but also mental and emotional balance. The digestive system absorbs essential nutrients that fuel the body’s functions and supports long-term health. By prioritizing nourishing foods and making informed lifestyle choices\, individuals can proactively maintain their digestive health\, reduce the risk of gastrointestinal disorders\, and improve their overall quality of life. \nThis year’s theme emphasizes the importance of nourishment in every sense—through balanced diets\, hydration\, and mindful eating habits. It also invites people from all walks of life to engage in conversations about digestive health and share their unique perspectives. Together\, we can promote early detection\, preventive care\, and innovative solutions to digestive health challenges\, creating a healthier future for everyone. \nJoin the movement on social media by using the hashtags #WDHD2025 and #NourishToFlourish\, and explore this website for year-round resources to support your journey toward better digestive health. \n  \n#WDHD2025 #YourDigestiveHealth \nSource: WDHD (worldgastroenterology.org) \n 
URL:https://adoddle.org/events-calendar/world-digestive-health-day/
CATEGORIES:Awareness Day,International,National,UK,World
ATTACH;FMTTYPE=image/png:https://adoddle.org/wp-content/uploads/2023/05/World-Digestive-Health.png
END:VEVENT
END:VCALENDAR