BEGIN:VCALENDAR
VERSION:2.0
PRODID:-//aDoddle - Community Mapping - ECPv6.15.11//NONSGML v1.0//EN
CALSCALE:GREGORIAN
METHOD:PUBLISH
X-WR-CALNAME:aDoddle - Community Mapping
X-ORIGINAL-URL:https://adoddle.org
X-WR-CALDESC:Events for aDoddle - Community Mapping
REFRESH-INTERVAL;VALUE=DURATION:PT1H
X-Robots-Tag:noindex
X-PUBLISHED-TTL:PT1H
BEGIN:VTIMEZONE
TZID:Europe/London
BEGIN:DAYLIGHT
TZOFFSETFROM:+0000
TZOFFSETTO:+0100
TZNAME:BST
DTSTART:20240331T010000
END:DAYLIGHT
BEGIN:STANDARD
TZOFFSETFROM:+0100
TZOFFSETTO:+0000
TZNAME:GMT
DTSTART:20241027T010000
END:STANDARD
BEGIN:DAYLIGHT
TZOFFSETFROM:+0000
TZOFFSETTO:+0100
TZNAME:BST
DTSTART:20250330T010000
END:DAYLIGHT
BEGIN:STANDARD
TZOFFSETFROM:+0100
TZOFFSETTO:+0000
TZNAME:GMT
DTSTART:20251026T010000
END:STANDARD
BEGIN:DAYLIGHT
TZOFFSETFROM:+0000
TZOFFSETTO:+0100
TZNAME:BST
DTSTART:20260329T010000
END:DAYLIGHT
BEGIN:STANDARD
TZOFFSETFROM:+0100
TZOFFSETTO:+0000
TZNAME:GMT
DTSTART:20261025T010000
END:STANDARD
END:VTIMEZONE
BEGIN:VEVENT
DTSTART;VALUE=DATE:20250605
DTEND;VALUE=DATE:20250606
DTSTAMP:20260423T083441
CREATED:20220521T062544Z
LAST-MODIFIED:20250428T105622Z
UID:5686-1749081600-1749167999@adoddle.org
SUMMARY:World Environment Day
DESCRIPTION:Today is World Environment Day! \n#WorldEnvironmentDay happens on 5th June every year. \nEvery year there is a different theme for World Environment Day. This year\, the theme is #BeatPlasticPollution \nPlastic pollution permeates every corner of the planet – even in our bodies in the form of microplastics. World Environment Day 2025 calls for collective action to tackle plastic pollution. \nBy drawing inspiration from nature and showcasing real-world solutions\, the campaign will encourage individuals\, organizations\, industries\, and governments to adopt sustainable practices that drive systemic change. \nThis year’s World Environment Day comes exactly two months before countries meet again to continue negotiating a global treaty to end plastic pollution. \nJoin the #BeatPlasticPollution movement—because together we can create a healthier future. \n#SaveThePlanet #GenerationRestoration #WED2025  #NoPlanetB \nSource: World Environment Day
URL:https://adoddle.org/events-calendar/world-environment-day/
CATEGORIES:Awareness Day,International,National,UK
ATTACH;FMTTYPE=image/png:https://adoddle.org/wp-content/uploads/2022/05/5-Jun-World-Environment-Day-IG-e1653114625998.png
END:VEVENT
END:VCALENDAR