BEGIN:VCALENDAR
VERSION:2.0
PRODID:-//aDoddle - Community Mapping - ECPv6.15.11//NONSGML v1.0//EN
CALSCALE:GREGORIAN
METHOD:PUBLISH
X-WR-CALNAME:aDoddle - Community Mapping
X-ORIGINAL-URL:https://adoddle.org
X-WR-CALDESC:Events for aDoddle - Community Mapping
REFRESH-INTERVAL;VALUE=DURATION:PT1H
X-Robots-Tag:noindex
X-PUBLISHED-TTL:PT1H
BEGIN:VTIMEZONE
TZID:Europe/London
BEGIN:DAYLIGHT
TZOFFSETFROM:+0000
TZOFFSETTO:+0100
TZNAME:BST
DTSTART:20240331T010000
END:DAYLIGHT
BEGIN:STANDARD
TZOFFSETFROM:+0100
TZOFFSETTO:+0000
TZNAME:GMT
DTSTART:20241027T010000
END:STANDARD
BEGIN:DAYLIGHT
TZOFFSETFROM:+0000
TZOFFSETTO:+0100
TZNAME:BST
DTSTART:20250330T010000
END:DAYLIGHT
BEGIN:STANDARD
TZOFFSETFROM:+0100
TZOFFSETTO:+0000
TZNAME:GMT
DTSTART:20251026T010000
END:STANDARD
BEGIN:DAYLIGHT
TZOFFSETFROM:+0000
TZOFFSETTO:+0100
TZNAME:BST
DTSTART:20260329T010000
END:DAYLIGHT
BEGIN:STANDARD
TZOFFSETFROM:+0100
TZOFFSETTO:+0000
TZNAME:GMT
DTSTART:20261025T010000
END:STANDARD
END:VTIMEZONE
BEGIN:VEVENT
DTSTART;VALUE=DATE:20250614
DTEND;VALUE=DATE:20250615
DTSTAMP:20260423T083515
CREATED:20220522T185715Z
LAST-MODIFIED:20250502T115608Z
UID:5780-1749859200-1749945599@adoddle.org
SUMMARY:World Blood Donor Day
DESCRIPTION:Every year on June 14th it is #WorldBloodDay\, a day to raise awareness of the importance of blood donations to the healthcare industry. From plasma treatments to research and emergency uses\, blood donation is a vital practice that can save lives!  \nDonating blood is not just for the sole purpose of transfusion — it has many other benefits for the health industry. World Blood Donor Day aims to raise awareness regarding the need for regular blood donations\, important to keep the health industry with a stable supply\, and to celebrate the hard work of medical professionals that work in the research and development for new technology and uses for donated blood\, as well as medical teams who use blood on a regular basis. This day is also used to thank donors for their service and determination to save lives and make the world a better place. \n#BloodDonation #GiveBlood \nFind out more about donating blood here: https://www.blood.co.uk/why-give-blood/demand-for-different-blood-types/ \n 
URL:https://adoddle.org/events-calendar/world-blood-donor-day/
CATEGORIES:Awareness Day,International,National,UK,World
ATTACH;FMTTYPE=image/png:https://adoddle.org/wp-content/uploads/2022/05/14-Jun-World-Blood-Donor-Day-FB.png
END:VEVENT
END:VCALENDAR