BEGIN:VCALENDAR
VERSION:2.0
PRODID:-//aDoddle - Community Mapping - ECPv6.15.11//NONSGML v1.0//EN
CALSCALE:GREGORIAN
METHOD:PUBLISH
X-WR-CALNAME:aDoddle - Community Mapping
X-ORIGINAL-URL:https://adoddle.org
X-WR-CALDESC:Events for aDoddle - Community Mapping
REFRESH-INTERVAL;VALUE=DURATION:PT1H
X-Robots-Tag:noindex
X-PUBLISHED-TTL:PT1H
BEGIN:VTIMEZONE
TZID:Europe/London
BEGIN:DAYLIGHT
TZOFFSETFROM:+0000
TZOFFSETTO:+0100
TZNAME:BST
DTSTART:20240331T010000
END:DAYLIGHT
BEGIN:STANDARD
TZOFFSETFROM:+0100
TZOFFSETTO:+0000
TZNAME:GMT
DTSTART:20241027T010000
END:STANDARD
BEGIN:DAYLIGHT
TZOFFSETFROM:+0000
TZOFFSETTO:+0100
TZNAME:BST
DTSTART:20250330T010000
END:DAYLIGHT
BEGIN:STANDARD
TZOFFSETFROM:+0100
TZOFFSETTO:+0000
TZNAME:GMT
DTSTART:20251026T010000
END:STANDARD
BEGIN:DAYLIGHT
TZOFFSETFROM:+0000
TZOFFSETTO:+0100
TZNAME:BST
DTSTART:20260329T010000
END:DAYLIGHT
BEGIN:STANDARD
TZOFFSETFROM:+0100
TZOFFSETTO:+0000
TZNAME:GMT
DTSTART:20261025T010000
END:STANDARD
END:VTIMEZONE
BEGIN:VEVENT
DTSTART;VALUE=DATE:20250703
DTEND;VALUE=DATE:20250704
DTSTAMP:20260420T071719
CREATED:20230612T150940Z
LAST-MODIFIED:20250531T112840Z
UID:8181-1751500800-1751587199@adoddle.org
SUMMARY:National Bereaved Parents Day
DESCRIPTION:National Bereaved Parents Day was set up in 2020 as there wasn’t a specific day that honoured bereaved parents from all walks of life. We wanted to bring together anyone affected by the loss of a child to show them that they are not alone. \n#NationalBereavedParentsDay will take place on 3rd July to raise awareness for all parents who have lost a child of any age\, and from any circumstance. \nPlease join us to help spread the message\, keep that conversation going\, raise awareness and show the bereaved parent community that they are NOT alone. \nThis year’s theme is Together We Are Stronger. \n#Bereavement #BereavedParents #LightACandle #LoveLivesOn \nSource:  National Bereaved Parents Awareness Day – A Child of Mine
URL:https://adoddle.org/events-calendar/national-bereaved-parents-day/
CATEGORIES:Awareness Day,National,UK
ATTACH;FMTTYPE=image/png:https://adoddle.org/wp-content/uploads/2023/06/Bereaved-Parents-Day.png
END:VEVENT
BEGIN:VEVENT
DTSTART;VALUE=DATE:20250703
DTEND;VALUE=DATE:20250704
DTSTAMP:20260420T071719
CREATED:20230718T102416Z
LAST-MODIFIED:20250619T204835Z
UID:8358-1751500800-1751587199@adoddle.org
SUMMARY:Cycle To Work Day
DESCRIPTION:The UK’s biggest celebration of cycle commuting is back on 3rd July 2025 ! \nWhether you’ve never cycled before\, not ridden in a while or cycle every day\, #CycleToWorkDay is for you. It’s a day to get in the saddle and experience the brilliant benefits everyday #Cycling offers – mental\, physical and financial – first-hand. \nWhat are the benefits of cycling to work?\n\nTime saving: Cycling to work is 50% quicker than driving in rush hour.\nEnvironmental: 133\,442 tonnes of CO2 is saved each year by people cycling to work.\nHealth: Cycling to work for just three days a week burns 1\,000 calories. The average person loses 14lbs in their first year of cycling to work.\nFinancial: The cost of cycling to work for a full year sits at around £396. Meanwhile\, taking the bus costs £625 per year\, skyrocketing to £3\,727 to drive – that’s a hike of more than 800%.\nMental wellbeing: Research has shown that cycling to work reduces stress and anxiety\, combats depression\, increases self-esteem and even boosts productivity.\n\n  \nSource:Lead the ride this Cycle to Work Day Thursday\, 3rd July 2025! – Cyclescheme \n  \n 
URL:https://adoddle.org/events-calendar/cycle-to-work-day/
CATEGORIES:Awareness Day,National,UK
ATTACH;FMTTYPE=image/png:https://adoddle.org/wp-content/uploads/2023/07/Cycle-to-Work-Day-2.png
END:VEVENT
END:VCALENDAR