BEGIN:VCALENDAR
VERSION:2.0
PRODID:-//aDoddle - Community Mapping - ECPv6.15.11//NONSGML v1.0//EN
CALSCALE:GREGORIAN
METHOD:PUBLISH
X-ORIGINAL-URL:https://adoddle.org
X-WR-CALDESC:Events for aDoddle - Community Mapping
REFRESH-INTERVAL;VALUE=DURATION:PT1H
X-Robots-Tag:noindex
X-PUBLISHED-TTL:PT1H
BEGIN:VTIMEZONE
TZID:Europe/London
BEGIN:DAYLIGHT
TZOFFSETFROM:+0000
TZOFFSETTO:+0100
TZNAME:BST
DTSTART:20240331T010000
END:DAYLIGHT
BEGIN:STANDARD
TZOFFSETFROM:+0100
TZOFFSETTO:+0000
TZNAME:GMT
DTSTART:20241027T010000
END:STANDARD
BEGIN:DAYLIGHT
TZOFFSETFROM:+0000
TZOFFSETTO:+0100
TZNAME:BST
DTSTART:20250330T010000
END:DAYLIGHT
BEGIN:STANDARD
TZOFFSETFROM:+0100
TZOFFSETTO:+0000
TZNAME:GMT
DTSTART:20251026T010000
END:STANDARD
BEGIN:DAYLIGHT
TZOFFSETFROM:+0000
TZOFFSETTO:+0100
TZNAME:BST
DTSTART:20260329T010000
END:DAYLIGHT
BEGIN:STANDARD
TZOFFSETFROM:+0100
TZOFFSETTO:+0000
TZNAME:GMT
DTSTART:20261025T010000
END:STANDARD
END:VTIMEZONE
BEGIN:VEVENT
DTSTART;VALUE=DATE:20250713
DTEND;VALUE=DATE:20250714
DTSTAMP:20260423T135713
CREATED:20220619T123250Z
LAST-MODIFIED:20250605T120042Z
UID:6039-1752364800-1752451199@adoddle.org
SUMMARY:Disability Awareness Day
DESCRIPTION:Disability Awareness Day is a pan-disability event which promotes a can-do culture focusing on what disabled people can do throughout life and work. The show has three main aims: \n\nTo highlight what statutory\, private or voluntary services are available to enable disabled people to stay independent.\nTo promote equipment and aids that could maintain or improve independence\, not just what is offered by statutory service providers\, we want everyone to see the best and/or latest designs\nTo provide an opportunity to showcase what disabled people can do\, in the field of Sport\, Arts and Entertainment\n\nAs well as fulfilling all these aims every year the show also gives everyone who comes a really good day out filled with interest\, fun and entertainment! \nSource:Disability Awareness Day Warrington Cheshire \n 
URL:https://adoddle.org/events-calendar/disability-awareness-day/
CATEGORIES:Awareness Day,National,UK
ATTACH;FMTTYPE=image/png:https://adoddle.org/wp-content/uploads/2022/06/17-July-Disability-Awareness-Day-FB.png
END:VEVENT
END:VCALENDAR