BEGIN:VCALENDAR
VERSION:2.0
PRODID:-//aDoddle - Community Mapping - ECPv6.15.11//NONSGML v1.0//EN
CALSCALE:GREGORIAN
METHOD:PUBLISH
X-WR-CALNAME:aDoddle - Community Mapping
X-ORIGINAL-URL:https://adoddle.org
X-WR-CALDESC:Events for aDoddle - Community Mapping
REFRESH-INTERVAL;VALUE=DURATION:PT1H
X-Robots-Tag:noindex
X-PUBLISHED-TTL:PT1H
BEGIN:VTIMEZONE
TZID:Europe/London
BEGIN:DAYLIGHT
TZOFFSETFROM:+0000
TZOFFSETTO:+0100
TZNAME:BST
DTSTART:20240331T010000
END:DAYLIGHT
BEGIN:STANDARD
TZOFFSETFROM:+0100
TZOFFSETTO:+0000
TZNAME:GMT
DTSTART:20241027T010000
END:STANDARD
BEGIN:DAYLIGHT
TZOFFSETFROM:+0000
TZOFFSETTO:+0100
TZNAME:BST
DTSTART:20250330T010000
END:DAYLIGHT
BEGIN:STANDARD
TZOFFSETFROM:+0100
TZOFFSETTO:+0000
TZNAME:GMT
DTSTART:20251026T010000
END:STANDARD
BEGIN:DAYLIGHT
TZOFFSETFROM:+0000
TZOFFSETTO:+0100
TZNAME:BST
DTSTART:20260329T010000
END:DAYLIGHT
BEGIN:STANDARD
TZOFFSETFROM:+0100
TZOFFSETTO:+0000
TZNAME:GMT
DTSTART:20261025T010000
END:STANDARD
END:VTIMEZONE
BEGIN:VEVENT
DTSTART;VALUE=DATE:20250715
DTEND;VALUE=DATE:20250716
DTSTAMP:20260423T053328
CREATED:20230704T101052Z
LAST-MODIFIED:20250605T110015Z
UID:8228-1752537600-1752623999@adoddle.org
SUMMARY:National Give Something Away Day
DESCRIPTION:Imagine a day when you could clean house and get rid of clutter\, show someone that you care\, gift small things to strangers\, and generally making the world a better place. Yes\, this day does\, in fact\, exist and on July 15 we celebrate National Give Something Away Day! \nIt’s better to give than to receive\, and this is the aim behind #NationalGiveSomethingAwayDay. “One man’s trash is another man’s treasure” doesn’t literally mean junk or trash\, but items that can serve someone else better. The day encourages people to give freely to others without expecting anything in return. This is also a good way to declutter and pass on things that no longer fit us or are useful to us. \nMost of us undoubtedly have way more items than we need. National Give Something Away Day was established on July 15\, 2015\, by Linda Eaton Hall-Fulcher\, a self-proclaimed giver. Linda advocates giving back to the world. According to her\, this day is for everyone who cares. It advocates for giving to friends\, family\, and the less fortunate; for #MindfulConsumerism; and for being more aware of our #CarbonFootprint. \nGiving is the simplest act to exist that can brighten up another’s day\, and at times really bring about a positive change. Whether it is something small like giving a compliment\, giving your friend a jacket of yours that she really likes\, or donating clothes to the less fortunate\, these little things can have a big impact. \nEven though giving is a selfless act\, the reward goes both ways. We benefit from feeling good about giving and making someone’s day\, and at the same time\, we also let go of items that we no longer need and are just lying around. We also learn to be grateful for all our blessings and it makes us feel like responsible people who are improving the community. \n  \nSource:National Give Something Away Day (nationaltoday.com)
URL:https://adoddle.org/events-calendar/national-give-something-away-day/
CATEGORIES:Awareness Day,National,UK
ATTACH;FMTTYPE=image/png:https://adoddle.org/wp-content/uploads/2023/07/Give-Something-Away-Day.png
END:VEVENT
END:VCALENDAR