BEGIN:VCALENDAR
VERSION:2.0
PRODID:-//aDoddle - Community Mapping - ECPv6.15.11//NONSGML v1.0//EN
CALSCALE:GREGORIAN
METHOD:PUBLISH
X-WR-CALNAME:aDoddle - Community Mapping
X-ORIGINAL-URL:https://adoddle.org
X-WR-CALDESC:Events for aDoddle - Community Mapping
REFRESH-INTERVAL;VALUE=DURATION:PT1H
X-Robots-Tag:noindex
X-PUBLISHED-TTL:PT1H
BEGIN:VTIMEZONE
TZID:Europe/London
BEGIN:DAYLIGHT
TZOFFSETFROM:+0000
TZOFFSETTO:+0100
TZNAME:BST
DTSTART:20240331T010000
END:DAYLIGHT
BEGIN:STANDARD
TZOFFSETFROM:+0100
TZOFFSETTO:+0000
TZNAME:GMT
DTSTART:20241027T010000
END:STANDARD
BEGIN:DAYLIGHT
TZOFFSETFROM:+0000
TZOFFSETTO:+0100
TZNAME:BST
DTSTART:20250330T010000
END:DAYLIGHT
BEGIN:STANDARD
TZOFFSETFROM:+0100
TZOFFSETTO:+0000
TZNAME:GMT
DTSTART:20251026T010000
END:STANDARD
BEGIN:DAYLIGHT
TZOFFSETFROM:+0000
TZOFFSETTO:+0100
TZNAME:BST
DTSTART:20260329T010000
END:DAYLIGHT
BEGIN:STANDARD
TZOFFSETFROM:+0100
TZOFFSETTO:+0000
TZNAME:GMT
DTSTART:20261025T010000
END:STANDARD
END:VTIMEZONE
BEGIN:VEVENT
DTSTART;VALUE=DATE:20250718
DTEND;VALUE=DATE:20250719
DTSTAMP:20260420T064447
CREATED:20230630T155608Z
LAST-MODIFIED:20250605T112510Z
UID:8216-1752796800-1752883199@adoddle.org
SUMMARY:Nelson Mandela International Day
DESCRIPTION:Nelson Mandela has many accolades. He’s  an iconic figure that triumphed over South Africa’s apartheid regime. He was a human rights lawyer\, a prisoner of conscience\, and an international peacemaker. And he was the first democratically elected president of a free South Africa (no biggie). \nSo you see why the United Nations General Assembly would want to celebrate his life. \nCommemorated on July 18 — Nelson Mandela’s birthday — Nelson Mandela International Day celebrates the idea that each individual has the power to transform the world and the ability to make an impact. So\, in honour of his 67 years of public service\, the Nelson Mandela Foundation and the U.N. ask that you spend 67 minutes of your time helping others. \nSource: NELSON MANDELA DAY – July 18\, 2025 – National Today
URL:https://adoddle.org/events-calendar/nelson-mandela-international-day/
CATEGORIES:Awareness Day,International,National,UK,World
ATTACH;FMTTYPE=image/png:https://adoddle.org/wp-content/uploads/2023/06/Nelson-Mandela-Day.png
END:VEVENT
END:VCALENDAR