BEGIN:VCALENDAR
VERSION:2.0
PRODID:-//aDoddle - Community Mapping - ECPv6.15.11//NONSGML v1.0//EN
CALSCALE:GREGORIAN
METHOD:PUBLISH
X-ORIGINAL-URL:https://adoddle.org
X-WR-CALDESC:Events for aDoddle - Community Mapping
REFRESH-INTERVAL;VALUE=DURATION:PT1H
X-Robots-Tag:noindex
X-PUBLISHED-TTL:PT1H
BEGIN:VTIMEZONE
TZID:Europe/London
BEGIN:DAYLIGHT
TZOFFSETFROM:+0000
TZOFFSETTO:+0100
TZNAME:BST
DTSTART:20240331T010000
END:DAYLIGHT
BEGIN:STANDARD
TZOFFSETFROM:+0100
TZOFFSETTO:+0000
TZNAME:GMT
DTSTART:20241027T010000
END:STANDARD
BEGIN:DAYLIGHT
TZOFFSETFROM:+0000
TZOFFSETTO:+0100
TZNAME:BST
DTSTART:20250330T010000
END:DAYLIGHT
BEGIN:STANDARD
TZOFFSETFROM:+0100
TZOFFSETTO:+0000
TZNAME:GMT
DTSTART:20251026T010000
END:STANDARD
BEGIN:DAYLIGHT
TZOFFSETFROM:+0000
TZOFFSETTO:+0100
TZNAME:BST
DTSTART:20260329T010000
END:DAYLIGHT
BEGIN:STANDARD
TZOFFSETFROM:+0100
TZOFFSETTO:+0000
TZNAME:GMT
DTSTART:20261025T010000
END:STANDARD
END:VTIMEZONE
BEGIN:VEVENT
DTSTART;VALUE=DATE:20250725
DTEND;VALUE=DATE:20250726
DTSTAMP:20260423T135716
CREATED:20230610T115903Z
LAST-MODIFIED:20250608T115431Z
UID:8170-1753401600-1753487999@adoddle.org
SUMMARY:National Schizophrenia Day
DESCRIPTION:National Schizophrenia Awareness Day\, marked on 25 July every year by the charity Rethink Mental Illness\, explores what it means to live with this much misunderstood and often stigmatised mental health condition. \nIn England\, approximately one adult in every 100 will live with a diagnosis of #Schizophrenia. \nBy shattering some of the myths and breaking the stigma and prejudice which surrounds this diagnosis\, Rethink Mental Illness continues to provide support and community for people living with schizophrenia and their loved ones. \nOn National Schizophrenia Awareness Day\, which coincides with the founding of the charity nearly 50 years ago\, Rethink Mental Illness shines a spotlight on the condition and the dedicated work to improve the quality of life for people living with schizophrenia and their carers. \n#SupportMentalHealth #RethinkMentalIllness \nSource: National Schizophrenia Awareness Day 2025 | Awareness Days Events Calendar 2025
URL:https://adoddle.org/events-calendar/national-schizophrenia-day/
CATEGORIES:Awareness Day,National,UK
ATTACH;FMTTYPE=image/png:https://adoddle.org/wp-content/uploads/2023/06/National-Schizophrenia-Day-1.png
END:VEVENT
END:VCALENDAR