BEGIN:VCALENDAR
VERSION:2.0
PRODID:-//aDoddle - Community Mapping - ECPv6.15.11//NONSGML v1.0//EN
CALSCALE:GREGORIAN
METHOD:PUBLISH
X-WR-CALNAME:aDoddle - Community Mapping
X-ORIGINAL-URL:https://adoddle.org
X-WR-CALDESC:Events for aDoddle - Community Mapping
REFRESH-INTERVAL;VALUE=DURATION:PT1H
X-Robots-Tag:noindex
X-PUBLISHED-TTL:PT1H
BEGIN:VTIMEZONE
TZID:Europe/London
BEGIN:DAYLIGHT
TZOFFSETFROM:+0000
TZOFFSETTO:+0100
TZNAME:BST
DTSTART:20240331T010000
END:DAYLIGHT
BEGIN:STANDARD
TZOFFSETFROM:+0100
TZOFFSETTO:+0000
TZNAME:GMT
DTSTART:20241027T010000
END:STANDARD
BEGIN:DAYLIGHT
TZOFFSETFROM:+0000
TZOFFSETTO:+0100
TZNAME:BST
DTSTART:20250330T010000
END:DAYLIGHT
BEGIN:STANDARD
TZOFFSETFROM:+0100
TZOFFSETTO:+0000
TZNAME:GMT
DTSTART:20251026T010000
END:STANDARD
BEGIN:DAYLIGHT
TZOFFSETFROM:+0000
TZOFFSETTO:+0100
TZNAME:BST
DTSTART:20260329T010000
END:DAYLIGHT
BEGIN:STANDARD
TZOFFSETFROM:+0100
TZOFFSETTO:+0000
TZNAME:GMT
DTSTART:20261025T010000
END:STANDARD
END:VTIMEZONE
BEGIN:VEVENT
DTSTART;VALUE=DATE:20250728
DTEND;VALUE=DATE:20250729
DTSTAMP:20260422T001821
CREATED:20230704T091655Z
LAST-MODIFIED:20250610T210241Z
UID:8223-1753660800-1753747199@adoddle.org
SUMMARY:World Hepatitis Day
DESCRIPTION:Every year\, more than a million lives are lost to hepatitis. We’re not waiting for change – we’re fighting to make it happen.\nHepatitis is an inflammation of the liver\, most commonly caused by a viral infection. There are five main hepatitis viruses\, referred to as types A\, B\, C\, D and E. These five types are of greatest concern because of the burden of illness and death they cause and the potential for outbreaks and epidemic spread. \n\nWith viral hepatitis unaware can’t wait for testing\nPeople living with hepatitis can’t wait for life saving treatments\nExpectant mothers can’t wait for hepatitis screening and treatment\nNewborn babies can’t wait for birth dose vaccination\nPeople affected by hepatitis can’t wait to end stigma and discrimination\nCommunity organisations can’t wait for greater investment\nDecision makers can’t wait and must act now to make hepatitis elimination a reality through political will and funding.\n\nWe’re not waiting\n‘We’re not waiting’ is a call to action for #WHD2025. It’s a call to accelerate elimination efforts of viral #Hepatitis now and the urgent need for testing and treatment for the real people who need it. Individuals and communities around the world are making change happen in their own lives and in the world around them. We celebrate them\, while demanding more action. \n#We’reNotWaiting #ViralHepatitus LetsBreakItDown \nSource: World Hepatitis Day – World Hepatitis Day \n 
URL:https://adoddle.org/events-calendar/world-hepatitis-day/
CATEGORIES:Awareness Day,UK,World
ATTACH;FMTTYPE=image/png:https://adoddle.org/wp-content/uploads/2023/07/World-Hepititis-Day.png
END:VEVENT
END:VCALENDAR