BEGIN:VCALENDAR
VERSION:2.0
PRODID:-//aDoddle - Community Mapping - ECPv6.15.11//NONSGML v1.0//EN
CALSCALE:GREGORIAN
METHOD:PUBLISH
X-WR-CALNAME:aDoddle - Community Mapping
X-ORIGINAL-URL:https://adoddle.org
X-WR-CALDESC:Events for aDoddle - Community Mapping
REFRESH-INTERVAL;VALUE=DURATION:PT1H
X-Robots-Tag:noindex
X-PUBLISHED-TTL:PT1H
BEGIN:VTIMEZONE
TZID:Europe/London
BEGIN:DAYLIGHT
TZOFFSETFROM:+0000
TZOFFSETTO:+0100
TZNAME:BST
DTSTART:20240331T010000
END:DAYLIGHT
BEGIN:STANDARD
TZOFFSETFROM:+0100
TZOFFSETTO:+0000
TZNAME:GMT
DTSTART:20241027T010000
END:STANDARD
BEGIN:DAYLIGHT
TZOFFSETFROM:+0000
TZOFFSETTO:+0100
TZNAME:BST
DTSTART:20250330T010000
END:DAYLIGHT
BEGIN:STANDARD
TZOFFSETFROM:+0100
TZOFFSETTO:+0000
TZNAME:GMT
DTSTART:20251026T010000
END:STANDARD
BEGIN:DAYLIGHT
TZOFFSETFROM:+0000
TZOFFSETTO:+0100
TZNAME:BST
DTSTART:20260329T010000
END:DAYLIGHT
BEGIN:STANDARD
TZOFFSETFROM:+0100
TZOFFSETTO:+0000
TZNAME:GMT
DTSTART:20261025T010000
END:STANDARD
END:VTIMEZONE
BEGIN:VEVENT
DTSTART;VALUE=DATE:20250812
DTEND;VALUE=DATE:20250813
DTSTAMP:20260423T055620
CREATED:20230709T182707Z
LAST-MODIFIED:20250625T202642Z
UID:8328-1754956800-1755043199@adoddle.org
SUMMARY:International Youth Day
DESCRIPTION:International Youth Day on August 12th focuses on the difficulties that some young people are experiencing throughout the world. Half the children between the age of six and 13 lack basic reading and math skills and childhood poverty is still a prevalent problem globally. \n#InternationalYouthDay was created by the UN to help draw awareness to these issues as we strive to find solutions. It’s a day for reflection but also a day for taking action so get involved. There’ll be many concerts\, workshops and cultural events taking place so have a look at what is happening in your local area. \nIt’s an initiative that honours the traits of young people and that acknowledges the challenges that today’s fledging youth face. To support the elimination of these issues it is important that the youth is able to reach the right resources for education\, wellbeing\, medicine and more. \nInternational Youth Day began in 2000 and was organised by the UN to recognise the input that young people make in education\, community development\, environmental groups\, volunteering for different social projects. \n  \nSource: International Youth Day (nationaltoday.com) \n 
URL:https://adoddle.org/events-calendar/international-youth-day/
CATEGORIES:Awareness Day,International,UK,World
ATTACH;FMTTYPE=image/png:https://adoddle.org/wp-content/uploads/2023/07/International-Youth-Day.png
END:VEVENT
END:VCALENDAR