BEGIN:VCALENDAR
VERSION:2.0
PRODID:-//aDoddle - Community Mapping - ECPv6.15.11//NONSGML v1.0//EN
CALSCALE:GREGORIAN
METHOD:PUBLISH
X-WR-CALNAME:aDoddle - Community Mapping
X-ORIGINAL-URL:https://adoddle.org
X-WR-CALDESC:Events for aDoddle - Community Mapping
REFRESH-INTERVAL;VALUE=DURATION:PT1H
X-Robots-Tag:noindex
X-PUBLISHED-TTL:PT1H
BEGIN:VTIMEZONE
TZID:Europe/London
BEGIN:DAYLIGHT
TZOFFSETFROM:+0000
TZOFFSETTO:+0100
TZNAME:BST
DTSTART:20240331T010000
END:DAYLIGHT
BEGIN:STANDARD
TZOFFSETFROM:+0100
TZOFFSETTO:+0000
TZNAME:GMT
DTSTART:20241027T010000
END:STANDARD
BEGIN:DAYLIGHT
TZOFFSETFROM:+0000
TZOFFSETTO:+0100
TZNAME:BST
DTSTART:20250330T010000
END:DAYLIGHT
BEGIN:STANDARD
TZOFFSETFROM:+0100
TZOFFSETTO:+0000
TZNAME:GMT
DTSTART:20251026T010000
END:STANDARD
BEGIN:DAYLIGHT
TZOFFSETFROM:+0000
TZOFFSETTO:+0100
TZNAME:BST
DTSTART:20260329T010000
END:DAYLIGHT
BEGIN:STANDARD
TZOFFSETFROM:+0100
TZOFFSETTO:+0000
TZNAME:GMT
DTSTART:20261025T010000
END:STANDARD
END:VTIMEZONE
BEGIN:VEVENT
DTSTART;VALUE=DATE:20250819
DTEND;VALUE=DATE:20250820
DTSTAMP:20260423T054951
CREATED:20230709T174245Z
LAST-MODIFIED:20250701T113242Z
UID:8325-1755561600-1755647999@adoddle.org
SUMMARY:World Photography Day
DESCRIPTION:World Photo Day is on August 19th and it celebrates the day when the French government purchased the patent for the daguerreotype process. The daguerreotype process is a photographic process that creates highly detailed images on a sheet of copper plate with a thin coat of silver. \nThe day requires participants to share a photo of their world\, which can be anything the photographer chooses. The definition of photography is quite literally “drawing the light” and British scientist Sir John Herschel came up with it in 1839. He used the Greek word phōtós\, which means “light” and graphê which means “drawing or writing”. \nHow to Celebrate?\nWhether you are an amateur\, a professional\, or someone who spends most of his or her day taking phone pictures and sharing them with your social media followers\, World Photography Day is an easy holiday to celebrate. Here are some ways you can enjoy this day: \n\nLearn and read more about the history and science behind photography.\nIf you have always wanted to learn photography\, maybe today is the time to start taking lessons.\nIf you are a photographer\, why not volunteer your time to teach your craft and trade to others?\n\n#WorldPhotographyDay #SayCheese \n  \nSource: \nhttps://nationaltoday.com/world-photo-day/
URL:https://adoddle.org/events-calendar/world-photo-day/
CATEGORIES:Awareness Day,International,UK,World
ATTACH;FMTTYPE=image/png:https://adoddle.org/wp-content/uploads/2023/07/World-Photo-Day.png
END:VEVENT
END:VCALENDAR