BEGIN:VCALENDAR
VERSION:2.0
PRODID:-//aDoddle - Community Mapping - ECPv6.15.11//NONSGML v1.0//EN
CALSCALE:GREGORIAN
METHOD:PUBLISH
X-WR-CALNAME:aDoddle - Community Mapping
X-ORIGINAL-URL:https://adoddle.org
X-WR-CALDESC:Events for aDoddle - Community Mapping
REFRESH-INTERVAL;VALUE=DURATION:PT1H
X-Robots-Tag:noindex
X-PUBLISHED-TTL:PT1H
BEGIN:VTIMEZONE
TZID:Europe/London
BEGIN:DAYLIGHT
TZOFFSETFROM:+0000
TZOFFSETTO:+0100
TZNAME:BST
DTSTART:20240331T010000
END:DAYLIGHT
BEGIN:STANDARD
TZOFFSETFROM:+0100
TZOFFSETTO:+0000
TZNAME:GMT
DTSTART:20241027T010000
END:STANDARD
BEGIN:DAYLIGHT
TZOFFSETFROM:+0000
TZOFFSETTO:+0100
TZNAME:BST
DTSTART:20250330T010000
END:DAYLIGHT
BEGIN:STANDARD
TZOFFSETFROM:+0100
TZOFFSETTO:+0000
TZNAME:GMT
DTSTART:20251026T010000
END:STANDARD
BEGIN:DAYLIGHT
TZOFFSETFROM:+0000
TZOFFSETTO:+0100
TZNAME:BST
DTSTART:20260329T010000
END:DAYLIGHT
BEGIN:STANDARD
TZOFFSETFROM:+0100
TZOFFSETTO:+0000
TZNAME:GMT
DTSTART:20261025T010000
END:STANDARD
END:VTIMEZONE
BEGIN:VEVENT
DTSTART;VALUE=DATE:20250926
DTEND;VALUE=DATE:20250927
DTSTAMP:20260423T043412
CREATED:20250920T123428Z
LAST-MODIFIED:20250920T124719Z
UID:12472-1758844800-1758931199@adoddle.org
SUMMARY:Worlds Biggest Coffee Morning
DESCRIPTION:The World’s Biggest Coffee Morning\, held annually on the last Friday of September\, is a major fundraising event organised by #MacmillanCancerSupport in the UK. This event brings people together over coffee and cake to raise funds for those affected by cancer\, with the proceeds supporting Macmillan’s vital services. \nSince its inception in 1990\, the World’s Biggest Coffee Morning has grown into one of the largest and most successful charity events\, with participants hosting coffee mornings in homes\, offices\, schools\, and community centres across the UK and beyond. \nThe concept is simple yet powerful: invite friends\, family\, colleagues\, or neighbours to enjoy a cup of coffee and a slice of cake\, while making a donation to Macmillan Cancer Support. Every contribution\, no matter how small\, helps provide essential medical\, emotional\, and practical support to individuals and families facing cancer. The World’s Biggest Coffee Morning is a heart-warming event that not only raises money but also fosters a sense of community and solidarity in the fight against cancer. \nParticipating in the World’s Biggest Coffee Morning is a meaningful way to make a difference. Whether you’re baking\, hosting\, or simply attending\, your involvement helps ensure that Macmillan can continue to be there for those who need it most. The event also provides an opportunity to reflect on the impact of cancer and to show support for loved ones who have been affected. With each cup of coffee poured\, participants contribute to a cause that touches countless lives\, making the World’s Biggest Coffee Morning an event of compassion\, hope\, and action. \nSource: \nWorld’s Biggest Coffee Morning | Awareness Days \nCharity Coffee Morning | Macmillan Coffee Morning
URL:https://adoddle.org/events-calendar/worlds-biggest-coffee-morning/
CATEGORIES:Awareness Day,National,UK
ATTACH;FMTTYPE=image/png:https://adoddle.org/wp-content/uploads/2025/09/Coffee-Morning-AW-Day.png
END:VEVENT
END:VCALENDAR