BEGIN:VCALENDAR
VERSION:2.0
PRODID:-//aDoddle - Community Mapping - ECPv6.15.11//NONSGML v1.0//EN
CALSCALE:GREGORIAN
METHOD:PUBLISH
X-WR-CALNAME:aDoddle - Community Mapping
X-ORIGINAL-URL:https://adoddle.org
X-WR-CALDESC:Events for aDoddle - Community Mapping
REFRESH-INTERVAL;VALUE=DURATION:PT1H
X-Robots-Tag:noindex
X-PUBLISHED-TTL:PT1H
BEGIN:VTIMEZONE
TZID:Europe/London
BEGIN:DAYLIGHT
TZOFFSETFROM:+0000
TZOFFSETTO:+0100
TZNAME:BST
DTSTART:20240331T010000
END:DAYLIGHT
BEGIN:STANDARD
TZOFFSETFROM:+0100
TZOFFSETTO:+0000
TZNAME:GMT
DTSTART:20241027T010000
END:STANDARD
BEGIN:DAYLIGHT
TZOFFSETFROM:+0000
TZOFFSETTO:+0100
TZNAME:BST
DTSTART:20250330T010000
END:DAYLIGHT
BEGIN:STANDARD
TZOFFSETFROM:+0100
TZOFFSETTO:+0000
TZNAME:GMT
DTSTART:20251026T010000
END:STANDARD
BEGIN:DAYLIGHT
TZOFFSETFROM:+0000
TZOFFSETTO:+0100
TZNAME:BST
DTSTART:20260329T010000
END:DAYLIGHT
BEGIN:STANDARD
TZOFFSETFROM:+0100
TZOFFSETTO:+0000
TZNAME:GMT
DTSTART:20261025T010000
END:STANDARD
END:VTIMEZONE
BEGIN:VEVENT
DTSTART;VALUE=DATE:20251024
DTEND;VALUE=DATE:20251025
DTSTAMP:20260423T032646
CREATED:20251020T105238Z
LAST-MODIFIED:20251020T110630Z
UID:12544-1761264000-1761350399@adoddle.org
SUMMARY:Wear It Pink Awareness Day
DESCRIPTION:Wear It Pink is an annual fundraising event held in October to support breast cancer awareness and research. Organised by Breast Cancer Now\, the UK’s largest breast cancer charity\, Wear It Pink encourages individuals\, schools\, and businesses to wear something pink and raise funds to support life-saving research and treatments for breast cancer. It’s one of the biggest fundraising events in the UK\, bringing people together in solidarity to help those affected by breast cancer. \nParticipants are encouraged to get creative by hosting pink-themed events\, wearing pink clothing\, and raising awareness about breast cancer prevention and early detection. The funds raised during Wear It Pink go directly towards funding research\, providing support services\, and advocating for better breast cancer care. \nHere are some social media content ideas to engage your audience on Wear It Pink: \n\nShare tips for hosting a pink-themed fundraising event at work or school.\nEncourage followers to wear pink and post a photo using a dedicated hashtag.\nHighlight the importance of breast cancer research and how donations make a difference.\nPost stories of breast cancer survivors and their journeys.\nShare facts about breast cancer prevention\, early detection\, and treatment options.\nCreate a poll asking followers if they plan to participate in Wear It Pink this year.\nHighlight the role of fundraising in advancing breast cancer treatments and care.\nPost about how individuals can get involved and donate to breast cancer research.\nShare inspiring quotes from breast cancer advocates and survivors.\nEncourage followers to spread the word about breast cancer awareness and participate in Wear It Pink.\n\n#WearItPink #BreastCancerAwareness #FightBreastCancer #PinkForACause \n  \nSource: Wear It Pink | Awareness Days
URL:https://adoddle.org/events-calendar/wear-it-pink-awareness-day/
CATEGORIES:Awareness Day,National,UK
ATTACH;FMTTYPE=image/png:https://adoddle.org/wp-content/uploads/2025/10/WEar-It-Pink-AW.png
END:VEVENT
END:VCALENDAR