BEGIN:VCALENDAR
VERSION:2.0
PRODID:-//aDoddle - Community Mapping - ECPv6.15.11//NONSGML v1.0//EN
CALSCALE:GREGORIAN
METHOD:PUBLISH
X-ORIGINAL-URL:https://adoddle.org
X-WR-CALDESC:Events for aDoddle - Community Mapping
REFRESH-INTERVAL;VALUE=DURATION:PT1H
X-Robots-Tag:noindex
X-PUBLISHED-TTL:PT1H
BEGIN:VTIMEZONE
TZID:Europe/London
BEGIN:DAYLIGHT
TZOFFSETFROM:+0000
TZOFFSETTO:+0100
TZNAME:BST
DTSTART:20240331T010000
END:DAYLIGHT
BEGIN:STANDARD
TZOFFSETFROM:+0100
TZOFFSETTO:+0000
TZNAME:GMT
DTSTART:20241027T010000
END:STANDARD
BEGIN:DAYLIGHT
TZOFFSETFROM:+0000
TZOFFSETTO:+0100
TZNAME:BST
DTSTART:20250330T010000
END:DAYLIGHT
BEGIN:STANDARD
TZOFFSETFROM:+0100
TZOFFSETTO:+0000
TZNAME:GMT
DTSTART:20251026T010000
END:STANDARD
BEGIN:DAYLIGHT
TZOFFSETFROM:+0000
TZOFFSETTO:+0100
TZNAME:BST
DTSTART:20260329T010000
END:DAYLIGHT
BEGIN:STANDARD
TZOFFSETFROM:+0100
TZOFFSETTO:+0000
TZNAME:GMT
DTSTART:20261025T010000
END:STANDARD
END:VTIMEZONE
BEGIN:VEVENT
DTSTART;VALUE=DATE:20251119
DTEND;VALUE=DATE:20251120
DTSTAMP:20260423T020919
CREATED:20220724T125512Z
LAST-MODIFIED:20251008T105024Z
UID:6252-1763510400-1763596799@adoddle.org
SUMMARY:International Men's Day
DESCRIPTION:On November 19\, International Men’s Day celebrates worldwide the positive value men bring to the world\, their families and communities. We highlight positive role models and raise awareness of men’s well-being. The theme for 2025 is “Celebrating Men and Boys”.\nInternational Men’s Day encourages men to teach the boys in their lives the values\, character and responsibilities of being a man. Mahatma Gandhi said\, “We must become the change we seek.” It is only when we all\, both men and women\, lead by example that we will create a fair and safe society that allows everyone the opportunity to prosper. \nInternational Men’s Day is an opportunity for people everywhere of goodwill to appreciate and celebrate the men in their lives and the contribution they make to society for the greater good of all. \n#InternationalMensDay #LeadingByExample #ZeroMaleSuicide \n  \nFind Out More: https://internationalmensday.com/
URL:https://adoddle.org/events-calendar/international-mens-day/
CATEGORIES:Awareness Day,International,UK,World
ATTACH;FMTTYPE=image/png:https://adoddle.org/wp-content/uploads/2022/07/Nov-19-International-Mens-Day-FB.png
END:VEVENT
END:VCALENDAR