BEGIN:VCALENDAR
VERSION:2.0
PRODID:-//aDoddle - Community Mapping - ECPv6.15.11//NONSGML v1.0//EN
CALSCALE:GREGORIAN
METHOD:PUBLISH
X-WR-CALNAME:aDoddle - Community Mapping
X-ORIGINAL-URL:https://adoddle.org
X-WR-CALDESC:Events for aDoddle - Community Mapping
REFRESH-INTERVAL;VALUE=DURATION:PT1H
X-Robots-Tag:noindex
X-PUBLISHED-TTL:PT1H
BEGIN:VTIMEZONE
TZID:Europe/London
BEGIN:DAYLIGHT
TZOFFSETFROM:+0000
TZOFFSETTO:+0100
TZNAME:BST
DTSTART:20240331T010000
END:DAYLIGHT
BEGIN:STANDARD
TZOFFSETFROM:+0100
TZOFFSETTO:+0000
TZNAME:GMT
DTSTART:20241027T010000
END:STANDARD
BEGIN:DAYLIGHT
TZOFFSETFROM:+0000
TZOFFSETTO:+0100
TZNAME:BST
DTSTART:20250330T010000
END:DAYLIGHT
BEGIN:STANDARD
TZOFFSETFROM:+0100
TZOFFSETTO:+0000
TZNAME:GMT
DTSTART:20251026T010000
END:STANDARD
BEGIN:DAYLIGHT
TZOFFSETFROM:+0000
TZOFFSETTO:+0100
TZNAME:BST
DTSTART:20260329T010000
END:DAYLIGHT
BEGIN:STANDARD
TZOFFSETFROM:+0100
TZOFFSETTO:+0000
TZNAME:GMT
DTSTART:20261025T010000
END:STANDARD
END:VTIMEZONE
BEGIN:VEVENT
DTSTART;VALUE=DATE:20251125
DTEND;VALUE=DATE:20251126
DTSTAMP:20260423T015728
CREATED:20220724T130913Z
LAST-MODIFIED:20251008T111020Z
UID:6261-1764028800-1764115199@adoddle.org
SUMMARY:White Ribbon Day
DESCRIPTION:White Ribbon Day sees the start of 16 Days of Action against domestic and sexual violence. \nWhite Ribbon is a campaign led by men\, aimed at putting an end to male violence against women. Men across the globe raise awareness and show their support for the campaign by wearing a white ribbon. \n1 in 4 women will be a victim to sexual assault or attempted assault in their lifetimes. (National Audit Office\, 2025) \nCulture change doesn’t happen overnight\, but we can end men’s violence against women and girls in our lifetimes. \nThis years theme is #WeSpeakUp. Letting sexism slide puts women and girls at risk. Sexist jokes\, catcalling\, staring\, and comments might seem harmless\, but they are serious because they can lead to violence and abuse.\nThis White Ribbon Day\, we want more men to use their voices and speak up to create a world where everyone is safe\, equal and respected. \nEvery time we ignore something that doesn’t feel right\, we miss a chance to set a better example. \nViolence experienced by women and girls takes many forms. Some behaviours and words may seem ‘harmless’ but normalising them ignores the short- and long-term effects on women and can lead to more extreme violence. \n#WhiteRibbonDay #NoExcuseForAbuse #WeSpeakUp \nFind out more about White Ribbon Day: https://www.whiteribbon.org.uk/
URL:https://adoddle.org/events-calendar/white-ribbon-day/
CATEGORIES:Awareness Day,International,World
ATTACH;FMTTYPE=image/png:https://adoddle.org/wp-content/uploads/2022/07/Nov-25th-White-Ribbon-Day-FB.png
END:VEVENT
END:VCALENDAR