BEGIN:VCALENDAR
VERSION:2.0
PRODID:-//aDoddle - Community Mapping - ECPv6.15.11//NONSGML v1.0//EN
CALSCALE:GREGORIAN
METHOD:PUBLISH
X-ORIGINAL-URL:https://adoddle.org
X-WR-CALDESC:Events for aDoddle - Community Mapping
REFRESH-INTERVAL;VALUE=DURATION:PT1H
X-Robots-Tag:noindex
X-PUBLISHED-TTL:PT1H
BEGIN:VTIMEZONE
TZID:Europe/London
BEGIN:DAYLIGHT
TZOFFSETFROM:+0000
TZOFFSETTO:+0100
TZNAME:BST
DTSTART:20240331T010000
END:DAYLIGHT
BEGIN:STANDARD
TZOFFSETFROM:+0100
TZOFFSETTO:+0000
TZNAME:GMT
DTSTART:20241027T010000
END:STANDARD
BEGIN:DAYLIGHT
TZOFFSETFROM:+0000
TZOFFSETTO:+0100
TZNAME:BST
DTSTART:20250330T010000
END:DAYLIGHT
BEGIN:STANDARD
TZOFFSETFROM:+0100
TZOFFSETTO:+0000
TZNAME:GMT
DTSTART:20251026T010000
END:STANDARD
BEGIN:DAYLIGHT
TZOFFSETFROM:+0000
TZOFFSETTO:+0100
TZNAME:BST
DTSTART:20260329T010000
END:DAYLIGHT
BEGIN:STANDARD
TZOFFSETFROM:+0100
TZOFFSETTO:+0000
TZNAME:GMT
DTSTART:20261025T010000
END:STANDARD
END:VTIMEZONE
BEGIN:VEVENT
DTSTART;VALUE=DATE:20251201
DTEND;VALUE=DATE:20251202
DTSTAMP:20260423T002022
CREATED:20221122T135626Z
LAST-MODIFIED:20251105T115020Z
UID:6319-1764547200-1764633599@adoddle.org
SUMMARY:World AIDS Day
DESCRIPTION:Today is World Aids Day\, this annual event serves as an important reminder that we must remain steadfast in our commitment to prevent new HIV infections and provide essential services to all people living with HIV globally. In the UK\, more than 105\,000 people are living with HIV. Globally\, an estimated 38 million people live with the virus. More than 35 million people have died of HIV or AIDS related illnesses over the past 40 years\, making it one of the most destructive pandemics in history. \nIts also a good opportunity to clear up misconceptions about the disease\, which may lead to prejudice. \n\nHIV cannot be spread through touch\, tears\, sweat\, saliva\, or pee. It can only be spread through blood\, semen\, vaginal fluid or breast milk\nMosquitos cannot spread HIV among humans\nHIV can be spread among heterosexual couples\nTreatment for HIV doesn’t involve taking dozens of pills a day – most only take 1-4 a day\nPeople with HIV can still safely have children\nContracting HIV doesn’t mean your life is over – With treatment\, it’s possible to live a long and healthy life\, just like anyone else\n\n\n#RockTheRibbon #WorldAidsDay #LivingwithHIV \nSource: WebMD
URL:https://adoddle.org/events-calendar/world-aids-day-2/
CATEGORIES:Awareness Day,International,World
ATTACH;FMTTYPE=image/png:https://adoddle.org/wp-content/uploads/2022/08/Dec-1-World-Aids-Day-FB.png
END:VEVENT
END:VCALENDAR