BEGIN:VCALENDAR
VERSION:2.0
PRODID:-//aDoddle - Community Mapping - ECPv6.15.11//NONSGML v1.0//EN
CALSCALE:GREGORIAN
METHOD:PUBLISH
X-WR-CALNAME:aDoddle - Community Mapping
X-ORIGINAL-URL:https://adoddle.org
X-WR-CALDESC:Events for aDoddle - Community Mapping
REFRESH-INTERVAL;VALUE=DURATION:PT1H
X-Robots-Tag:noindex
X-PUBLISHED-TTL:PT1H
BEGIN:VTIMEZONE
TZID:Europe/London
BEGIN:DAYLIGHT
TZOFFSETFROM:+0000
TZOFFSETTO:+0100
TZNAME:BST
DTSTART:20240331T010000
END:DAYLIGHT
BEGIN:STANDARD
TZOFFSETFROM:+0100
TZOFFSETTO:+0000
TZNAME:GMT
DTSTART:20241027T010000
END:STANDARD
BEGIN:DAYLIGHT
TZOFFSETFROM:+0000
TZOFFSETTO:+0100
TZNAME:BST
DTSTART:20250330T010000
END:DAYLIGHT
BEGIN:STANDARD
TZOFFSETFROM:+0100
TZOFFSETTO:+0000
TZNAME:GMT
DTSTART:20251026T010000
END:STANDARD
BEGIN:DAYLIGHT
TZOFFSETFROM:+0000
TZOFFSETTO:+0100
TZNAME:BST
DTSTART:20260329T010000
END:DAYLIGHT
BEGIN:STANDARD
TZOFFSETFROM:+0100
TZOFFSETTO:+0000
TZNAME:GMT
DTSTART:20261025T010000
END:STANDARD
END:VTIMEZONE
BEGIN:VEVENT
DTSTART;VALUE=DATE:20251202
DTEND;VALUE=DATE:20251203
DTSTAMP:20260423T001330
CREATED:20251118T194635Z
LAST-MODIFIED:20251118T195608Z
UID:12631-1764633600-1764719999@adoddle.org
SUMMARY:Giving Tuesday
DESCRIPTION:Giving Tuesday\, celebrated the Tuesday after Black Friday and Cyber Monday\, is a global day of generosity where individuals\, businesses\, and organisations are encouraged to give back to their communities through donations\, volunteer work\, and acts of kindness. This day is all about shifting the focus from consumerism to compassion\, reminding everyone that the holiday season is a time to help those in need. \nThe Giving Tuesday movement\, which started in 2012\, has grown into a worldwide celebration of generosity. It’s an opportunity for everyone to support causes that matter to them\, whether through financial donations\, volunteering time\, or raising awareness. From local charities to global initiatives\, Giving Tuesday offers endless opportunities to make a positive impact. \nIt’s a day to reflect on what we can give\, not just financially\, but in terms of time\, kindness\, and resources to uplift others. Businesses often join in by matching donations\, sponsoring charitable events\, or organising volunteer activities for their employees. \n#Volunteer #GivingTuesday #GiveBack #DonateForGood #GlobalDayOfGiving #SupportLocalCharities #GenerosityMatters #SpreadKindness \nSource: Giving Tuesday | Awareness Days
URL:https://adoddle.org/events-calendar/giving-tuesday/
CATEGORIES:Awareness Day,International,National,UK
ATTACH;FMTTYPE=image/png:https://adoddle.org/wp-content/uploads/2025/11/Giving-Tuesday.png
END:VEVENT
END:VCALENDAR