BEGIN:VCALENDAR
VERSION:2.0
PRODID:-//aDoddle - Community Mapping - ECPv6.15.11//NONSGML v1.0//EN
CALSCALE:GREGORIAN
METHOD:PUBLISH
X-ORIGINAL-URL:https://adoddle.org
X-WR-CALDESC:Events for aDoddle - Community Mapping
REFRESH-INTERVAL;VALUE=DURATION:PT1H
X-Robots-Tag:noindex
X-PUBLISHED-TTL:PT1H
BEGIN:VTIMEZONE
TZID:Europe/London
BEGIN:DAYLIGHT
TZOFFSETFROM:+0000
TZOFFSETTO:+0100
TZNAME:BST
DTSTART:20240331T010000
END:DAYLIGHT
BEGIN:STANDARD
TZOFFSETFROM:+0100
TZOFFSETTO:+0000
TZNAME:GMT
DTSTART:20241027T010000
END:STANDARD
BEGIN:DAYLIGHT
TZOFFSETFROM:+0000
TZOFFSETTO:+0100
TZNAME:BST
DTSTART:20250330T010000
END:DAYLIGHT
BEGIN:STANDARD
TZOFFSETFROM:+0100
TZOFFSETTO:+0000
TZNAME:GMT
DTSTART:20251026T010000
END:STANDARD
BEGIN:DAYLIGHT
TZOFFSETFROM:+0000
TZOFFSETTO:+0100
TZNAME:BST
DTSTART:20260329T010000
END:DAYLIGHT
BEGIN:STANDARD
TZOFFSETFROM:+0100
TZOFFSETTO:+0000
TZNAME:GMT
DTSTART:20261025T010000
END:STANDARD
END:VTIMEZONE
BEGIN:VEVENT
DTSTART;VALUE=DATE:20251210
DTEND;VALUE=DATE:20251211
DTSTAMP:20260423T001449
CREATED:20221201T132557Z
LAST-MODIFIED:20251105T112542Z
UID:6334-1765324800-1765411199@adoddle.org
SUMMARY:Human Rights Day
DESCRIPTION:Human Rights Day is observed by the international community every year on 10 December. It commemorates the day in 1948 the United Nations General Assembly adopted the Universal Declaration of Human Rights. \nThe formal inception of Human Rights Day dates from 1950\, after the Assembly passed resolution 423 (V) inviting all States and interested organizations to adopt 10 December of each year as Human Rights Day. \nWhen the General Assembly adopted the Declaration\, it was proclaimed as a “common standard of achievement for all peoples and all nations”\, towards which individuals and societies should “strive by progressive measures\, national and international\, to secure their universal and effective recognition and observance”. \nThe Universal Declaration of Human Rights sets out a broad range of fundamental rights and freedoms to which all of us are entitled. It guarantees the rights of every individual everywhere\, without distinction based on nationality\, place of residence\, gender\, national or ethnic origin\, religion\, language\, or any other status. \nAlthough the Declaration is not a binding document\, it inspired more than 60 human rights instruments which together constitute an international standard of human rights. Today the general consent of all United Nations Member States on the basic Human Rights laid down in the Declaration makes it even stronger and emphasizes the relevance of Human Rights in our daily lives. \nThe High Commissioner for Human Rights\, as the main United Nations rights official\, and the Office of the High Commissioner play a major role in coordinating efforts for the yearly observation of Human Rights Day. \n  \n#HujmanRightsDay #HumanRights \nSource: OHCHR
URL:https://adoddle.org/events-calendar/human-rights-day-2/
CATEGORIES:Awareness Day,International,UK,World
ATTACH;FMTTYPE=image/png:https://adoddle.org/wp-content/uploads/2022/08/Dec-10-Human-Rights-Day-FB.png
END:VEVENT
BEGIN:VEVENT
DTSTART;VALUE=DATE:20251210
DTEND;VALUE=DATE:20251211
DTSTAMP:20260423T001449
CREATED:20221203T112113Z
LAST-MODIFIED:20251020T112326Z
UID:6682-1765324800-1765411199@adoddle.org
SUMMARY:International Animal Rights Day
DESCRIPTION:International Animal Rights Day is celebrated on December 10th every year globally\, for the rights and welfare of animals. \nThe day seeks people to address the rights of animals\, both domestic and wild. The day is celebrated to pay tribute to and advocate animal rights. \nOn this day\, animal lovers can encourage their friends\, family\, relatives\, or communities to provide a voice for animal rights. They deserve our respect\, love\, and fair treatment. Whether a parent\, teacher\, grandparent or friend\, those who have an influence on children can take this time to teach them how to value and respect the animals in the world. Perhaps use International Animal Rights Day as a motivator to talk about #Conservation\, learn about animals that are on endangered or at-risk species lists\, and practice ways to be more kind to the animals and the environment. \n#AnimalRights #InternationalAnimalRightsDay \n  \nSource:  http://internationalanimalrightsday.org/
URL:https://adoddle.org/events-calendar/international-animal-rights-day/
CATEGORIES:Awareness Day,International,UK,World
ATTACH;FMTTYPE=image/png:https://adoddle.org/wp-content/uploads/2022/12/63726a37db27971048e854df.png
END:VEVENT
END:VCALENDAR