BEGIN:VCALENDAR
VERSION:2.0
PRODID:-//aDoddle - Community Mapping - ECPv6.15.11//NONSGML v1.0//EN
CALSCALE:GREGORIAN
METHOD:PUBLISH
X-WR-CALNAME:aDoddle - Community Mapping
X-ORIGINAL-URL:https://adoddle.org
X-WR-CALDESC:Events for aDoddle - Community Mapping
REFRESH-INTERVAL;VALUE=DURATION:PT1H
X-Robots-Tag:noindex
X-PUBLISHED-TTL:PT1H
BEGIN:VTIMEZONE
TZID:Europe/London
BEGIN:DAYLIGHT
TZOFFSETFROM:+0000
TZOFFSETTO:+0100
TZNAME:BST
DTSTART:20250330T010000
END:DAYLIGHT
BEGIN:STANDARD
TZOFFSETFROM:+0100
TZOFFSETTO:+0000
TZNAME:GMT
DTSTART:20251026T010000
END:STANDARD
BEGIN:DAYLIGHT
TZOFFSETFROM:+0000
TZOFFSETTO:+0100
TZNAME:BST
DTSTART:20260329T010000
END:DAYLIGHT
BEGIN:STANDARD
TZOFFSETFROM:+0100
TZOFFSETTO:+0000
TZNAME:GMT
DTSTART:20261025T010000
END:STANDARD
BEGIN:DAYLIGHT
TZOFFSETFROM:+0000
TZOFFSETTO:+0100
TZNAME:BST
DTSTART:20270328T010000
END:DAYLIGHT
BEGIN:STANDARD
TZOFFSETFROM:+0100
TZOFFSETTO:+0000
TZNAME:GMT
DTSTART:20271031T010000
END:STANDARD
END:VTIMEZONE
BEGIN:VEVENT
DTSTART;VALUE=DATE:20260114
DTEND;VALUE=DATE:20260115
DTSTAMP:20260422T223357
CREATED:20241215T131017Z
LAST-MODIFIED:20251215T131126Z
UID:11529-1768348800-1768435199@adoddle.org
SUMMARY:Caesarean Section Day
DESCRIPTION:Caesarean Section Day\, also known as C-Section Day\, takes place on the 14th January every year. It highlights the importance of this medical procedure and its impact on maternal and infant health and raises awareness about maternity care and surgical interventions during childbirth. \nThis day recognises the importance of C-sections in childbirth\, a life-saving surgical procedure that is essential for the health and safety of both mother and baby in certain situations. Caesarean Section Day aims to educate people about the reasons for C-sections\, the recovery process\, and to support those who have undergone this major surgery. It’s also an opportunity to dispel myths and stigma associated with C-sections and to celebrate the strength and resilience of mothers who bring life into the world through this method. This observance highlights the advancements in maternal healthcare and the importance of accessible and safe childbirth options for all women. \nLooking to share information and support around Caesarean Section Day? Here are some content ideas for your social media: \n\nEducational Posts: Share informative content about what a C-section is\, why it’s performed\, and the care required post-surgery.\nPersonal Stories: Feature stories from mothers who have had C-sections\, focusing on their experiences and recovery journey.\nMedical Professional Insights: Offer insights from obstetricians and midwives about the procedure\, advancements in care\, and best practices.\nSupport and Resources: Provide resources for pre and post-C-section care\, including support groups\, recovery tips\, and mental health resources.\nCelebrating Mothers: Use this day to celebrate the strength and resilience of all mothers\, acknowledging the diverse experiences of childbirth.\n\n#CesareanSectionDay #CSectionAwareness #MaternalHealth #ChildbirthEducation #CSectionRecovery #BirthStories #Obstetrics #MaternalCare #CSectionSupport #SafeChildbirth #MotherhoodJourney #CSectionStrong #EmpoweredBirth #CSectionMoms #MedicalAwareness #PostpartumSupport #HealthyBirths #CSectionCare #MaternityCare #MotherhoodStrength #NewbornCare #CSectionAdvocacy #FamilyHealth #CSectionExperience #BirthOptions #WomenHealth #HealthyMothers #CSectionWarriors #SupportingMoms #BirthJourney \n  \nSource: Cesarean Section Day | Awareness Days
URL:https://adoddle.org/events-calendar/caesarean-section-day/
CATEGORIES:Awareness Day,National,UK
ATTACH;FMTTYPE=image/png:https://adoddle.org/wp-content/uploads/2024/12/C-Section-AW.png
END:VEVENT
END:VCALENDAR