BEGIN:VCALENDAR
VERSION:2.0
PRODID:-//aDoddle - Community Mapping - ECPv6.15.11//NONSGML v1.0//EN
CALSCALE:GREGORIAN
METHOD:PUBLISH
X-ORIGINAL-URL:https://adoddle.org
X-WR-CALDESC:Events for aDoddle - Community Mapping
REFRESH-INTERVAL;VALUE=DURATION:PT1H
X-Robots-Tag:noindex
X-PUBLISHED-TTL:PT1H
BEGIN:VTIMEZONE
TZID:Europe/London
BEGIN:DAYLIGHT
TZOFFSETFROM:+0000
TZOFFSETTO:+0100
TZNAME:BST
DTSTART:20250330T010000
END:DAYLIGHT
BEGIN:STANDARD
TZOFFSETFROM:+0100
TZOFFSETTO:+0000
TZNAME:GMT
DTSTART:20251026T010000
END:STANDARD
BEGIN:DAYLIGHT
TZOFFSETFROM:+0000
TZOFFSETTO:+0100
TZNAME:BST
DTSTART:20260329T010000
END:DAYLIGHT
BEGIN:STANDARD
TZOFFSETFROM:+0100
TZOFFSETTO:+0000
TZNAME:GMT
DTSTART:20261025T010000
END:STANDARD
BEGIN:DAYLIGHT
TZOFFSETFROM:+0000
TZOFFSETTO:+0100
TZNAME:BST
DTSTART:20270328T010000
END:DAYLIGHT
BEGIN:STANDARD
TZOFFSETFROM:+0100
TZOFFSETTO:+0000
TZNAME:GMT
DTSTART:20271031T010000
END:STANDARD
END:VTIMEZONE
BEGIN:VEVENT
DTSTART;VALUE=DATE:20260120
DTEND;VALUE=DATE:20260121
DTSTAMP:20260422T223414
CREATED:20240105T104006Z
LAST-MODIFIED:20260105T122411Z
UID:9474-1768867200-1768953599@adoddle.org
SUMMARY:International Day of Acceptance
DESCRIPTION:International Day of Acceptance takes place on the 20th of January every year as a powerful reminder of the importance of social acceptance and the inclusion of people with disabilities. \nThis day is dedicated to fostering a more inclusive society that recognises the abilities\, contributions\, and rights of all individuals\, regardless of their physical or mental challenges. \nIt emphasises the need to embrace diversity in all its forms and to advocate for equal opportunities and accessibility in every aspect of life. International Day of Acceptance is not only about raising awareness but also about taking action to create environments where differences are respected and celebrated. \nIt’s a call to individuals\, organisations\, and governments to promote understanding\, respect\, and equality for people with disabilities\, thereby enriching communities with diverse perspectives and talents. \n#InternationalDayOfAcceptance #InclusionMatters #DiversityAndInclusion #AccessibilityForAll #EqualOpportunities #EmbraceDiversity #InclusiveSociety \nSource:  International Day Of Acceptance | Awareness Days
URL:https://adoddle.org/events-calendar/international-day-of-acceptance/
CATEGORIES:Awareness Day,International,National,UK,World
ATTACH;FMTTYPE=image/png:https://adoddle.org/wp-content/uploads/2024/01/Day-of-Acceptance.png
END:VEVENT
END:VCALENDAR