BEGIN:VCALENDAR
VERSION:2.0
PRODID:-//aDoddle - Community Mapping - ECPv6.15.11//NONSGML v1.0//EN
CALSCALE:GREGORIAN
METHOD:PUBLISH
X-WR-CALNAME:aDoddle - Community Mapping
X-ORIGINAL-URL:https://adoddle.org
X-WR-CALDESC:Events for aDoddle - Community Mapping
REFRESH-INTERVAL;VALUE=DURATION:PT1H
X-Robots-Tag:noindex
X-PUBLISHED-TTL:PT1H
BEGIN:VTIMEZONE
TZID:Europe/London
BEGIN:DAYLIGHT
TZOFFSETFROM:+0000
TZOFFSETTO:+0100
TZNAME:BST
DTSTART:20250330T010000
END:DAYLIGHT
BEGIN:STANDARD
TZOFFSETFROM:+0100
TZOFFSETTO:+0000
TZNAME:GMT
DTSTART:20251026T010000
END:STANDARD
BEGIN:DAYLIGHT
TZOFFSETFROM:+0000
TZOFFSETTO:+0100
TZNAME:BST
DTSTART:20260329T010000
END:DAYLIGHT
BEGIN:STANDARD
TZOFFSETFROM:+0100
TZOFFSETTO:+0000
TZNAME:GMT
DTSTART:20261025T010000
END:STANDARD
BEGIN:DAYLIGHT
TZOFFSETFROM:+0000
TZOFFSETTO:+0100
TZNAME:BST
DTSTART:20270328T010000
END:DAYLIGHT
BEGIN:STANDARD
TZOFFSETFROM:+0100
TZOFFSETTO:+0000
TZNAME:GMT
DTSTART:20271031T010000
END:STANDARD
END:VTIMEZONE
BEGIN:VEVENT
DTSTART;VALUE=DATE:20260124
DTEND;VALUE=DATE:20260125
DTSTAMP:20260422T120809
CREATED:20241218T111914Z
LAST-MODIFIED:20260105T122931Z
UID:11532-1769212800-1769299199@adoddle.org
SUMMARY:National Compliment Day
DESCRIPTION:National Compliment Day takes place on the 24th of January every year as a wonderful opportunity to spread kindness and positivity through the simple act of giving compliments. \nThis day encourages individuals to recognise and vocalise the good in others\, reinforcing the power of positive words in uplifting spirits and strengthening connections. National Compliment Day is not just about praising achievements; it’s about acknowledging character\, effort\, and the little things that often go unnoticed. \nWhether it’s complimenting a colleague’s work\, a friend’s resilience\, or a stranger’s kindness\, this day reminds us of the impact that thoughtful\, sincere compliments can have on people’s lives. It’s a chance to create a ripple of positivity and to make the world a little brighter\, one compliment at a time. \nTo celebrate National Compliment Day\, here are some content ideas for your social media: \n\nCompliment Challenges: Encourage your audience to share compliments with others and post about their experiences or the reactions they receive.\nThe Power of Kind Words: Share quotes or stories that demonstrate the impact of positive words and compliments.\nTips on Giving Compliments: Offer tips on how to give genuine and meaningful compliments\, emphasising the importance of sincerity.\nCompliment-Themed Activities: Suggest engaging activities or games that revolve around giving and receiving compliments\, suitable for schools\, workplaces\, or communities.\nHighlight Acts of Kindness: Feature stories or examples of acts of kindness within your community or network\, complimenting those involved for their efforts and impact.\n\n#NationalComplimentDay #SpreadKindness #PositiveVibes #ComplimentsMatter #KindWordsCount #UpliftingOthers #SpreadPositivity #ComplimentChallenge #SaySomethingNice #KindnessMatters #PowerOfCompliments #AppreciationPost #KindWordsHeal #ComplimentSomeone #BrightenADay #PositiveImpact #ThoughtfulCompliments #SpreadJoy \n  \nSource: National Compliment Day | Awareness Days
URL:https://adoddle.org/events-calendar/national-compliment-day/
CATEGORIES:Awareness Day,National,UK
ATTACH;FMTTYPE=image/png:https://adoddle.org/wp-content/uploads/2024/12/Compliment-Day.png
END:VEVENT
END:VCALENDAR