BEGIN:VCALENDAR
VERSION:2.0
PRODID:-//aDoddle - Community Mapping - ECPv6.15.11//NONSGML v1.0//EN
CALSCALE:GREGORIAN
METHOD:PUBLISH
X-ORIGINAL-URL:https://adoddle.org
X-WR-CALDESC:Events for aDoddle - Community Mapping
REFRESH-INTERVAL;VALUE=DURATION:PT1H
X-Robots-Tag:noindex
X-PUBLISHED-TTL:PT1H
BEGIN:VTIMEZONE
TZID:Europe/London
BEGIN:DAYLIGHT
TZOFFSETFROM:+0000
TZOFFSETTO:+0100
TZNAME:BST
DTSTART:20240331T010000
END:DAYLIGHT
BEGIN:STANDARD
TZOFFSETFROM:+0100
TZOFFSETTO:+0000
TZNAME:GMT
DTSTART:20241027T010000
END:STANDARD
BEGIN:DAYLIGHT
TZOFFSETFROM:+0000
TZOFFSETTO:+0100
TZNAME:BST
DTSTART:20250330T010000
END:DAYLIGHT
BEGIN:STANDARD
TZOFFSETFROM:+0100
TZOFFSETTO:+0000
TZNAME:GMT
DTSTART:20251026T010000
END:STANDARD
BEGIN:DAYLIGHT
TZOFFSETFROM:+0000
TZOFFSETTO:+0100
TZNAME:BST
DTSTART:20260329T010000
END:DAYLIGHT
BEGIN:STANDARD
TZOFFSETFROM:+0100
TZOFFSETTO:+0000
TZNAME:GMT
DTSTART:20261025T010000
END:STANDARD
END:VTIMEZONE
BEGIN:VEVENT
DTSTART;VALUE=DATE:20250901
DTEND;VALUE=DATE:20251001
DTSTAMP:20260422T025515
CREATED:20230729T105443Z
LAST-MODIFIED:20250716T210913Z
UID:8473-1756684800-1759276799@adoddle.org
SUMMARY:Blood Cancer Awareness Month
DESCRIPTION:September 2025 Is Blood Cancer Awareness Month\nWhat do #Leukaemia\, #Lymphoma\, and #Myeloma have in common? They’re all blood cancers. According to the Leukaemia & Lymphoma Society\, more than 1.5 million people today are living with or in remission from blood cancer. \nBlood cancers are a complex group of diseases. Advances in treatment are helping more people live longer after diagnosis. But more than a third of people with blood cancer live fewer than 5 years after diagnosis. \nBut what are the symptoms? Can a test reveal whether you have blood cancer before you even have symptoms? Who’s at risk and what should you discuss with a doctor? \n#BloodCancerAwarenessMonth exists so that more people will learn the answers to these questions. You can help by sharing facts and information online and in your community\, as well as supporting people who are living with blood cancer. \nSource: September is Blood Cancer Awareness Month: Leukemia\, Lymphoma\, Myeloma (healthline.com)
URL:https://adoddle.org/events-calendar/blood-cancer-awareness-month/
CATEGORIES:Awareness Month,International,National,UK,World
ATTACH;FMTTYPE=image/png:https://adoddle.org/wp-content/uploads/2023/07/Blood-Cancer-Month.png
END:VEVENT
BEGIN:VEVENT
DTSTART;VALUE=DATE:20250901
DTEND;VALUE=DATE:20251001
DTSTAMP:20260422T025515
CREATED:20220702T093104Z
LAST-MODIFIED:20250730T113058Z
UID:6060-1756684800-1759276799@adoddle.org
SUMMARY:Childhood Cancer Awareness Month
DESCRIPTION:September is #ChildhoodCancerAwarenessMonth.  \nThe month is dedicated to raising awareness of cancer in children. You can do your part by wearing the gold ribbon ?️ \nEvery day in the UK\, 10 children and young people will receive the devastating news that they have cancer. Of those 10\, two will not survive. \nOf those lucky enough to survive\, many will have long-term side-effects that may significantly impact their lives forever. This Childhood Cancer Awareness Month 2025 we’re asking for your help to give every child the chance to grow up and fulfil their dreams. \n#CCAM #CancerInChildren #CancerAwareness \nSource: Childhood Cancer Awareness Month 2024 | Children with Cancer UK
URL:https://adoddle.org/events-calendar/childhood-cancer-awareness-month-2/
CATEGORIES:Awareness Month,National,UK
ATTACH;FMTTYPE=image/png:https://adoddle.org/wp-content/uploads/2022/06/childhood-cancer-awareness-FB-10921.png
END:VEVENT
END:VCALENDAR