BEGIN:VCALENDAR
VERSION:2.0
PRODID:-//aDoddle - Community Mapping - ECPv6.15.11//NONSGML v1.0//EN
CALSCALE:GREGORIAN
METHOD:PUBLISH
X-ORIGINAL-URL:https://adoddle.org
X-WR-CALDESC:Events for aDoddle - Community Mapping
REFRESH-INTERVAL;VALUE=DURATION:PT1H
X-Robots-Tag:noindex
X-PUBLISHED-TTL:PT1H
BEGIN:VTIMEZONE
TZID:Europe/London
BEGIN:DAYLIGHT
TZOFFSETFROM:+0000
TZOFFSETTO:+0100
TZNAME:BST
DTSTART:20230326T010000
END:DAYLIGHT
BEGIN:STANDARD
TZOFFSETFROM:+0100
TZOFFSETTO:+0000
TZNAME:GMT
DTSTART:20231029T010000
END:STANDARD
BEGIN:DAYLIGHT
TZOFFSETFROM:+0000
TZOFFSETTO:+0100
TZNAME:BST
DTSTART:20240331T010000
END:DAYLIGHT
BEGIN:STANDARD
TZOFFSETFROM:+0100
TZOFFSETTO:+0000
TZNAME:GMT
DTSTART:20241027T010000
END:STANDARD
BEGIN:DAYLIGHT
TZOFFSETFROM:+0000
TZOFFSETTO:+0100
TZNAME:BST
DTSTART:20250330T010000
END:DAYLIGHT
BEGIN:STANDARD
TZOFFSETFROM:+0100
TZOFFSETTO:+0000
TZNAME:GMT
DTSTART:20251026T010000
END:STANDARD
END:VTIMEZONE
BEGIN:VEVENT
DTSTART;VALUE=DATE:20240210
DTEND;VALUE=DATE:20240211
DTSTAMP:20260421T003551
CREATED:20240118T114001Z
LAST-MODIFIED:20240118T114001Z
UID:9530-1707523200-1707609599@adoddle.org
SUMMARY:Chinese New Year
DESCRIPTION:Chinese New Year 2024 will take place on the 10th of February\, with the beginning of the Year of the Dragon. Celebrations will last from the 9th of February (New Year’s Eve) until the 15th day of the New Year. \nWhat is The Chinese New Year calendar?\nEach year (also known as a cycle) of the Chinese New Year calendar is represented by a different zodiac animal. There are 12 in total. According to legend\, these 12 animals participated in a race\, which then determined their place of order in the Chinese New Year calendar. \nWhy is Chinese New Year celebrated?\nChinese New Year\, also known as the Lunar New Year or the Spring Festival\, marks the first day of the New Year in the Chinese traditional calendar\, which is a lunisolar calendar. Unlike the Gregorian calendar\, used widely around the world today\, the lunisolar calendar determines dates using the location of the sun and the moon relative to the Earth. This is why\, on our Western calendars\, the date changes each year! \nIt is one of the most important events in Chinese culture and the holiday is today celebrated all around the world. Many other countries celebrate the holiday as an official festival (Korea\, Vietnam\, Singapore\, Malaysia\, Indonesia and the Philippines) due to its cultural significance. \nWhat are some Chinese New Year traditions?\nTraditionally\, Chinese New Year is a time for people to honour their ancestors and deities. Still\, many of the customs and traditions of the holiday vary wildly from region to region. Many families across China gather the night before Chinese New Year’s Day for a festive dinner to reunite them. Many people will also clean their house before the new year; this is done to cleanse any ill fortune and is thought to allow for good luck going into the new year. \nIt is also customary for people to decorate their windows and doors with red decorations\, as red is seen as a lucky colour in Chinese culture. Many also light firecrackers and gift money in red paper envelopes to celebrate! \n  \n#ChineseNewYear #YearOfTheDragon \nChinese New Year – Wikipedia
URL:https://adoddle.org/events-calendar/chinese-new-year/
CATEGORIES:Awareness Week,International,National,UK
ATTACH;FMTTYPE=image/png:https://adoddle.org/wp-content/uploads/2024/01/Chinese-New-YEar.png
END:VEVENT
END:VCALENDAR