BEGIN:VCALENDAR
VERSION:2.0
PRODID:-//aDoddle - Community Mapping - ECPv6.15.11//NONSGML v1.0//EN
CALSCALE:GREGORIAN
METHOD:PUBLISH
X-WR-CALNAME:aDoddle - Community Mapping
X-ORIGINAL-URL:https://adoddle.org
X-WR-CALDESC:Events for aDoddle - Community Mapping
REFRESH-INTERVAL;VALUE=DURATION:PT1H
X-Robots-Tag:noindex
X-PUBLISHED-TTL:PT1H
BEGIN:VTIMEZONE
TZID:Europe/London
BEGIN:DAYLIGHT
TZOFFSETFROM:+0000
TZOFFSETTO:+0100
TZNAME:BST
DTSTART:20240331T010000
END:DAYLIGHT
BEGIN:STANDARD
TZOFFSETFROM:+0100
TZOFFSETTO:+0000
TZNAME:GMT
DTSTART:20241027T010000
END:STANDARD
BEGIN:DAYLIGHT
TZOFFSETFROM:+0000
TZOFFSETTO:+0100
TZNAME:BST
DTSTART:20250330T010000
END:DAYLIGHT
BEGIN:STANDARD
TZOFFSETFROM:+0100
TZOFFSETTO:+0000
TZNAME:GMT
DTSTART:20251026T010000
END:STANDARD
BEGIN:DAYLIGHT
TZOFFSETFROM:+0000
TZOFFSETTO:+0100
TZNAME:BST
DTSTART:20260329T010000
END:DAYLIGHT
BEGIN:STANDARD
TZOFFSETFROM:+0100
TZOFFSETTO:+0000
TZNAME:GMT
DTSTART:20261025T010000
END:STANDARD
END:VTIMEZONE
BEGIN:VEVENT
DTSTART;VALUE=DATE:20250629
DTEND;VALUE=DATE:20250707
DTSTAMP:20260421T025248
CREATED:20220702T113937Z
LAST-MODIFIED:20250610T213235Z
UID:6036-1751155200-1751846399@adoddle.org
SUMMARY:Children's Art Week
DESCRIPTION:Children’s Art Week takes place across June and July each year\, offering a series of creative activities and events for children of all ages. \nChildren’s Art Week is an annual event that celebrates and encourages creativity among children. Organised by Engage\, the National Association for Gallery Education\, this initiative provides a variety of art-related activities\, workshops\, and events both in-person and online. It aims to inspire young artists\, support their artistic development\, and highlight the importance of arts education. Schools\, galleries\, museums\, and community centres across the UK participate\, making art accessible to all children. \nTo bring a splash of colour to Children’s Art Week on your social media and digital channels\, here are some content ideas: \n\nShare photos of children’s artwork from your community or organisation.\nPost an art challenge for kids to create something based on a specific theme.\nCreate a video tutorial for a fun and easy art project that kids can do at home.\nHost a live virtual art class with a local artist or educator.\nShare tips for parents and teachers on encouraging creativity in children.\nFeature user-generated content of kids proudly showing their art creations.\nPost about local art events or workshops happening during Children’s Art Week.\nHighlight the benefits of art education for children’s development.\nShare stories of famous artists and their early art experiences.\n\nSource: Children’s Art Week | Awareness Days
URL:https://adoddle.org/events-calendar/childrens-art-week/
CATEGORIES:Awareness Week,National,UK
ATTACH;FMTTYPE=image/png:https://adoddle.org/wp-content/uploads/2022/06/June-29-July-19-Childrens-Art-Week-FB-1.png
END:VEVENT
BEGIN:VEVENT
DTSTART;VALUE=DATE:20250707
DTEND;VALUE=DATE:20250714
DTSTAMP:20260421T025248
CREATED:20220724T124002Z
LAST-MODIFIED:20250528T102507Z
UID:6249-1751846400-1752451199@adoddle.org
SUMMARY:Alcohol Awareness Week
DESCRIPTION:Alcohol Awareness Week is 7th- 14th July 2025. (The week has typically taken place in November each year. However\, Alcohol Awareness Week has now moved to its new spot in July.)It is a chance for the UK to get thinking about drinking. It’s a week of awareness-raising\, campaigning for change\, and more. The theme for Alcohol Awareness Week 2025  is “alcohol and work” \nAround 10 million of us are regularly drinking alcohol in ways that can harm our health and wellbeing. From headaches\, hangovers and sleepless nights to lower productivity and symptoms like anxiety and depression worsening over time\, alcohol affects us in so many ways. \nBut how many of us have stopped to think about the impact of the work we do on our risk from alcohol? With longer hours\, more stress\, the blurring of lines between work and home\, and too many workplace cultures that place booze rather than people at the centre of things\, there are so many ways work and alcohol are linked. This Alcohol Awareness Week\, it’s time for us\, and the places we work\, to feel healthier\, more productive and happier. \nThe cost of living crisis has also played a key role in causing some people to drink more than they’d like to cope with worries around the crisis. \nBut the cost of alcohol to individuals\, our relationships\, our families\, and our stretched vital public services doesn’t have to be so high. \nWe can all take steps to make a change. And with improved support and prevention\, we can save money and save lives. \nJoin us for this year’s Alcohol Awareness Week to find out more about alcohol and its cost to us all. \nSource: About Alcohol Awareness Week | Alcohol Change UK
URL:https://adoddle.org/events-calendar/alcohol-awareness-week-2/
CATEGORIES:Awareness Week,National,UK
ATTACH;FMTTYPE=image/png:https://adoddle.org/wp-content/uploads/2022/07/Alcohol-AW-Week-2.png
END:VEVENT
BEGIN:VEVENT
DTSTART;VALUE=DATE:20250720
DTEND;VALUE=DATE:20250728
DTSTAMP:20260421T025248
CREATED:20230620T160941Z
LAST-MODIFIED:20250608T115139Z
UID:8190-1752969600-1753660799@adoddle.org
SUMMARY:Shark Week
DESCRIPTION:Shark Week happens every year in July or August. It’s a yearly\, weeklong grouping of shark-related show episodes\, documentaries\, and movies that airs on the #DiscoveryChannel. \nShark week was first aired on the 17th of July 1988 with the purpose to focus on conservational initiatives or addressing myths related to sharks. Moreover\, Shark Week allows the viewers to get a close look at these amazing\, terrifying\, but misunderstood predators. \nHeaps of people grew up harbouring a fascination with sharks and the never-stand-still\, ruthless\, killer instinct they embody. Discovery’s week of programming has become traditional fare for a generation of would-be shark scientists\, in-cage filmmakers\, and thrill-seekers. If you haven’t seen it yet\, don’t miss this year’s #SharkWeek! \n  \n 
URL:https://adoddle.org/events-calendar/shark-week/
CATEGORIES:Awareness Week,International,UK,World
ATTACH;FMTTYPE=image/png:https://adoddle.org/wp-content/uploads/2023/06/Shark-WEek-2.png
END:VEVENT
BEGIN:VEVENT
DTSTART;VALUE=DATE:20250724
DTEND;VALUE=DATE:20250809
DTSTAMP:20260421T025248
CREATED:20220613T072352Z
LAST-MODIFIED:20250701T112245Z
UID:6018-1753315200-1754697599@adoddle.org
SUMMARY:National Marine Week
DESCRIPTION:Contrary to the title\, National Marine Week is celebrated for a fortnight from July 24th to August 8th to appreciate the magnificent sea animals and plants that exist in the United Kingdom on a national scale. \nDuring #NationalMarineWeek\, people from all over the United Kingdom may come out to explore their local shoreline as the retreating sea reveals its treasures. Take time out to protect and appreciate marine life for the next two weeks. \nNational Marine Week was organized to motivate people to better understand and care for the ocean. The holiday encourages us to appreciate and protect our oceans. During National Marine Week\, people take time to focus on how vital the oceans are to humanity\, given that they constitute the largest ecosystem on the planet. In addition to containing 97% of the planet’s water\, they also make up 80% of the planet’s biodiversity\, with more than 30\,000 species. \nSource: NATIONAL MARINE WEEK – July 24\, 2025 – National Today \n 
URL:https://adoddle.org/events-calendar/national-marine-week/
CATEGORIES:Awareness Week,National,UK
ATTACH;FMTTYPE=image/png:https://adoddle.org/wp-content/uploads/2022/06/24-July-8-Aug-National-Marine-Week-FB.png
END:VEVENT
END:VCALENDAR