BEGIN:VCALENDAR
VERSION:2.0
PRODID:-//aDoddle - Community Mapping - ECPv6.15.11//NONSGML v1.0//EN
CALSCALE:GREGORIAN
METHOD:PUBLISH
X-WR-CALNAME:aDoddle - Community Mapping
X-ORIGINAL-URL:https://adoddle.org
X-WR-CALDESC:Events for aDoddle - Community Mapping
REFRESH-INTERVAL;VALUE=DURATION:PT1H
X-Robots-Tag:noindex
X-PUBLISHED-TTL:PT1H
BEGIN:VTIMEZONE
TZID:Europe/London
BEGIN:DAYLIGHT
TZOFFSETFROM:+0000
TZOFFSETTO:+0100
TZNAME:BST
DTSTART:20240331T010000
END:DAYLIGHT
BEGIN:STANDARD
TZOFFSETFROM:+0100
TZOFFSETTO:+0000
TZNAME:GMT
DTSTART:20241027T010000
END:STANDARD
BEGIN:DAYLIGHT
TZOFFSETFROM:+0000
TZOFFSETTO:+0100
TZNAME:BST
DTSTART:20250330T010000
END:DAYLIGHT
BEGIN:STANDARD
TZOFFSETFROM:+0100
TZOFFSETTO:+0000
TZNAME:GMT
DTSTART:20251026T010000
END:STANDARD
BEGIN:DAYLIGHT
TZOFFSETFROM:+0000
TZOFFSETTO:+0100
TZNAME:BST
DTSTART:20260329T010000
END:DAYLIGHT
BEGIN:STANDARD
TZOFFSETFROM:+0100
TZOFFSETTO:+0000
TZNAME:GMT
DTSTART:20261025T010000
END:STANDARD
END:VTIMEZONE
BEGIN:VEVENT
DTSTART;VALUE=DATE:20250914
DTEND;VALUE=DATE:20250921
DTSTAMP:20260421T055243
CREATED:20230825T105443Z
LAST-MODIFIED:20250730T114652Z
UID:8539-1757808000-1758412799@adoddle.org
SUMMARY:National Eczema Week
DESCRIPTION:National Eczema Week is 14th -20th September this year. \nThe More than “Just an Itch” campaign will highlight the debilitating nature of #Eczema and its profound effect on people’s lives\, shining a light on the mental health impacts of eczema that are so often overlooked. \nA recently conducted online patient survey to better understand how eczema affects people’s emotional\, social and personal well-being\, shockingly showed 91% of respondents said their eczema made them feel self-conscious or embarrassed\, and 83% were envious of those who do not have eczema. Around 4 in 5 respondents thought that eczema reduces patients’ quality of life. \nLiving with eczema can be physically uncomfortable\, but it also takes an emotional toll. The persistent itching\, pain\, and visible appearance of eczema patches can lead to feelings of self-consciousness\, low self-esteem\, and social anxiety. People with eczema may experience frustration\, embarrassment\, along with greater anxiety and depression due to the constant struggle with their skin condition – it really is #MoreThanJustAnItch. \nThrough sharing stories of eczema patients’ experiences\, resilience\, and coping mechanisms\, we can help reduce the stigma associated with the condition and foster an environment of empathy and understanding. We also want to encourage and empower people to open up and share how they really feel about living with this long-term condition. \nSource:  National Eczema Society
URL:https://adoddle.org/events-calendar/national-eczema-week/
CATEGORIES:Awareness Week,National,UK
ATTACH;FMTTYPE=image/png:https://adoddle.org/wp-content/uploads/2023/08/National-Eczema-Week-1.png
END:VEVENT
BEGIN:VEVENT
DTSTART;VALUE=DATE:20250919
DTEND;VALUE=DATE:20250929
DTSTAMP:20260421T055243
CREATED:20220702T120017Z
LAST-MODIFIED:20250807T114544Z
UID:6067-1758240000-1759103999@adoddle.org
SUMMARY:Great British Beach Clean
DESCRIPTION:This week is the Great British Beach Clean! \nIt’s an event where people from across the UK come together to tidy up their local beaches. There are hundreds of beach cleans taking place over the week\, so it’s worth checking if there’s one happening in your local area. \nThe week also presents an opportunity to record the levels of litter found on UK beaches. \nThanks to the hard work of volunteers all across the UK and Channel Islands\, 2024 Great British Beach Clean was a smashing success! \nWe were delighted to see even more of you join us at the beach this year\, with 5\,845 volunteers taking part in 476 events to help clean up and survey our coastline. \nA whopping 249\,823 litter items were collected\, weighing 6\,048kg and filling 1\,675 bags! By removing this litter\, our volunteers helped prevent it from entering our ocean and harming our marine life. \nIt’s easy to get involved. Simply find a beach clean near you or organise your own. We’ve got lots of guides and resources available to help you get set up. \nBeach cleans are fun for all the family (including dogs!)\, and the data collected helps us to campaign for positive change for the ocean. \n#GreatBritishBeachClean \nFind out more here: Great British Beach Clean | What you can do | Marine Conservation Society (mcsuk.org)
URL:https://adoddle.org/events-calendar/great-british-beach-clean/
CATEGORIES:Awareness Week,National,UK
ATTACH;FMTTYPE=image/png:https://adoddle.org/wp-content/uploads/2022/06/Sept-9-Great-British-beach-clean-FB.png
END:VEVENT
BEGIN:VEVENT
DTSTART;VALUE=DATE:20250922
DTEND;VALUE=DATE:20250929
DTSTAMP:20260421T055243
CREATED:20230807T152235Z
LAST-MODIFIED:20250807T121511Z
UID:8528-1758499200-1759103999@adoddle.org
SUMMARY:Organ Donation Week
DESCRIPTION:This year\, 2025\, for Organ Donation Week this September we want as many local landmarks and buildings across the country to turn pink\, to help raise awareness of the incredible gift of organ donation\, and to encourage people to confirm their decision on the Register. \nOrgan Donation Week 2025 will be held on Monday 22nd September to Sunday 28th September. \nWe hope you can join us to celebrate the gift of life and help build awareness of the incredible difference organ donation can make. \nThink pink this Organ Donation Week\nOrgan Donation Week is the perfect time for people to confirm their support for organ donation by adding their name and decision to the NHS Organ Donor Register. \nOften\, people need reminding to think or talk about organ donation\, and what better visual prompt than a vibrant pink building? Pink is the colour of the organ donation card and the more buildings lit pink the more awareness raised for this life-saving gift. \n  \nSource:  Turn the skies pink for Organ Donation Week – NHS Blood and Transplant (nhsbt.nhs.uk) \n#ThinkPink #OrganDonation #SaveALife
URL:https://adoddle.org/events-calendar/organ-donation-week/
CATEGORIES:Awareness Week,National,UK
ATTACH;FMTTYPE=image/png:https://adoddle.org/wp-content/uploads/2023/08/Organ-Donation-Week-2.png
END:VEVENT
BEGIN:VEVENT
DTSTART;VALUE=DATE:20250922
DTEND;VALUE=DATE:20250929
DTSTAMP:20260421T055243
CREATED:20230822T103310Z
LAST-MODIFIED:20250818T100446Z
UID:8535-1758499200-1759103999@adoddle.org
SUMMARY:Migraine Awareness Week
DESCRIPTION:For this year’s Migraine Awareness Week (22nd-28th September) The Migraine Trust are asking you to join them in their campaign for #BetterMigraineCare. Help them to raise awareness for the one in seven adults and one in ten children in the UK living with migraine. \n#Migraine has been dismissed for too long as “just a headache”\, despite it being a complex and debilitating neurological disorder. We know that for those living with migraine it has a significant impact on their quality of life\, impacting their mental health\, relationships\, education and their ability to work. \nJoin the #BetterMigraineCare conversation on social media and share your experience of living with migraine for #MAW25 \n#MigraineAwarenessWeek #MoreThanJustAHeadache \nSource: Migraine Awareness Week 2025 – The Migraine Trust
URL:https://adoddle.org/events-calendar/migraine-awareness-week/
CATEGORIES:Awareness Week,National,UK
ATTACH;FMTTYPE=image/png:https://adoddle.org/wp-content/uploads/2023/08/Migraine-AW-Week-2.png
END:VEVENT
END:VCALENDAR