BEGIN:VCALENDAR
VERSION:2.0
PRODID:-//aDoddle - Community Mapping - ECPv6.15.11//NONSGML v1.0//EN
CALSCALE:GREGORIAN
METHOD:PUBLISH
X-ORIGINAL-URL:https://adoddle.org
X-WR-CALDESC:Events for aDoddle - Community Mapping
REFRESH-INTERVAL;VALUE=DURATION:PT1H
X-Robots-Tag:noindex
X-PUBLISHED-TTL:PT1H
BEGIN:VTIMEZONE
TZID:Europe/London
BEGIN:DAYLIGHT
TZOFFSETFROM:+0000
TZOFFSETTO:+0100
TZNAME:BST
DTSTART:20240331T010000
END:DAYLIGHT
BEGIN:STANDARD
TZOFFSETFROM:+0100
TZOFFSETTO:+0000
TZNAME:GMT
DTSTART:20241027T010000
END:STANDARD
BEGIN:DAYLIGHT
TZOFFSETFROM:+0000
TZOFFSETTO:+0100
TZNAME:BST
DTSTART:20250330T010000
END:DAYLIGHT
BEGIN:STANDARD
TZOFFSETFROM:+0100
TZOFFSETTO:+0000
TZNAME:GMT
DTSTART:20251026T010000
END:STANDARD
BEGIN:DAYLIGHT
TZOFFSETFROM:+0000
TZOFFSETTO:+0100
TZNAME:BST
DTSTART:20260329T010000
END:DAYLIGHT
BEGIN:STANDARD
TZOFFSETFROM:+0100
TZOFFSETTO:+0000
TZNAME:GMT
DTSTART:20261025T010000
END:STANDARD
END:VTIMEZONE
BEGIN:VEVENT
DTSTART;VALUE=DATE:20251006
DTEND;VALUE=DATE:20251013
DTSTAMP:20260421T071456
CREATED:20220702T143041Z
LAST-MODIFIED:20250910T113124Z
UID:6104-1759708800-1760313599@adoddle.org
SUMMARY:Dyslexia Awareness Week
DESCRIPTION:Dyslexia is a neurological difference and can have a significant impact during education\, in the workplace and in everyday life. As each person is unique\, so is everyone’s experience of dyslexia. It can range from mild to severe\, and it can co-occur with other specific learning difficulties. It usually runs in families and is a life-long condition. \nIt is important to remember that there are positives to thinking differently. Many dyslexic people show strengths in areas such as reasoning and in visual and creative fields. \nThe theme for the week will be Dyslexia: Raising the Volume. \nEvery story is different – showcasing the diversity of the dyslexic community and highlighting that everyone’s experience of dyslexia is unique. 10% of the population are dyslexic – that’s over 6.7 million stories to tell. \nA strong opening sets the scene – raising awareness of the importance of early identification and intervention to ensure that every person with dyslexia can flourish. \nIt’s never too late to change your story – highlighting how the BDA can provide support and signposting to help dyslexic people begin a new chapter. \nIn the spirit of breaking through the barriers of #Dyslexia\, we’d like to share methods for supporting people with dyslexia. According to the NHS\, the following methods are how best to support a child with dyslexia: \n\noccasional 1-to-1 teaching or lessons in a small group with a specialist teacher\nphonics (a way of teaching children to identify and process the smaller sounds that make up words) combined with other techniques\ntechnology like computers and speech-recognition software that may make it easier for your child to read and write when they’re a bit older\n\nSource: NHS \nSource: Dyslexia Awareness Week – British Dyslexia Association (bdadyslexia.org.uk)
URL:https://adoddle.org/events-calendar/dyslexia-awareness-week/
CATEGORIES:Awareness Week,National,UK
ATTACH;FMTTYPE=image/png:https://adoddle.org/wp-content/uploads/2021/10/Oct-4-10-Dyslexia-Week-FB.png
END:VEVENT
BEGIN:VEVENT
DTSTART;VALUE=DATE:20251009
DTEND;VALUE=DATE:20251016
DTSTAMP:20260421T071456
CREATED:20230918T094516Z
LAST-MODIFIED:20250831T120728Z
UID:8688-1759968000-1760572799@adoddle.org
SUMMARY:Baby Loss Awareness Week
DESCRIPTION:What is Baby Loss Awareness Week?\n\nBaby Loss Awareness Week happens every year between 9th and 15th October. We raise awareness of baby loss and campaign for the provision of better bereavement care. \nThe final day of the week\, 15th October\, is International Pregnancy and Infant Loss Awareness Day. This is marked by the #GlobalWaveOfLight where families across the world light candles to commemorate the lives of their babies\, and share memories of the all too brief time they had together. \nThe aims of Baby Loss Awareness Week:\nUnited by the blue and pink ribbon\, we work with an alliance of over 100 charities to: \n\nRemember\nRaise awareness\nDrive change\n\n\n#BabyLoss #BabyLossAwarenessWeek \nSource:  Baby Loss Awareness Week | The Lullaby Trust
URL:https://adoddle.org/events-calendar/baby-loss-awareness-week/
CATEGORIES:Awareness Week,UK
ATTACH;FMTTYPE=image/png:https://adoddle.org/wp-content/uploads/2023/09/Baby-Loss-Awareness-Week.png
END:VEVENT
BEGIN:VEVENT
DTSTART;VALUE=DATE:20251025
DTEND;VALUE=DATE:20251102
DTSTAMP:20260421T071456
CREATED:20220724T105959Z
LAST-MODIFIED:20250918T112618Z
UID:6233-1761350400-1762041599@adoddle.org
SUMMARY:World Brain Tumour Awareness Week
DESCRIPTION:This Brain Tumour Awareness Week\, take the time to learn the symptoms of #BrainTumours. \nAccording to the NHS\, the symptoms of brain tumours may vary depending on the exact part of the brain affected\, but common symptoms include: \n\nheadaches\nseizures (fits)\npersistently feeling sick (nausea)\, being sick (vomiting) and drowsiness\nmental or behavioural changes\, such as memory problems or changes in personality\nprogressive weakness or paralysis on one side of the body\nvision or speech problems\n\nSometimes you may not have any symptoms to begin with\, or they may develop very slowly over time. \nIf you’re suffering from a brain tumour\, support is out there. Take a look on the community map to find organisations near you. \nFind out more from the International Brain Tumour Alliance: https://theibta.org/
URL:https://adoddle.org/events-calendar/world-brain-tumour-awareness-week-2/
CATEGORIES:Awareness Week,International,World
ATTACH;FMTTYPE=image/png:https://adoddle.org/wp-content/uploads/2022/07/Oct-Nov-World-Brain-Tumour-AW-FB.png
END:VEVENT
END:VCALENDAR