BEGIN:VCALENDAR
VERSION:2.0
PRODID:-//aDoddle - Community Mapping - ECPv6.15.11//NONSGML v1.0//EN
CALSCALE:GREGORIAN
METHOD:PUBLISH
X-ORIGINAL-URL:https://adoddle.org
X-WR-CALDESC:Events for aDoddle - Community Mapping
REFRESH-INTERVAL;VALUE=DURATION:PT1H
X-Robots-Tag:noindex
X-PUBLISHED-TTL:PT1H
BEGIN:VTIMEZONE
TZID:Europe/London
BEGIN:DAYLIGHT
TZOFFSETFROM:+0000
TZOFFSETTO:+0100
TZNAME:BST
DTSTART:20230326T010000
END:DAYLIGHT
BEGIN:STANDARD
TZOFFSETFROM:+0100
TZOFFSETTO:+0000
TZNAME:GMT
DTSTART:20231029T010000
END:STANDARD
BEGIN:DAYLIGHT
TZOFFSETFROM:+0000
TZOFFSETTO:+0100
TZNAME:BST
DTSTART:20240331T010000
END:DAYLIGHT
BEGIN:STANDARD
TZOFFSETFROM:+0100
TZOFFSETTO:+0000
TZNAME:GMT
DTSTART:20241027T010000
END:STANDARD
BEGIN:DAYLIGHT
TZOFFSETFROM:+0000
TZOFFSETTO:+0100
TZNAME:BST
DTSTART:20250330T010000
END:DAYLIGHT
BEGIN:STANDARD
TZOFFSETFROM:+0100
TZOFFSETTO:+0000
TZNAME:GMT
DTSTART:20251026T010000
END:STANDARD
END:VTIMEZONE
BEGIN:VEVENT
DTSTART;VALUE=DATE:20240617
DTEND;VALUE=DATE:20240624
DTSTAMP:20260421T014216
CREATED:20230511T142602Z
LAST-MODIFIED:20240515T095352Z
UID:8108-1718582400-1719187199@adoddle.org
SUMMARY:Cervical Screening Awareness Week
DESCRIPTION:Every year\, during Cervical Screening Awareness Week Jo’s Cervical Cancer Trust raise awareness and share information about cervical screening (smear tests) including tips\, experiences\, and they work with experts to help those who find cervical screening difficult. \nThey want every woman and person with a cervix to know where they can get information and support about cervical screening\, and need your help to make sure this is shared far and wide! \nStatistics show that 1 in 3 people don’t go to their cervical screening appointment due to embarrassment or fear. There’s a lot of built-up stigma around the test\, but it’s one that’s vitally important. \n  \n#SmearTest #WomensHealth #CervicalScreeningAwarenessWeek  #CSAW24 \n  \nSource: Cervical Screening Awareness Week | Jo’s Cervical Cancer Trust (jostrust.org.uk)
URL:https://adoddle.org/events-calendar/cervical-screening-awareness-week/
CATEGORIES:Awareness Week,National,UK
ATTACH;FMTTYPE=image/png:https://adoddle.org/wp-content/uploads/2023/05/Cervical-Screen-Week.png
END:VEVENT
END:VCALENDAR