BEGIN:VCALENDAR
VERSION:2.0
PRODID:-//aDoddle - Community Mapping - ECPv6.15.11//NONSGML v1.0//EN
CALSCALE:GREGORIAN
METHOD:PUBLISH
X-WR-CALNAME:aDoddle - Community Mapping
X-ORIGINAL-URL:https://adoddle.org
X-WR-CALDESC:Events for aDoddle - Community Mapping
REFRESH-INTERVAL;VALUE=DURATION:PT1H
X-Robots-Tag:noindex
X-PUBLISHED-TTL:PT1H
BEGIN:VTIMEZONE
TZID:Europe/London
BEGIN:DAYLIGHT
TZOFFSETFROM:+0000
TZOFFSETTO:+0100
TZNAME:BST
DTSTART:20240331T010000
END:DAYLIGHT
BEGIN:STANDARD
TZOFFSETFROM:+0100
TZOFFSETTO:+0000
TZNAME:GMT
DTSTART:20241027T010000
END:STANDARD
BEGIN:DAYLIGHT
TZOFFSETFROM:+0000
TZOFFSETTO:+0100
TZNAME:BST
DTSTART:20250330T010000
END:DAYLIGHT
BEGIN:STANDARD
TZOFFSETFROM:+0100
TZOFFSETTO:+0000
TZNAME:GMT
DTSTART:20251026T010000
END:STANDARD
BEGIN:DAYLIGHT
TZOFFSETFROM:+0000
TZOFFSETTO:+0100
TZNAME:BST
DTSTART:20260329T010000
END:DAYLIGHT
BEGIN:STANDARD
TZOFFSETFROM:+0100
TZOFFSETTO:+0000
TZNAME:GMT
DTSTART:20261025T010000
END:STANDARD
END:VTIMEZONE
BEGIN:VEVENT
DTSTART;VALUE=DATE:20250505
DTEND;VALUE=DATE:20250512
DTSTAMP:20260421T013054
CREATED:20220430T045235Z
LAST-MODIFIED:20250411T121133Z
UID:5440-1746403200-1747007999@adoddle.org
SUMMARY:Children's Book Week
DESCRIPTION:It’s Children’s Book Week! An annual celebration of books for young people and the joy of reading. Running from May 5th-11th 2025. \nEstablished in 1919\, Children’s Book Week is the longest-running national literacy initiative in the country. Every year\, young people across the country participate by attending events at schools\, libraries\, bookstores\, celebrating at home\, and engaging with book creators both online and in person. \nLiteracy can be life changing\, and that’s why it’s so important to encourage our children to read. It sets them up for a better future\, where they better understand the world around them. \n  \n#ChildrensBookWeek #JoyOfReading #Literacy \nSource* \nhttps://everychildareader.net/cbw/about/ 
URL:https://adoddle.org/events-calendar/childrens-book-week/
CATEGORIES:Awareness Week,International,World
ATTACH;FMTTYPE=image/png:https://adoddle.org/wp-content/uploads/2022/04/3rd-9th-May-Childrens-Book-Week-IG.png
END:VEVENT
BEGIN:VEVENT
DTSTART;VALUE=DATE:20250505
DTEND;VALUE=DATE:20250512
DTSTAMP:20260421T013054
CREATED:20230424T192907Z
LAST-MODIFIED:20250331T161541Z
UID:7681-1746403200-1747007999@adoddle.org
SUMMARY:Deaf Awareness Week
DESCRIPTION:This year’s Deaf Awareness Week runs  5th – 11th May 2025\nThe theme for Deaf Awareness Week 2025 in the UK is “Beyond Silence.” This powerful theme highlights the importance of looking beyond the common misconceptions about deafness and recognising the rich experiences\, identities\, and contributions of Deaf individuals in society. \n“Beyond Silence” encourages greater understanding of the diverse ways in which Deaf and hard-of-hearing people communicate\, from British Sign Language (BSL) to lip-reading\, written communication\, and assistive technology. It also sheds light on the social\, cultural\, and professional barriers that many Deaf individuals face\, advocating for improved accessibility\, inclusivity\, and equal opportunities. \nThis year’s campaign calls on individuals\, organisations\, and communities to go beyond simply acknowledging deafness and actively work towards meaningful change. By promoting BSL learning\, improving workplace accessibility\, ensuring equal access to education\, and fostering more inclusive public spaces\, we can build a society where Deaf people are truly heard\, valued\, and empowered. \nDeaf Awareness Week 2025 is an opportunity for everyone to reflect\, learn\, and take action—because inclusion goes beyond just breaking the silence; it’s about amplifying voices\, stories\, and rights. \nHappy Deaf Awareness Week 2025 ! \n#BeyondSilence \nSource:  Deaf Awareness Week – Deafness Resource Centre \n 
URL:https://adoddle.org/events-calendar/deaf-awareness-week/
CATEGORIES:Awareness Week,National,UK
ATTACH;FMTTYPE=image/png:https://adoddle.org/wp-content/uploads/2023/04/Deaf-AW-Week.png
END:VEVENT
END:VCALENDAR