BEGIN:VCALENDAR
VERSION:2.0
PRODID:-//aDoddle - Community Mapping - ECPv6.15.11//NONSGML v1.0//EN
CALSCALE:GREGORIAN
METHOD:PUBLISH
X-ORIGINAL-URL:https://adoddle.org
X-WR-CALDESC:Events for aDoddle - Community Mapping
REFRESH-INTERVAL;VALUE=DURATION:PT1H
X-Robots-Tag:noindex
X-PUBLISHED-TTL:PT1H
BEGIN:VTIMEZONE
TZID:Europe/London
BEGIN:DAYLIGHT
TZOFFSETFROM:+0000
TZOFFSETTO:+0100
TZNAME:BST
DTSTART:20240331T010000
END:DAYLIGHT
BEGIN:STANDARD
TZOFFSETFROM:+0100
TZOFFSETTO:+0000
TZNAME:GMT
DTSTART:20241027T010000
END:STANDARD
BEGIN:DAYLIGHT
TZOFFSETFROM:+0000
TZOFFSETTO:+0100
TZNAME:BST
DTSTART:20250330T010000
END:DAYLIGHT
BEGIN:STANDARD
TZOFFSETFROM:+0100
TZOFFSETTO:+0000
TZNAME:GMT
DTSTART:20251026T010000
END:STANDARD
BEGIN:DAYLIGHT
TZOFFSETFROM:+0000
TZOFFSETTO:+0100
TZNAME:BST
DTSTART:20260329T010000
END:DAYLIGHT
BEGIN:STANDARD
TZOFFSETFROM:+0100
TZOFFSETTO:+0000
TZNAME:GMT
DTSTART:20261025T010000
END:STANDARD
END:VTIMEZONE
BEGIN:VEVENT
DTSTART;VALUE=DATE:20250607
DTEND;VALUE=DATE:20250616
DTSTAMP:20260421T030130
CREATED:20220521T063222Z
LAST-MODIFIED:20250503T111844Z
UID:5743-1749254400-1750031999@adoddle.org
SUMMARY:British Heart Week
DESCRIPTION:This week is #BritishHeartWeek\, which aims to spread awareness of heart diseases and help people get the right treatment. \nBritish Heart Week is observed from 7 to 15 June. The reason for this observation is to spread awareness about heart diseases and help people get the right treatment. The British Heart Foundation is U.K.’s heart charity that founded the British Heart Week. \nHeart diseases are one of the country’s leading diseases that is responsible for every 1 in 4 deaths. The week-long observation is also a tribute to the medical professionals for their continuous research of the heart. \nIt’s important to know the signs of heart disease to ensure early diagnosis and treatment\, the most common of which\, according to the NHS are chest pain and breathlessness. \n  \n 
URL:https://adoddle.org/events-calendar/british-heart-week/
CATEGORIES:Awareness Week,National,UK
ATTACH;FMTTYPE=image/png:https://adoddle.org/wp-content/uploads/2022/05/7-15-Jun-British-Heart-Week-IG-e1653114696828.png
END:VEVENT
BEGIN:VEVENT
DTSTART;VALUE=DATE:20250609
DTEND;VALUE=DATE:20250616
DTSTAMP:20260421T030130
CREATED:20220603T092058Z
LAST-MODIFIED:20250502T120612Z
UID:5972-1749427200-1750031999@adoddle.org
SUMMARY:Men's Health Week
DESCRIPTION:Men’s Health Week takes place annually during the week leading up to Father’s Day\, focusing on raising awareness about the health challenges men face and encouraging them to prioritise their well-being. \nThe week highlights the importance of addressing physical and mental health issues among men. It aims to reduce stigma\, promote regular health check-ups\, and provide resources to support healthier lifestyles. With many men often reluctant to seek medical advice\, this week creates a platform to spark conversations about health and well-being. \nEach year\, the campaign has a specific theme\, tackling issues such as mental health\, heart disease\, prostate cancer\, or obesity. By focusing on education and prevention\, it empowers men to take proactive steps toward healthier living. \nTo bring the importance of Men’s Health Week to your social media\, here are some content ideas: \n\nShare statistics on men’s health issues\, such as life expectancy\, mental health\, or chronic illnesses.\nPost a list of symptoms men should never ignore and encourage routine check-ups.\nHighlight the importance of mental health and provide tips for stress management.\nShare inspiring stories of men who have improved their health through lifestyle changes.\nOrganise or promote local events such as health screenings or fitness challenges.\nShare tips for adopting healthier habits\, such as better nutrition or increased physical activity.\n\n#MensHealthWeek #HealthAwareness #MensMentalHealth #ProstateCancerAwareness #MenMatter #HealthyLiving #PreventativeCare #MensFitness #MenWellness #RoutineCheckUps #HealthyHabits #StressManagement #MensHealthMatters #PhysicalHealth #MentalHealthAwareness #HeartHealth #MensWellbeing #WellnessJourney #HealthyLifestyle #MensHealthAwareness2025 \nFind out more about Men’s Health Week: https://www.menshealthforum.org.uk/mhw
URL:https://adoddle.org/events-calendar/mens-health-week/
CATEGORIES:Awareness Week,National,UK
ATTACH;FMTTYPE=image/jpeg:https://adoddle.org/wp-content/uploads/2022/06/13-19-Jun-Mens-Health-Week-FB.jpg
END:VEVENT
BEGIN:VEVENT
DTSTART;VALUE=DATE:20250609
DTEND;VALUE=DATE:20250616
DTSTAMP:20260421T030130
CREATED:20220521T063400Z
LAST-MODIFIED:20250428T103752Z
UID:5746-1749427200-1750031999@adoddle.org
SUMMARY:Loneliness Awareness Week
DESCRIPTION:This week is #LonelinessAwarenessWeek\, where the aim is to shine a spotlight on the importance of talking openly about #Loneliness. \n\nConnection matters.It’s what makes us human.\n\n\nWhether it’s your regular barista\, the friendly dog on your walk\, or the shopkeeper down the road\, everyday moments of connection matter. They allow us to make connections\, feel happier and less lonely. \nMeeting Loneliness Together\, this year’s theme\, is all about reducing the stigma around this natural human emotion.  \n\n#ConnectionMatters #FeelLessLonely #ReduceIsolation \n\nSource: Home | Loneliness Awareness Week
URL:https://adoddle.org/events-calendar/loneliness-awareness-week/
CATEGORIES:Awareness Week,National,UK
ATTACH;FMTTYPE=image/jpeg:https://adoddle.org/wp-content/uploads/2022/05/14-18-Jun-Loneliness-Awareness-Week-IG-e1653114821358.jpg
END:VEVENT
BEGIN:VEVENT
DTSTART;VALUE=DATE:20250609
DTEND;VALUE=DATE:20250616
DTSTAMP:20260421T030130
CREATED:20220521T062852Z
LAST-MODIFIED:20250513T121330Z
UID:5689-1749427200-1750031999@adoddle.org
SUMMARY:Bike Week
DESCRIPTION:In 2025\, Bike Week takes place 9th-15th June. \nBike Week is the UK’s biggest awareness-raising moment of the year for cycling and a chance to celebrate. It’s a time to remind ourselves of all the positives that riding a bike can bring\, both to our own health and wellbeing\, as well as the wider impacts on our communities and the planet. \nWhether you ride every day or haven’t cycled in years\, Bike Week is all about showcasing how cycling can fit into daily life – for everyone. \nBike Week shines a spotlight on the many ways cycling benefits us all – from boosting health and wellbeing to cutting carbon emissions and creating more connected communities. It’s a week to celebrate the simple joy of getting on a bike and to inspire others to give it a go. \nThis week is packed with ways to get involved – why not consider attending one of The Big Bike Revival sessions? Running from April to October\, The Big Bike Revival offers free local cycling sessions to help adults build skills and confidence. Delivered by grassroots organisations in accessible community spaces like parks\, high streets and local venues\, these sessions include learning to ride\, basic maintenance\, free bike checks and short led rides. It’s a great opportunity to dust off your bike\, pick up some new skills and enjoy the ride! \nThis year\, we’re also inviting everyone to take part in the Big Bike Brunch! It’s the perfect way to celebrate Bike Week. \nSource: Bike Week 2025 | Cycling UK
URL:https://adoddle.org/events-calendar/bike-week/
CATEGORIES:Awareness Week,National,UK
ATTACH;FMTTYPE=image/png:https://adoddle.org/wp-content/uploads/2022/05/Bike-Week-2.png
END:VEVENT
BEGIN:VEVENT
DTSTART;VALUE=DATE:20250609
DTEND;VALUE=DATE:20250616
DTSTAMP:20260421T030130
CREATED:20220528T094644Z
LAST-MODIFIED:20250424T114341Z
UID:5786-1749427200-1750031999@adoddle.org
SUMMARY:Carers Week
DESCRIPTION:This week is #CarersWeek \nCarers Week is an annual campaign to raise awareness of caring\, highlight the challenges unpaid carers face and recognise the contribution they make to families and communities throughout the UK. It also helps people who don’t think of themselves as having caring responsibilities to identify as carers and access much-needed support. \nThe campaign is brought to life by thousands of individuals and organisations who come together to provide support for #Carers\, run activities\, highlight the vital role carers play in our communities and draw attention to just how important caring is. \nThis year the theme is ‘Caring About Equality‘ highlighting the inequalities faced by unpaid carers\, including a greater risk of poverty\, social isolation\, poor mental and physical health. Far too often\, carers of all-ages miss out on opportunities in their education\, careers\, or personal lives\, just because of their caring role. Get involved in Carers Week 2025\, and together let’s work towards an equal society\, where carers are truly valued\, recognised and supported. \n  \n#CarersSupport #SupportUnpaidCarers #PeopleHelpingPeople \n  \nFind out more: https://www.carersweek.org/ \n 
URL:https://adoddle.org/events-calendar/carers-week/
CATEGORIES:Awareness Week,National,UK
ATTACH;FMTTYPE=image/png:https://adoddle.org/wp-content/uploads/2022/05/6-12-Jun-Carers-Week-FB.png
END:VEVENT
END:VCALENDAR