BEGIN:VCALENDAR
VERSION:2.0
PRODID:-//aDoddle - Community Mapping - ECPv6.15.11//NONSGML v1.0//EN
CALSCALE:GREGORIAN
METHOD:PUBLISH
X-WR-CALNAME:aDoddle - Community Mapping
X-ORIGINAL-URL:https://adoddle.org
X-WR-CALDESC:Events for aDoddle - Community Mapping
REFRESH-INTERVAL;VALUE=DURATION:PT1H
X-Robots-Tag:noindex
X-PUBLISHED-TTL:PT1H
BEGIN:VTIMEZONE
TZID:Europe/London
BEGIN:DAYLIGHT
TZOFFSETFROM:+0000
TZOFFSETTO:+0100
TZNAME:BST
DTSTART:20240331T010000
END:DAYLIGHT
BEGIN:STANDARD
TZOFFSETFROM:+0100
TZOFFSETTO:+0000
TZNAME:GMT
DTSTART:20241027T010000
END:STANDARD
BEGIN:DAYLIGHT
TZOFFSETFROM:+0000
TZOFFSETTO:+0100
TZNAME:BST
DTSTART:20250330T010000
END:DAYLIGHT
BEGIN:STANDARD
TZOFFSETFROM:+0100
TZOFFSETTO:+0000
TZNAME:GMT
DTSTART:20251026T010000
END:STANDARD
BEGIN:DAYLIGHT
TZOFFSETFROM:+0000
TZOFFSETTO:+0100
TZNAME:BST
DTSTART:20260329T010000
END:DAYLIGHT
BEGIN:STANDARD
TZOFFSETFROM:+0100
TZOFFSETTO:+0000
TZNAME:GMT
DTSTART:20261025T010000
END:STANDARD
END:VTIMEZONE
BEGIN:VEVENT
DTSTART;VALUE=DATE:20250616
DTEND;VALUE=DATE:20250623
DTSTAMP:20260421T030036
CREATED:20220607T183908Z
LAST-MODIFIED:20250513T115639Z
UID:5993-1750032000-1750636799@adoddle.org
SUMMARY:Refugee Week
DESCRIPTION:Refugee Week\nFor Refugee Week we invite you to celebrate what compassion looks like in action. Together we can create a shared understanding of compassion to ensure we are extending it widely to all. \n“Our task must be to free ourselves – by widening our circles of compassion to embrace all living creatures and the whole of nature in its beauty.”- Albert Einstein \nWhy compassion?\nThe last few years have been challenging for all of us. We are still adjusting to new realities post-lockdown as well as responding to new crises. In the UK\, dangerous anti-migration government rhetoric continues\, along with inhumane conditions for #AsylumSeekers.\n \nBut\, none of these things happen in isolation. We know how interconnected our world is: how something seemingly “far away” impacts everyone. All of this makes us even more aware of the need to widen our circles of compassion. \nWithin our own experiences are all the tools we need to be compassionate\, not just to ourselves and those in our immediate circle but to all our human neighbours and our one shared home\, planet earth. \n*Source and find out more:  About – Refugee Week \n#RefugeeWeek #Compassion #CompassionIntoAction #SimpleActs
URL:https://adoddle.org/events-calendar/refugee-week/
CATEGORIES:Awareness Week,National,UK
ATTACH;FMTTYPE=image/png:https://adoddle.org/wp-content/uploads/2022/06/Refugee-Week-1.png
END:VEVENT
BEGIN:VEVENT
DTSTART;VALUE=DATE:20250616
DTEND;VALUE=DATE:20250623
DTSTAMP:20260421T030036
CREATED:20230531T090237Z
LAST-MODIFIED:20250519T100401Z
UID:8139-1750032000-1750636799@adoddle.org
SUMMARY:Learning Disability Week
DESCRIPTION:This week is Learning Disability Week! \nThe theme for this year’s Learning Disability Week is “Do you see me?” \nPeople with a learning disability want to be seen\, heard and valued.\n\n\n\n\nThat’s why we’re calling for a change to improve statistics like these:\n\n\n\nOnly 26.7% of adults with a learning disability are employed yet 86% of unemployed people with a learning disability want a paid job\n1 in 3 people with a learning disability spend less than 1 hour outside their home on a typical Saturday\nOver 2\,00 people with a learning disability and/ or autistic people are currently locked away in mental health hospitals.\n\n\n\n\n\nThis year Mencap want to show the world the incredible things that people with a learning disability can achieve\, smashing misconceptions about what people can do and shining a light on the stigma many still face every day. \nThey want to show that people are so much more than a learning disability – and this is the week for everyone in our community to make some noise about their amazing achievements\, tremendous talents\, and issues that matter most. \n#LDWeek #AutismSupport #DisabilitySupport #LearningDisabilities #DoYouSeeMe \n  \nSource:  Learning Disability Week | Mencap \n 
URL:https://adoddle.org/events-calendar/learning-disability-week/
CATEGORIES:Awareness Week,National,UK
ATTACH;FMTTYPE=image/png:https://adoddle.org/wp-content/uploads/2023/05/Learning-Disability-Week-1.png
END:VEVENT
END:VCALENDAR