BEGIN:VCALENDAR
VERSION:2.0
PRODID:-//aDoddle - Community Mapping - ECPv6.15.11//NONSGML v1.0//EN
CALSCALE:GREGORIAN
METHOD:PUBLISH
X-WR-CALNAME:aDoddle - Community Mapping
X-ORIGINAL-URL:https://adoddle.org
X-WR-CALDESC:Events for aDoddle - Community Mapping
REFRESH-INTERVAL;VALUE=DURATION:PT1H
X-Robots-Tag:noindex
X-PUBLISHED-TTL:PT1H
BEGIN:VTIMEZONE
TZID:Europe/London
BEGIN:DAYLIGHT
TZOFFSETFROM:+0000
TZOFFSETTO:+0100
TZNAME:BST
DTSTART:20240331T010000
END:DAYLIGHT
BEGIN:STANDARD
TZOFFSETFROM:+0100
TZOFFSETTO:+0000
TZNAME:GMT
DTSTART:20241027T010000
END:STANDARD
BEGIN:DAYLIGHT
TZOFFSETFROM:+0000
TZOFFSETTO:+0100
TZNAME:BST
DTSTART:20250330T010000
END:DAYLIGHT
BEGIN:STANDARD
TZOFFSETFROM:+0100
TZOFFSETTO:+0000
TZNAME:GMT
DTSTART:20251026T010000
END:STANDARD
BEGIN:DAYLIGHT
TZOFFSETFROM:+0000
TZOFFSETTO:+0100
TZNAME:BST
DTSTART:20260329T010000
END:DAYLIGHT
BEGIN:STANDARD
TZOFFSETFROM:+0100
TZOFFSETTO:+0000
TZNAME:GMT
DTSTART:20261025T010000
END:STANDARD
END:VTIMEZONE
BEGIN:VEVENT
DTSTART;VALUE=DATE:20250720
DTEND;VALUE=DATE:20250728
DTSTAMP:20260421T041333
CREATED:20230620T160941Z
LAST-MODIFIED:20250608T115139Z
UID:8190-1752969600-1753660799@adoddle.org
SUMMARY:Shark Week
DESCRIPTION:Shark Week happens every year in July or August. It’s a yearly\, weeklong grouping of shark-related show episodes\, documentaries\, and movies that airs on the #DiscoveryChannel. \nShark week was first aired on the 17th of July 1988 with the purpose to focus on conservational initiatives or addressing myths related to sharks. Moreover\, Shark Week allows the viewers to get a close look at these amazing\, terrifying\, but misunderstood predators. \nHeaps of people grew up harbouring a fascination with sharks and the never-stand-still\, ruthless\, killer instinct they embody. Discovery’s week of programming has become traditional fare for a generation of would-be shark scientists\, in-cage filmmakers\, and thrill-seekers. If you haven’t seen it yet\, don’t miss this year’s #SharkWeek! \n  \n 
URL:https://adoddle.org/events-calendar/shark-week/
CATEGORIES:Awareness Week,International,UK,World
ATTACH;FMTTYPE=image/png:https://adoddle.org/wp-content/uploads/2023/06/Shark-WEek-2.png
END:VEVENT
END:VCALENDAR