BEGIN:VCALENDAR
VERSION:2.0
PRODID:-//aDoddle - Community Mapping - ECPv6.15.11//NONSGML v1.0//EN
CALSCALE:GREGORIAN
METHOD:PUBLISH
X-WR-CALNAME:aDoddle - Community Mapping
X-ORIGINAL-URL:https://adoddle.org
X-WR-CALDESC:Events for aDoddle - Community Mapping
REFRESH-INTERVAL;VALUE=DURATION:PT1H
X-Robots-Tag:noindex
X-PUBLISHED-TTL:PT1H
BEGIN:VTIMEZONE
TZID:Europe/London
BEGIN:DAYLIGHT
TZOFFSETFROM:+0000
TZOFFSETTO:+0100
TZNAME:BST
DTSTART:20240331T010000
END:DAYLIGHT
BEGIN:STANDARD
TZOFFSETFROM:+0100
TZOFFSETTO:+0000
TZNAME:GMT
DTSTART:20241027T010000
END:STANDARD
BEGIN:DAYLIGHT
TZOFFSETFROM:+0000
TZOFFSETTO:+0100
TZNAME:BST
DTSTART:20250330T010000
END:DAYLIGHT
BEGIN:STANDARD
TZOFFSETFROM:+0100
TZOFFSETTO:+0000
TZNAME:GMT
DTSTART:20251026T010000
END:STANDARD
BEGIN:DAYLIGHT
TZOFFSETFROM:+0000
TZOFFSETTO:+0100
TZNAME:BST
DTSTART:20260329T010000
END:DAYLIGHT
BEGIN:STANDARD
TZOFFSETFROM:+0100
TZOFFSETTO:+0000
TZNAME:GMT
DTSTART:20261025T010000
END:STANDARD
END:VTIMEZONE
BEGIN:VEVENT
DTSTART;VALUE=DATE:20251025
DTEND;VALUE=DATE:20251102
DTSTAMP:20260421T083310
CREATED:20220724T105959Z
LAST-MODIFIED:20250918T112618Z
UID:6233-1761350400-1762041599@adoddle.org
SUMMARY:World Brain Tumour Awareness Week
DESCRIPTION:This Brain Tumour Awareness Week\, take the time to learn the symptoms of #BrainTumours. \nAccording to the NHS\, the symptoms of brain tumours may vary depending on the exact part of the brain affected\, but common symptoms include: \n\nheadaches\nseizures (fits)\npersistently feeling sick (nausea)\, being sick (vomiting) and drowsiness\nmental or behavioural changes\, such as memory problems or changes in personality\nprogressive weakness or paralysis on one side of the body\nvision or speech problems\n\nSometimes you may not have any symptoms to begin with\, or they may develop very slowly over time. \nIf you’re suffering from a brain tumour\, support is out there. Take a look on the community map to find organisations near you. \nFind out more from the International Brain Tumour Alliance: https://theibta.org/
URL:https://adoddle.org/events-calendar/world-brain-tumour-awareness-week-2/
CATEGORIES:Awareness Week,International,World
ATTACH;FMTTYPE=image/png:https://adoddle.org/wp-content/uploads/2022/07/Oct-Nov-World-Brain-Tumour-AW-FB.png
END:VEVENT
END:VCALENDAR