BEGIN:VCALENDAR
VERSION:2.0
PRODID:-//aDoddle - Community Mapping - ECPv6.15.11//NONSGML v1.0//EN
CALSCALE:GREGORIAN
METHOD:PUBLISH
X-WR-CALNAME:aDoddle - Community Mapping
X-ORIGINAL-URL:https://adoddle.org
X-WR-CALDESC:Events for aDoddle - Community Mapping
REFRESH-INTERVAL;VALUE=DURATION:PT1H
X-Robots-Tag:noindex
X-PUBLISHED-TTL:PT1H
BEGIN:VTIMEZONE
TZID:Europe/London
BEGIN:DAYLIGHT
TZOFFSETFROM:+0000
TZOFFSETTO:+0100
TZNAME:BST
DTSTART:20240331T010000
END:DAYLIGHT
BEGIN:STANDARD
TZOFFSETFROM:+0100
TZOFFSETTO:+0000
TZNAME:GMT
DTSTART:20241027T010000
END:STANDARD
BEGIN:DAYLIGHT
TZOFFSETFROM:+0000
TZOFFSETTO:+0100
TZNAME:BST
DTSTART:20250330T010000
END:DAYLIGHT
BEGIN:STANDARD
TZOFFSETFROM:+0100
TZOFFSETTO:+0000
TZNAME:GMT
DTSTART:20251026T010000
END:STANDARD
BEGIN:DAYLIGHT
TZOFFSETFROM:+0000
TZOFFSETTO:+0100
TZNAME:BST
DTSTART:20260329T010000
END:DAYLIGHT
BEGIN:STANDARD
TZOFFSETFROM:+0100
TZOFFSETTO:+0000
TZNAME:GMT
DTSTART:20261025T010000
END:STANDARD
END:VTIMEZONE
BEGIN:VEVENT
DTSTART;VALUE=DATE:20251202
DTEND;VALUE=DATE:20251209
DTSTAMP:20260421T043532
CREATED:20231122T111457Z
LAST-MODIFIED:20251102T154903Z
UID:9239-1764633600-1765238399@adoddle.org
SUMMARY:National Grief Awareness Week
DESCRIPTION:National Grief Awareness Week is a time to raise awareness of the impact of #Grief and #Bereavement. \nThe bereaved often have to hide their grief from others. Sometimes it is from their friends and family as they do not want to burden them. Sometimes it is from their colleagues at work. Please look out for them\, check they are okay\, in the early days and ongoing.  They may look alright\, they may be going to work\, but deep inside they could be struggling and just need your support and understanding. \nWe are often afraid to mention the person’s name who has died. We think we will upset our friend or family member\, but it is generally the opposite. By saying their name\, remembering them and talking about them\, you are helping to share your love and affection for that person. This is very important and will help those grieving to know that you will help to keep their memory alive. \nThere is a myth that you ‘get over’ grief. That you ‘move on’. You don’t. You move forward with your grief\, but you may be affected by a bereavement throughout your whole life. Often after the funeral\, people leave and things go ‘back to normal’. This is the time when the bereaved most need support\, when they feel alone and isolated. We need to understand that there are triggers that may come from nowhere that will affect them in the weeks\, months and years after the death. \nSo lets normalise talking about grief\, to ensure grief becomes an easier topic to discuss and lets raise the profiles of #Charities and the breadth of support we have in the UK offering tailored help for any bereavement. \n\nThis year the theme is “Growing with Grief”\n\nLosing a loved one feels like an ending in so many ways\, but in time\, it can also become the ground from which something new begins. After that loss\, we can’t go back to who we were\, but instead\, we can grow into someone new shaped by love\, memories\, and resilience. This growth doesn’t erase the pain\, but it allows HOPE to return. We may even become more present\, more compassionate\, more aware of what truly matters in life. \n#BetterTogether #NGAW2025 #GrowingWithGrief \nSource: National Grief Awareness Week (thegoodgrieftrust.org) \n 
URL:https://adoddle.org/events-calendar/national-grief-awareness-week/
CATEGORIES:Awareness Week,National,UK
ATTACH;FMTTYPE=image/png:https://adoddle.org/wp-content/uploads/2023/11/Grief-Awareness-Week.png
END:VEVENT
END:VCALENDAR