BEGIN:VCALENDAR
VERSION:2.0
PRODID:-//aDoddle - Community Mapping - ECPv6.15.11//NONSGML v1.0//EN
CALSCALE:GREGORIAN
METHOD:PUBLISH
X-WR-CALNAME:aDoddle - Community Mapping
X-ORIGINAL-URL:https://adoddle.org
X-WR-CALDESC:Events for aDoddle - Community Mapping
REFRESH-INTERVAL;VALUE=DURATION:PT1H
X-Robots-Tag:noindex
X-PUBLISHED-TTL:PT1H
BEGIN:VTIMEZONE
TZID:Europe/London
BEGIN:DAYLIGHT
TZOFFSETFROM:+0000
TZOFFSETTO:+0100
TZNAME:BST
DTSTART:20250330T010000
END:DAYLIGHT
BEGIN:STANDARD
TZOFFSETFROM:+0100
TZOFFSETTO:+0000
TZNAME:GMT
DTSTART:20251026T010000
END:STANDARD
BEGIN:DAYLIGHT
TZOFFSETFROM:+0000
TZOFFSETTO:+0100
TZNAME:BST
DTSTART:20260329T010000
END:DAYLIGHT
BEGIN:STANDARD
TZOFFSETFROM:+0100
TZOFFSETTO:+0000
TZNAME:GMT
DTSTART:20261025T010000
END:STANDARD
BEGIN:DAYLIGHT
TZOFFSETFROM:+0000
TZOFFSETTO:+0100
TZNAME:BST
DTSTART:20270328T010000
END:DAYLIGHT
BEGIN:STANDARD
TZOFFSETFROM:+0100
TZOFFSETTO:+0000
TZNAME:GMT
DTSTART:20271031T010000
END:STANDARD
END:VTIMEZONE
BEGIN:VEVENT
DTSTART;VALUE=DATE:20260223
DTEND;VALUE=DATE:20260302
DTSTAMP:20260420T234508
CREATED:20230107T134516Z
LAST-MODIFIED:20260125T193539Z
UID:5047-1771804800-1772409599@adoddle.org
SUMMARY:Eating Disorders Awareness Week
DESCRIPTION:The 23rd February marks the start of Eating Disorders Awareness Week. The week was established to raise awareness of eating disorders and to campaign for the improvement of the treatment in this field. A large part of the campaign is calling for all UK medical schools to introduce proper training on eating disorders\, this type of change would improve access to treatment and break the pattern of misdiagnosis. \nIn the UK\, at least 1.25 million people are living with an eating disorder That’s at least 1 in 50 people.  And yet many people wouldn’t know how to spot the signs that someone has an eating disorder. This is important because the sooner someone is treated for an eating disorder the better their chance of making a full recovery. \nThe campaign aims to reach new audiences with the message that eating disorders are serious mental health conditions that can affect anyone – at any age\, gender\, or background – at any time. \nSo join us to raise awareness of this serious mental health condition and let people know that anyone can be affected by an eating disorder. \n#EatingDisordersAwarenessWeek #ARFID #EatingDisorders #MentalHealth \nSource: https://edaw.beateatingdisorders.org.uk/
URL:https://adoddle.org/events-calendar/eating-disorders-awareness-week/
CATEGORIES:Awareness Week,National,UK
ATTACH;FMTTYPE=image/png:https://adoddle.org/wp-content/uploads/2023/01/Eating-Disorders-aW.png
END:VEVENT
END:VCALENDAR