BEGIN:VCALENDAR
VERSION:2.0
PRODID:-//aDoddle - Community Mapping - ECPv6.15.11//NONSGML v1.0//EN
CALSCALE:GREGORIAN
METHOD:PUBLISH
X-WR-CALNAME:aDoddle - Community Mapping
X-ORIGINAL-URL:https://adoddle.org
X-WR-CALDESC:Events for aDoddle - Community Mapping
REFRESH-INTERVAL;VALUE=DURATION:PT1H
X-Robots-Tag:noindex
X-PUBLISHED-TTL:PT1H
BEGIN:VTIMEZONE
TZID:Europe/London
BEGIN:DAYLIGHT
TZOFFSETFROM:+0000
TZOFFSETTO:+0100
TZNAME:BST
DTSTART:20250330T010000
END:DAYLIGHT
BEGIN:STANDARD
TZOFFSETFROM:+0100
TZOFFSETTO:+0000
TZNAME:GMT
DTSTART:20251026T010000
END:STANDARD
BEGIN:DAYLIGHT
TZOFFSETFROM:+0000
TZOFFSETTO:+0100
TZNAME:BST
DTSTART:20260329T010000
END:DAYLIGHT
BEGIN:STANDARD
TZOFFSETFROM:+0100
TZOFFSETTO:+0000
TZNAME:GMT
DTSTART:20261025T010000
END:STANDARD
BEGIN:DAYLIGHT
TZOFFSETFROM:+0000
TZOFFSETTO:+0100
TZNAME:BST
DTSTART:20270328T010000
END:DAYLIGHT
BEGIN:STANDARD
TZOFFSETFROM:+0100
TZOFFSETTO:+0000
TZNAME:GMT
DTSTART:20271031T010000
END:STANDARD
END:VTIMEZONE
BEGIN:VEVENT
DTSTART;VALUE=DATE:20260204
DTEND;VALUE=DATE:20260205
DTSTAMP:20260422T131527
CREATED:20220201T141455Z
LAST-MODIFIED:20260113T121005Z
UID:4987-1770163200-1770249599@adoddle.org
SUMMARY:World Cancer Day
DESCRIPTION:World Cancer Day is held every year on the 4th of February\, and it aims to raise international awareness concerning all types of cancer\, those who suffer from it\, and prevention and treatment. \nCreated in 2000\, World Cancer Day has grown into a positive movement for everyone\, everywhere to unite under one voice to face one of our greatest challenges in history. \nEach year\, hundreds of activities and events take place around the world\, gathering communities\, organisations and individuals in schools\, businesses\, hospitals\, marketplaces\, parks\, community halls\, places of worship – in the streets and online – acting as a powerful reminder that we all have a role to play in reducing the global impact of cancer. \nThe World Cancer Day theme 2025-2027\, “United by Unique” places people at the centre of care and explores new ways of making a difference.    \nCancer is more than just a medical diagnosis—it’s a deeply personal matter. Behind every diagnosis lies a unique human story – stories of grief\, pain\, healing\, resilience\, love and more.  \nThat’s why a people-centred approach to cancer care that fully integrates each individual’s unique needs\, with compassion and empathy\, leads to the best health outcomes.  \nEvery experience with cancer is unique and it will take all of us\, united\, to create a world where we look beyond the disease and see the person before the patient. A world where the needs of people and communities are at the centre of health systems. \n#WorldCancerDay #UnitedByUnique #CancerAwareness #CancerResearch #CancerCare \nSource: https://www.worldcancerday.org/about-us  \n 
URL:https://adoddle.org/events-calendar/world-cancer-day/
CATEGORIES:Awareness Day,International,National,UK,World
ATTACH;FMTTYPE=image/png:https://adoddle.org/wp-content/uploads/2022/02/world-cancer-day.png
END:VEVENT
BEGIN:VEVENT
DTSTART;VALUE=DATE:20260209
DTEND;VALUE=DATE:20260216
DTSTAMP:20260422T131527
CREATED:20220111T110445Z
LAST-MODIFIED:20260130T124542Z
UID:5099-1770595200-1771199999@adoddle.org
SUMMARY:Children's Mental Health Week
DESCRIPTION:This week from the 9th-15th  February it’s Children’s Mental Health Week\, which was established to shine a spotlight on the importance of children and young people’s mental health. \nThe theme for Children’s Mental Health Week 2026 is ‘This is My Place’\, and our aim is to support the systems around children and young people to help them feel they belong. \nWe know that our sense of belonging as individuals\, in our friendships\, in school\, and in communities plays a vital role in our mental health and wellbeing. \nTo know our place and really feel part of our environment is a basic human need. It can have powerful and long-lasting impacts in lots of areas of our lives\, including our physical and mental health\, education\, employment and relationships. When we feel that we belong\, it empowers us to contribute to the world and make a real difference. \nThis year\, Place2Be’s Children’s Mental Health Week will aim to support the groups and systems surrounding our children. We’ll encourage peers\, families\, schools and communities to create inclusive and nurturing environments\, where children and young people feel they belong and can say “This is My Place”. \n#ChildrensMentalHealthWeek #KnowYourselfGrowYourself #Place2Be #MentalHealthMatters #ChildrensMentalHealth \nSource: Place2Be’s Children’s Mental Health Week – Official site
URL:https://adoddle.org/events-calendar/childrens-mental-health-week/
CATEGORIES:Awareness Week,International,World
ATTACH;FMTTYPE=image/png:https://adoddle.org/wp-content/uploads/2022/01/Childrens-MH-Week.png
END:VEVENT
BEGIN:VEVENT
DTSTART;VALUE=DATE:20260211
DTEND;VALUE=DATE:20260212
DTSTAMP:20260422T131527
CREATED:20220111T103036Z
LAST-MODIFIED:20260119T141022Z
UID:5030-1770768000-1770854399@adoddle.org
SUMMARY:International Day of Women and Girls in Science
DESCRIPTION:Today the 11th February marks the International Day of Women and Girls in Science! \nThis day was established in order to achieve full and equal access to and participation in\, science for women and girls\, and further achieve gender equality and the empowerment of women and girls. \nDid you know?\n\nWomen are typically given smaller research grants than their male colleagues and\, while they represent 33.3% of all researchers\, only 12% of members of national science academies are women.\nIn cutting edge fields such as artificial intelligence\, only one in five professionals (22%) is a woman.\nDespite a shortage of skills in most of the technological fields driving the Fourth Industrial Revolution\, women still account for only 28% of engineering graduates and 40% of graduates in computer science and informatics\nFemale researchers tend to have shorter\, less well-paid careers. Their work is underrepresented in high-profile journals and they are often passed over for promotions.\n\nSource: https://www.un.org/en/observances/women-and-girls-in-science-day
URL:https://adoddle.org/events-calendar/international-day-of-women-and-girls-in-science/
CATEGORIES:Awareness Day,International,National,UK
ATTACH;FMTTYPE=image/png:https://adoddle.org/wp-content/uploads/2022/02/Feb-11-International-Day-of-Women-and-Girls-in-Science-AW-FB-Instagram-Post.png.png
END:VEVENT
BEGIN:VEVENT
DTSTART;VALUE=DATE:20260214
DTEND;VALUE=DATE:20260215
DTSTAMP:20260422T131527
CREATED:20230111T112150Z
LAST-MODIFIED:20260119T141632Z
UID:5036-1771027200-1771113599@adoddle.org
SUMMARY:Valentine's Day
DESCRIPTION:February 14th is Valentine’s Day\, which was originally a Christian feast day in honour of St. Valentine\, however in contemporary culture it’s more so a day that celebrates our loved ones but also our lost loved ones & the memories we’ve made with them.  \nWhether you’re celebrating romantic love for your partner\, platonic love for a friend\, or familial love for a member of your family\, we hope you have a wonderful Valentine’s Day!\n \n#ValentinesDay #CelebrateLove \n 
URL:https://adoddle.org/events-calendar/valentines-day/
CATEGORIES:Awareness Day,International,National,UK
ATTACH;FMTTYPE=image/png:https://adoddle.org/wp-content/uploads/2022/02/14th-feb-Valentines-Day-IG.png.png
END:VEVENT
BEGIN:VEVENT
DTSTART;VALUE=DATE:20260217
DTEND;VALUE=DATE:20260218
DTSTAMP:20260422T131527
CREATED:20220207T134820Z
LAST-MODIFIED:20260121T121140Z
UID:5041-1771286400-1771372799@adoddle.org
SUMMARY:Random Acts of Kindness Day
DESCRIPTION:Today 17th February is all about spreading kindness\, as it’s Random Acts of Kindness Day!  \nThere are so many things you can do to contribute to making the world a kinder place. It doesn’t have to be large\, and it can even be something for yourself\, like taking time out to visit your favourite spot.  \nStuck for ideas? Check out the kindness ideas from the Random Acts of Kindness Foundation for inspiration. The aim of #RAKDay is to make kindness the norm\, spread goodwill and consideration of others\, and remind people that these are worthwhile aims.\n \n#MakeKindnessTheNorm #RAKDay #KindnessMatters #RandomActsofKindnessDay \n 
URL:https://adoddle.org/events-calendar/random-acts-of-kindness-day/
CATEGORIES:Awareness Day,International,World
ATTACH;FMTTYPE=image/png:https://adoddle.org/wp-content/uploads/2022/02/Random-Acts-of-Kindness.png
END:VEVENT
BEGIN:VEVENT
DTSTART;VALUE=DATE:20260221
DTEND;VALUE=DATE:20260222
DTSTAMP:20260422T131527
CREATED:20230111T111417Z
LAST-MODIFIED:20260127T121958Z
UID:6856-1771632000-1771718399@adoddle.org
SUMMARY:International Mother Language Day
DESCRIPTION:Today\, the 21st February\, is International Mother Language Day\, and was founded in 2000. It is observed every February to celebrate language and encourage the learning of multiple languages and the maintenance of mother languages\, especially those that are endangered. \nThis year’s International Mother Language Day highlights the role of young people in shaping the future of multilingual education. Youth voices on multilingual education emphasizes that language is more than a means of communication: it is central to identity\, learning\, well-being and participation in society. The celebration underscores the importance of education systems that recognise and value every learner’s language to support inclusion and learning outcomes. \nAhead of International Mother Language Day\, schools worldwide are invited to join the online UNESCO Campus event on 13 February. Students aged 13–18 can participate\, engage via chat\, and exchange with international experts and peers from all UNESCO regions. The event offers a space for young people to share experiences and identify concrete actions to promote linguistic diversity in their schools and communities. \n#Multilingual and multicultural societies exist through their languages which transmit and preserve traditional knowledge and cultures in a sustainable way. \n  \nSource:  International Mother Language Day | UNESCO \n  \n  \n 
URL:https://adoddle.org/events-calendar/international-mother-language-day/
CATEGORIES:Awareness Day,International,World
ATTACH;FMTTYPE=image/png:https://adoddle.org/wp-content/uploads/2023/01/Int-Mother-Language-Day.png
END:VEVENT
BEGIN:VEVENT
DTSTART;VALUE=DATE:20260227
DTEND;VALUE=DATE:20260228
DTSTAMP:20260422T131527
CREATED:20220207T134239Z
LAST-MODIFIED:20260119T140158Z
UID:5044-1772150400-1772236799@adoddle.org
SUMMARY:Stand Up to Bullying Day
DESCRIPTION:Today\, 27th February\, is Stand Up to Bullying Day\, launched in 2016 with the support of HRH The Duke of Cambridge. The day seeks to bring the nation together to take a collective stand against all forms of bullying\, whether in school\, the workplace\, online or elsewhere. Bullying can have lasting effects on a person’s psyche\, and it is important to recognize instances of bullying and put an end to them immediately. \nOne of the main tenets of Stand Up to Bullying Day is calling out others when their actions are unkind. So standing up to bullying isn’t as simple as not being a part of the problem\, what’s imperative is having the courage to call out others. Standing up means being an upstander\, not a bystander. \n#AntiBullying #BeKind #AlwaysBeKind #CyberBullying \n  \nSource: INTERNATIONAL STAND UP TO BULLYING DAY – February 27\, 2026 – National Today \n  \n  \n  \n 
URL:https://adoddle.org/events-calendar/stand-up-to-bullying-day/
CATEGORIES:Awareness Day,International,National,UK
ATTACH;FMTTYPE=image/png:https://adoddle.org/wp-content/uploads/2022/02/Stand-up-to-Bullying-2.png
END:VEVENT
END:VCALENDAR