BEGIN:VCALENDAR
VERSION:2.0
PRODID:-//aDoddle - Community Mapping - ECPv6.15.11//NONSGML v1.0//EN
CALSCALE:GREGORIAN
METHOD:PUBLISH
X-ORIGINAL-URL:https://adoddle.org
X-WR-CALDESC:Events for aDoddle - Community Mapping
REFRESH-INTERVAL;VALUE=DURATION:PT1H
X-Robots-Tag:noindex
X-PUBLISHED-TTL:PT1H
BEGIN:VTIMEZONE
TZID:Europe/London
BEGIN:DAYLIGHT
TZOFFSETFROM:+0000
TZOFFSETTO:+0100
TZNAME:BST
DTSTART:20250330T010000
END:DAYLIGHT
BEGIN:STANDARD
TZOFFSETFROM:+0100
TZOFFSETTO:+0000
TZNAME:GMT
DTSTART:20251026T010000
END:STANDARD
BEGIN:DAYLIGHT
TZOFFSETFROM:+0000
TZOFFSETTO:+0100
TZNAME:BST
DTSTART:20260329T010000
END:DAYLIGHT
BEGIN:STANDARD
TZOFFSETFROM:+0100
TZOFFSETTO:+0000
TZNAME:GMT
DTSTART:20261025T010000
END:STANDARD
BEGIN:DAYLIGHT
TZOFFSETFROM:+0000
TZOFFSETTO:+0100
TZNAME:BST
DTSTART:20270328T010000
END:DAYLIGHT
BEGIN:STANDARD
TZOFFSETFROM:+0100
TZOFFSETTO:+0000
TZNAME:GMT
DTSTART:20271031T010000
END:STANDARD
END:VTIMEZONE
BEGIN:VEVENT
DTSTART;VALUE=DATE:20260401
DTEND;VALUE=DATE:20260501
DTSTAMP:20260423T172514
CREATED:20220315T070501Z
LAST-MODIFIED:20260316T112845Z
UID:5302-1775001600-1777593599@adoddle.org
SUMMARY:Stress Awareness Month
DESCRIPTION:Stress and poor mental health are one of the biggest public health challenges that we’re facing. Sadly\, even though that is the case\, we are still not taking its impact seriously enough. We continue to separate mental health from physical health and vice versa. The reality is they cannot be separate – they are two sides of the same coin. There is no health without mental health and stress can lead to numerous health problems. From physical problems\, like heart disease\, insomnia\, digestive issues\, immune system challenges\, etc to more serious mental health disorders such as anxiety and depression. \nStress Awareness Month has been held every April since 1992 to raise awareness of the causes and cures for our modern-day stress epidemic. It is the time when we have an opportunity for an open conversation on the impact of stress. Dedicated time to removing the guilt\, shame\, and stigma around mental health. To talk about stress\, and its effects and open up about our mental and emotional state with friends\, families\, colleagues\, and professionals. \nThis year\, 2026\, the theme is #BeTheChange\, inspired by Gandhi’s idea to “be the change you wish to see in the world.”\n#StressAwarenessMonth #Anxiety #Depression #Insomnia #LeadWithLove #MentalHealthMatters #ConnectedCommunities \nSource*  Stress Awareness Month 2026 – The Stress Management Society \n 
URL:https://adoddle.org/events-calendar/stress-awareness-month-2/
CATEGORIES:Awareness Month,National,UK
ATTACH;FMTTYPE=image/png:https://adoddle.org/wp-content/uploads/2022/03/Apr-Stress-Awareness-Month-AW-IG.png
END:VEVENT
BEGIN:VEVENT
DTSTART;VALUE=DATE:20260401
DTEND;VALUE=DATE:20260501
DTSTAMP:20260423T172514
CREATED:20220315T070508Z
LAST-MODIFIED:20260316T111905Z
UID:5309-1775001600-1777593599@adoddle.org
SUMMARY:National Pet Month
DESCRIPTION:National Pet Month celebrates and raises awareness of responsible pet ownership through educational campaigns and resources across various platforms. \nNational Pet Month celebrates pet ownership\, sharing the many benefits of our cherished companions across the UK. \nWhether they’re providing laughs with their zoomies or snuggling up to us when they sense we’re sad\, pets contribute so much love and benefit to their owner’s lives. National Pet Month is the perfect time to celebrate your furry little family members and all the joy they bring to our lives. \n  \n#NationalPetMonth \nSource* \nhttps://www.nationalpetmonth.org.uk/
URL:https://adoddle.org/events-calendar/national-pet-month-2/
CATEGORIES:Awareness Month,National,UK
ATTACH;FMTTYPE=image/png:https://adoddle.org/wp-content/uploads/2021/03/0-FB-National-Pet-Month.png
END:VEVENT
END:VCALENDAR