BEGIN:VCALENDAR
VERSION:2.0
PRODID:-//aDoddle - Community Mapping - ECPv6.15.11//NONSGML v1.0//EN
CALSCALE:GREGORIAN
METHOD:PUBLISH
X-WR-CALNAME:aDoddle - Community Mapping
X-ORIGINAL-URL:https://adoddle.org
X-WR-CALDESC:Events for aDoddle - Community Mapping
REFRESH-INTERVAL;VALUE=DURATION:PT1H
X-Robots-Tag:noindex
X-PUBLISHED-TTL:PT1H
BEGIN:VTIMEZONE
TZID:Europe/London
BEGIN:DAYLIGHT
TZOFFSETFROM:+0000
TZOFFSETTO:+0100
TZNAME:BST
DTSTART:20250330T010000
END:DAYLIGHT
BEGIN:STANDARD
TZOFFSETFROM:+0100
TZOFFSETTO:+0000
TZNAME:GMT
DTSTART:20251026T010000
END:STANDARD
BEGIN:DAYLIGHT
TZOFFSETFROM:+0000
TZOFFSETTO:+0100
TZNAME:BST
DTSTART:20260329T010000
END:DAYLIGHT
BEGIN:STANDARD
TZOFFSETFROM:+0100
TZOFFSETTO:+0000
TZNAME:GMT
DTSTART:20261025T010000
END:STANDARD
BEGIN:DAYLIGHT
TZOFFSETFROM:+0000
TZOFFSETTO:+0100
TZNAME:BST
DTSTART:20270328T010000
END:DAYLIGHT
BEGIN:STANDARD
TZOFFSETFROM:+0100
TZOFFSETTO:+0000
TZNAME:GMT
DTSTART:20271031T010000
END:STANDARD
END:VTIMEZONE
BEGIN:VEVENT
DTSTART;VALUE=DATE:20260501
DTEND;VALUE=DATE:20260601
DTSTAMP:20260423T184029
CREATED:20220430T043323Z
LAST-MODIFIED:20260408T210128Z
UID:5575-1777593600-1780271999@adoddle.org
SUMMARY:National Walking Month
DESCRIPTION:#Walking is one of the easiest ways to improve physical and mental health and stay connected to our #Community\, helping us feel less lonely and isolated. And by swapping a short drive for a short walk\, you can also help reduce air pollution\, congestion and road danger – and save  yourself some money and keep active in the process! \nDid you know that a 20-minute walk can reduce the risk of a number of preventable health conditions\, including certain cancers\, depression\, heart disease and Type 2 diabetes? \nLiving Streets have put together 20 tips to help you fit 20 minutes of walking into your day. From inviting friends and family for a walk to taking a post-work stroll\, how many #Try20 tips can you do during National Walking Month? \nFind out more about how you can get involved during the month here: https://www.livingstreets.org.uk/get-involved/campaign-with-us/national-walking-month \n#NationalWalkingMonth #NWM2026 #WalkOut \n 
URL:https://adoddle.org/events-calendar/national-walking-month/
CATEGORIES:Awareness Month,National,UK
ATTACH;FMTTYPE=image/png:https://adoddle.org/wp-content/uploads/2022/04/May-National-Walking-Month-FB.png
END:VEVENT
BEGIN:VEVENT
DTSTART;VALUE=DATE:20260501
DTEND;VALUE=DATE:20260601
DTSTAMP:20260423T184029
CREATED:20220503T174730Z
LAST-MODIFIED:20260411T135005Z
UID:5599-1777593600-1780271999@adoddle.org
SUMMARY:National Share a Story Month
DESCRIPTION:Organised by the Federation of Children’s Book Groups\, National Share a Story Month is an annual event designed to celebrate the fabulous world of children’s fiction and to inspire a love of reading by sharing stories.  In 2026\, the theme of National Share a Story Month is Once Upon a Storytime.  Running throughout May 2026\, NSSM will shine a spotlight on the joy of reading aloud and the power of stories to bring people together. This nationwide celebration invites children\, families\, schools\, and communities to connect through books\, storytelling\, and the spoken word. \nAcross the country Federation book groups and individuals run a whole host of events. Each year they are inspired by a specific theme and work with different organisations to provide people with resources and opportunities. \n#NSSM2026 #LoveReading #NationalShareAStoryMonth #ReadingForPleasure \nFind out more about the FCGB – https://fcbg.org.uk/ \nSource: National Share-a-Story Month – The Federation of Children’s Book Groups
URL:https://adoddle.org/events-calendar/national-share-a-story-month/
CATEGORIES:Awareness Month,National,UK
ATTACH;FMTTYPE=image/png:https://adoddle.org/wp-content/uploads/2022/05/May-National-Share-A-Story-Month-FB.png
END:VEVENT
BEGIN:VEVENT
DTSTART;VALUE=DATE:20260501
DTEND;VALUE=DATE:20260601
DTSTAMP:20260423T184029
CREATED:20220503T180545Z
LAST-MODIFIED:20260408T205930Z
UID:5602-1777593600-1780271999@adoddle.org
SUMMARY:Local and Community History Month
DESCRIPTION:May is Local and Community History Month!\nThe aim of the month is to increase awareness of local history and promote history in general to local communities helping to encourage everyone to participate. \nActivities happen across the UK and include trips\, library exhibitions and local lectures. It is a great way for groups to highlight local history and for local people to get involved. \n#LocalHistoryMonth #DiscoverHistory #History #HistoryForFun \nSource & Discover More: https://www.history.org.uk/historian/resource/1567/local-and-community-history-month
URL:https://adoddle.org/events-calendar/local-and-community-history-month/
CATEGORIES:Awareness Month,National,UK
ATTACH;FMTTYPE=image/png:https://adoddle.org/wp-content/uploads/2022/05/May-Local-and-community-history-month-IG.png
END:VEVENT
BEGIN:VEVENT
DTSTART;VALUE=DATE:20260505
DTEND;VALUE=DATE:20260506
DTSTAMP:20260423T184029
CREATED:20230329T105028Z
LAST-MODIFIED:20260411T135852Z
UID:7213-1777939200-1778025599@adoddle.org
SUMMARY:World Asthma Day
DESCRIPTION:In celebration of World Asthma Day 2026\, the Global Initiative for Asthma (GINA) has chosen the theme “Access to anti-inflammatory inhalers for everyone with asthma – still an urgent need”. GINA emphasizes the need to ensure that people with #Asthma can access inhaled medications that are essential both for controlling the underlying disease and treating attacks. \nAsthma attacks cause great distress for sufferers and their careers\, and these attacks may result in hospital admission and\, in some cases\, death. Inhaled corticosteroid-containing medications prevent asthma attacks by treating the underlying inflammation that causes asthma. \nDoctors and allied health care professionals are called upon to ensure that every person with asthma is prescribed evidence-based\, essential\, inhaled corticosteroid-containing medication in addition to (or in combination with) reliever medication\, to prevent the continuing avoidable morbidity and mortality from asthma. \nAsthma is one of the most common chronic non-communicable diseases that affects over 260 million people and is responsible for over 450\,000 deaths each year worldwide. Most of these deaths are preventable. \nIn low-middle-income countries\, lack of availability or high cost of inhaled medicines\, especially inhaled corticosteroid-containing inhalers\, are major contributors to the fact that 96% of global asthma deaths occur in these countries. \nEven in high income countries\, high costs can mean that many people with asthma have limited access to essential inhaled medicines\, resulting in poorly controlled asthma and preventable asthma deaths. \nPolicy makers\, governments\, payers\, and pharmaceutical industry manufacturers and suppliers are called upon to increase their awareness of the continuing preventable morbidity and mortality associated with asthma in spite of the existence of evidence based\, highly effective management of asthma. \nWe call on everyone to increase their efforts to “Make Inhaled Treatments Accessible for ALL”\, in all countries throughout the world. \nSource:  World Asthma Day 2026 – Global Initiative for Asthma – GINA \n  \n 
URL:https://adoddle.org/events-calendar/world-asthma-day/
CATEGORIES:Awareness Day,International,National,UK,World
ATTACH;FMTTYPE=image/png:https://adoddle.org/wp-content/uploads/2023/03/World-Asthma-Day-1.png
END:VEVENT
END:VCALENDAR