BEGIN:VCALENDAR
VERSION:2.0
PRODID:-//aDoddle - Community Mapping - ECPv6.15.11//NONSGML v1.0//EN
CALSCALE:GREGORIAN
METHOD:PUBLISH
X-ORIGINAL-URL:https://adoddle.org
X-WR-CALDESC:Events for aDoddle - Community Mapping
REFRESH-INTERVAL;VALUE=DURATION:PT1H
X-Robots-Tag:noindex
X-PUBLISHED-TTL:PT1H
BEGIN:VTIMEZONE
TZID:Europe/London
BEGIN:DAYLIGHT
TZOFFSETFROM:+0000
TZOFFSETTO:+0100
TZNAME:BST
DTSTART:20250330T010000
END:DAYLIGHT
BEGIN:STANDARD
TZOFFSETFROM:+0100
TZOFFSETTO:+0000
TZNAME:GMT
DTSTART:20251026T010000
END:STANDARD
BEGIN:DAYLIGHT
TZOFFSETFROM:+0000
TZOFFSETTO:+0100
TZNAME:BST
DTSTART:20260329T010000
END:DAYLIGHT
BEGIN:STANDARD
TZOFFSETFROM:+0100
TZOFFSETTO:+0000
TZNAME:GMT
DTSTART:20261025T010000
END:STANDARD
BEGIN:DAYLIGHT
TZOFFSETFROM:+0000
TZOFFSETTO:+0100
TZNAME:BST
DTSTART:20270328T010000
END:DAYLIGHT
BEGIN:STANDARD
TZOFFSETFROM:+0100
TZOFFSETTO:+0000
TZNAME:GMT
DTSTART:20271031T010000
END:STANDARD
END:VTIMEZONE
BEGIN:VEVENT
DTSTART;VALUE=DATE:20260401
DTEND;VALUE=DATE:20260501
DTSTAMP:20260423T155609
CREATED:20220315T070501Z
LAST-MODIFIED:20260316T112845Z
UID:5302-1775001600-1777593599@adoddle.org
SUMMARY:Stress Awareness Month
DESCRIPTION:Stress and poor mental health are one of the biggest public health challenges that we’re facing. Sadly\, even though that is the case\, we are still not taking its impact seriously enough. We continue to separate mental health from physical health and vice versa. The reality is they cannot be separate – they are two sides of the same coin. There is no health without mental health and stress can lead to numerous health problems. From physical problems\, like heart disease\, insomnia\, digestive issues\, immune system challenges\, etc to more serious mental health disorders such as anxiety and depression. \nStress Awareness Month has been held every April since 1992 to raise awareness of the causes and cures for our modern-day stress epidemic. It is the time when we have an opportunity for an open conversation on the impact of stress. Dedicated time to removing the guilt\, shame\, and stigma around mental health. To talk about stress\, and its effects and open up about our mental and emotional state with friends\, families\, colleagues\, and professionals. \nThis year\, 2026\, the theme is #BeTheChange\, inspired by Gandhi’s idea to “be the change you wish to see in the world.”\n#StressAwarenessMonth #Anxiety #Depression #Insomnia #LeadWithLove #MentalHealthMatters #ConnectedCommunities \nSource*  Stress Awareness Month 2026 – The Stress Management Society \n 
URL:https://adoddle.org/events-calendar/stress-awareness-month-2/
CATEGORIES:Awareness Month,National,UK
ATTACH;FMTTYPE=image/png:https://adoddle.org/wp-content/uploads/2022/03/Apr-Stress-Awareness-Month-AW-IG.png
END:VEVENT
BEGIN:VEVENT
DTSTART;VALUE=DATE:20260401
DTEND;VALUE=DATE:20260501
DTSTAMP:20260423T155609
CREATED:20220315T070508Z
LAST-MODIFIED:20260316T111905Z
UID:5309-1775001600-1777593599@adoddle.org
SUMMARY:National Pet Month
DESCRIPTION:National Pet Month celebrates and raises awareness of responsible pet ownership through educational campaigns and resources across various platforms. \nNational Pet Month celebrates pet ownership\, sharing the many benefits of our cherished companions across the UK. \nWhether they’re providing laughs with their zoomies or snuggling up to us when they sense we’re sad\, pets contribute so much love and benefit to their owner’s lives. National Pet Month is the perfect time to celebrate your furry little family members and all the joy they bring to our lives. \n  \n#NationalPetMonth \nSource* \nhttps://www.nationalpetmonth.org.uk/
URL:https://adoddle.org/events-calendar/national-pet-month-2/
CATEGORIES:Awareness Month,National,UK
ATTACH;FMTTYPE=image/png:https://adoddle.org/wp-content/uploads/2021/03/0-FB-National-Pet-Month.png
END:VEVENT
BEGIN:VEVENT
DTSTART;VALUE=DATE:20260420
DTEND;VALUE=DATE:20260427
DTSTAMP:20260423T155609
CREATED:20220315T070220Z
LAST-MODIFIED:20260324T120736Z
UID:5353-1776643200-1777247999@adoddle.org
SUMMARY:MS Awareness Week
DESCRIPTION:MS Awareness Week 2026 will run from 20th April. \nWhat is MS?\nMS is a condition that affects the body’s central nervous system (CNS). By the latest estimates\, over 2.8 million people worldwide have MS. \nIt’s a disorder that causes your body’s immune system to attack myelin\, a coating that insulates some of your nerve fibers. This process is known as demyelination. When myelin is damaged or destroyed\, it affects the nerve impulses traveling to and from the brain and spinal cord\, causing a wide variety of symptoms in MS. \nOnce diagnosed\, MS stays with you for life\, but treatments and specialists can help you to manage the condition and its symptoms. \nMS can be tough\, and for many people talking about it can be challenging. Whether you’re opening up to a friend after being newly diagnosed\, or finding the right words to describe symptoms to an employer. But if people know about your MS and how it affects you\, they’ll be in a better place to offer support if and when you need it. \n#MSWeek #MultipleSclerosis #MSAwarenessWeek \nSource* \nhttps://www.mssociety.org.uk/get-involved/ms-awareness-week
URL:https://adoddle.org/events-calendar/ms-awareness-week/
CATEGORIES:Awareness Week,National,UK
ATTACH;FMTTYPE=image/png:https://adoddle.org/wp-content/uploads/2022/03/Ms-AW-Week-1.png
END:VEVENT
BEGIN:VEVENT
DTSTART;VALUE=DATE:20260423
DTEND;VALUE=DATE:20260424
DTSTAMP:20260423T155609
CREATED:20230308T121041Z
LAST-MODIFIED:20260326T142438Z
UID:7160-1776902400-1776988799@adoddle.org
SUMMARY:Saint George's Day
DESCRIPTION:Take a close look at the English flag. That red cross over a white background has meaning. It’s actually St. George’s Cross — a symbol so closely intertwined with English national identity that St. George has his own national holiday. \nThe legend of Saint George and the Dragon describes the saint taming and slaying a dragon that demanded human sacrifices. We celebrate St. George’s Day on April 23 — the anniversary of his death in 303 AD. \nThe patron saint of England has captivated British imaginations since the Crusades and the Hundred Years’ War. Perhaps the most British of all holidays\, this special day is a chance to let your English flag fly\, literally and figuratively. \nLearn more here: https://www.english-heritage.org.uk/visit/whats-on/st-georges-day/ \n 
URL:https://adoddle.org/events-calendar/saint-georges-day/
CATEGORIES:Awareness Day,National,UK
ATTACH;FMTTYPE=image/png:https://adoddle.org/wp-content/uploads/2023/03/St-Georges-Day.png
END:VEVENT
BEGIN:VEVENT
DTSTART;VALUE=DATE:20260428
DTEND;VALUE=DATE:20260429
DTSTAMP:20260423T155609
CREATED:20250310T112110Z
LAST-MODIFIED:20260401T113605Z
UID:11924-1777334400-1777420799@adoddle.org
SUMMARY:Pay It Forward Day
DESCRIPTION:Pay It Forward Day\, observed on 28th April each year\, is a global initiative dedicated to spreading kindness and generosity throughout the world. Whether you’re a seasoned philanthropist\, a compassionate neighbour\, or simply someone who believes in the power of small acts of kindness\, Pay It Forward Day offers a meaningful opportunity to make a positive difference in the lives of others. \nThe concept of paying it forward is simple yet profound – it involves doing something kind for someone else without expecting anything in return\, with the hope that they will then pass on the kindness to others. From buying a stranger’s coffee to volunteering your time at a local charity\, the possibilities for acts of kindness are endless. \nOn Pay It Forward Day\, people from all walks of life come together to perform acts of kindness\, inspire others to do the same\, and create a ripple effect of generosity and compassion that extends far beyond the day itself. Whether it’s through a random act of kindness\, a thoughtful gesture\, or a small donation\, every act of kindness has the power to brighten someone’s day and make the world a better place. \nLooking to participate in Pay It Forward Day and spread kindness in your community? Here are some simple yet impactful ideas to get you started: \n\nPay for someone’s meal\, groceries\, or transportation as a random act of kindness.\nVolunteer your time at a local charity\, food bank\, or homeless shelter.\nLeave a positive note or affirmation for someone to find.\nOffer to help a neighbour with yard work\, chores\, or errands.\nDonate gently used clothing\, toys\, or household items to those in need.\n\nWhether you’re performing acts of kindness on Pay It Forward Day or any other day of the year\, remember that even the smallest gestures can have a big impact on someone’s life. Together\, we can create a more compassionate and caring world\, one act of kindness at a time. \n#PayItForwardDay #KindnessMatters #SpreadKindness #RandomActsOfKindness \n  \nSource: Pay It Forward Day | Awareness Days
URL:https://adoddle.org/events-calendar/pay-it-forward-day/
CATEGORIES:Awareness Day,International,National,UK
ATTACH;FMTTYPE=image/png:https://adoddle.org/wp-content/uploads/2025/03/Pay-It-Forward-Day.png
END:VEVENT
BEGIN:VEVENT
DTSTART;VALUE=DATE:20260429
DTEND;VALUE=DATE:20260430
DTSTAMP:20260423T155609
CREATED:20230418T094443Z
LAST-MODIFIED:20260401T113022Z
UID:7448-1777420800-1777507199@adoddle.org
SUMMARY:International Dance Day
DESCRIPTION:In 1982 the Dance Committee of ITI founded International Dance Day to be celebrated every year on the 29th April\, the birthday of Jean-Georges Noverre (1727-1810)\, creator of modern ballet. The intention of the International Dance Day Message is to celebrate dance\, revel in the universality of this art form\, cross all political\, cultural and ethnic barriers\, and bring people together with a common language – dance. \nSo put your dancing shoes on and get ready to step out. Dancing is universal — woven into virtually every society all over the world. Humans simply love dance. It brings us together whether we are the ones on the dance floor or are watching the professional performance of others. Dancing is exhilarating and impressive. Let’s honour the world of dance today\, together! \n#InternationalDanceDay #DancingQueen #LoveDance \n  \nSource:  International Dance Day – International Theatre Institute ITI (international-dance-day.org)
URL:https://adoddle.org/events-calendar/international-dance-day/
CATEGORIES:Awareness Day,International,National,UK,World
ATTACH;FMTTYPE=image/png:https://adoddle.org/wp-content/uploads/2023/04/Int-Dance-Day.png
END:VEVENT
END:VCALENDAR