BEGIN:VCALENDAR
VERSION:2.0
PRODID:-//aDoddle - Community Mapping - ECPv6.15.11//NONSGML v1.0//EN
CALSCALE:GREGORIAN
METHOD:PUBLISH
X-WR-CALNAME:aDoddle - Community Mapping
X-ORIGINAL-URL:https://adoddle.org
X-WR-CALDESC:Events for aDoddle - Community Mapping
REFRESH-INTERVAL;VALUE=DURATION:PT1H
X-Robots-Tag:noindex
X-PUBLISHED-TTL:PT1H
BEGIN:VTIMEZONE
TZID:Europe/London
BEGIN:DAYLIGHT
TZOFFSETFROM:+0000
TZOFFSETTO:+0100
TZNAME:BST
DTSTART:20250330T010000
END:DAYLIGHT
BEGIN:STANDARD
TZOFFSETFROM:+0100
TZOFFSETTO:+0000
TZNAME:GMT
DTSTART:20251026T010000
END:STANDARD
BEGIN:DAYLIGHT
TZOFFSETFROM:+0000
TZOFFSETTO:+0100
TZNAME:BST
DTSTART:20260329T010000
END:DAYLIGHT
BEGIN:STANDARD
TZOFFSETFROM:+0100
TZOFFSETTO:+0000
TZNAME:GMT
DTSTART:20261025T010000
END:STANDARD
BEGIN:DAYLIGHT
TZOFFSETFROM:+0000
TZOFFSETTO:+0100
TZNAME:BST
DTSTART:20270328T010000
END:DAYLIGHT
BEGIN:STANDARD
TZOFFSETFROM:+0100
TZOFFSETTO:+0000
TZNAME:GMT
DTSTART:20271031T010000
END:STANDARD
END:VTIMEZONE
BEGIN:VEVENT
DTSTART;VALUE=DATE:20260411
DTEND;VALUE=DATE:20260412
DTSTAMP:20260422T144204
CREATED:20220315T070518Z
LAST-MODIFIED:20260317T112855Z
UID:5328-1775865600-1775951999@adoddle.org
SUMMARY:World Parkinsons Day
DESCRIPTION:Living with Parkinson’s is tougher than people think. But it doesn’t define you. You are still you. You can still do amazing things in spite of Parkinson’s. \n#Parkinson’s is different for everyone. Different symptoms\, different experiences. Diagnosis is scary and there’s currently no cure. Living with Parkinson’s can be challenging but one thing stands out. The Parkinson’s community is bright and brilliant. \n\n\n\n\n\n\n\n\n\nThis World Parkinson’s Day\, we’re celebrating those moments of laughter and light that lift us up. That person who’s always there for you. A new challenge that you’ve faced head on and overcome\, or found a different way around. Sharing experiences with a community who get it\, because they’re going through it too. Not just on World Parkinson’s Day. But every day. \n\n\n\n\n\n\n\n\n\n#WorldParkinsonsDay #TalkAboutParkinsons \nSource* \nhttps://www.parkinsons.org.uk
URL:https://adoddle.org/events-calendar/world-parkinsons-day-2/
CATEGORIES:Awareness Day,UK,World
ATTACH;FMTTYPE=image/png:https://adoddle.org/wp-content/uploads/2022/03/11-Apr-World-Parkinsons-Day-IG.png
END:VEVENT
END:VCALENDAR