BEGIN:VCALENDAR
VERSION:2.0
PRODID:-//aDoddle - Community Mapping - ECPv6.15.11//NONSGML v1.0//EN
CALSCALE:GREGORIAN
METHOD:PUBLISH
X-WR-CALNAME:aDoddle - Community Mapping
X-ORIGINAL-URL:https://adoddle.org
X-WR-CALDESC:Events for aDoddle - Community Mapping
REFRESH-INTERVAL;VALUE=DURATION:PT1H
X-Robots-Tag:noindex
X-PUBLISHED-TTL:PT1H
BEGIN:VTIMEZONE
TZID:Europe/London
BEGIN:DAYLIGHT
TZOFFSETFROM:+0000
TZOFFSETTO:+0100
TZNAME:BST
DTSTART:20250330T010000
END:DAYLIGHT
BEGIN:STANDARD
TZOFFSETFROM:+0100
TZOFFSETTO:+0000
TZNAME:GMT
DTSTART:20251026T010000
END:STANDARD
BEGIN:DAYLIGHT
TZOFFSETFROM:+0000
TZOFFSETTO:+0100
TZNAME:BST
DTSTART:20260329T010000
END:DAYLIGHT
BEGIN:STANDARD
TZOFFSETFROM:+0100
TZOFFSETTO:+0000
TZNAME:GMT
DTSTART:20261025T010000
END:STANDARD
BEGIN:DAYLIGHT
TZOFFSETFROM:+0000
TZOFFSETTO:+0100
TZNAME:BST
DTSTART:20270328T010000
END:DAYLIGHT
BEGIN:STANDARD
TZOFFSETFROM:+0100
TZOFFSETTO:+0000
TZNAME:GMT
DTSTART:20271031T010000
END:STANDARD
END:VTIMEZONE
BEGIN:VEVENT
DTSTART;VALUE=DATE:20260417
DTEND;VALUE=DATE:20260418
DTSTAMP:20260422T144540
CREATED:20250314T104858Z
LAST-MODIFIED:20260407T102333Z
UID:11972-1776384000-1776470399@adoddle.org
SUMMARY:World Haemophilia Day
DESCRIPTION:World Haemophilia Day takes place on 17th April each year\, uniting individuals and communities around the globe in raising awareness about haemophilia and other bleeding disorders. Whether you’re living with haemophilia\, supporting a loved one\, or simply seeking to learn more\, this annual event shines a spotlight on the challenges faced by those affected by these conditions. \nHaemophilia is a rare genetic disorder that impairs the body’s ability to form blood clots\, leading to prolonged bleeding and other complications. World Haemophilia Day serves as a platform to advocate for access to diagnosis\, treatment\, and care for individuals living with haemophilia and related bleeding disorders. \nLooking to lend your voice to the cause of World Haemophilia Day on social media and digital platforms? Here are some impactful content ideas to help raise awareness and show support for the haemophilia community: \n\nShare personal stories and testimonials from individuals living with haemophilia\, highlighting their experiences and resilience.\nPost educational resources and infographics explaining the signs\, symptoms\, and treatment options for haemophilia and related bleeding disorders.\nHost a virtual panel discussion or webinar featuring healthcare professionals\, researchers\, and advocates in the field of haemophilia care.\nEncourage followers to participate in fundraising events or awareness campaigns organised by haemophilia advocacy groups.\nShare inspirational quotes\, messages of solidarity\, and messages of hope to show support for individuals and families affected by haemophilia.\n\n#WorldHaemophiliaDay #BleedingDisordersAwareness #HaemophiliaHeroes \nWorld Hemophilia Day | World Federation of Hemophilia \nSource: World Haemophilia Day | Awareness Days
URL:https://adoddle.org/events-calendar/world-haemophilia-day-2/
CATEGORIES:Awareness Day,International,National,UK,World
ATTACH;FMTTYPE=image/png:https://adoddle.org/wp-content/uploads/2025/03/World-Haemophilia-Day.png
END:VEVENT
END:VCALENDAR