BEGIN:VCALENDAR
VERSION:2.0
PRODID:-//aDoddle - Community Mapping - ECPv6.15.11//NONSGML v1.0//EN
CALSCALE:GREGORIAN
METHOD:PUBLISH
X-WR-CALNAME:aDoddle - Community Mapping
X-ORIGINAL-URL:https://adoddle.org
X-WR-CALDESC:Events for aDoddle - Community Mapping
REFRESH-INTERVAL;VALUE=DURATION:PT1H
X-Robots-Tag:noindex
X-PUBLISHED-TTL:PT1H
BEGIN:VTIMEZONE
TZID:Europe/London
BEGIN:DAYLIGHT
TZOFFSETFROM:+0000
TZOFFSETTO:+0100
TZNAME:BST
DTSTART:20250330T010000
END:DAYLIGHT
BEGIN:STANDARD
TZOFFSETFROM:+0100
TZOFFSETTO:+0000
TZNAME:GMT
DTSTART:20251026T010000
END:STANDARD
BEGIN:DAYLIGHT
TZOFFSETFROM:+0000
TZOFFSETTO:+0100
TZNAME:BST
DTSTART:20260329T010000
END:DAYLIGHT
BEGIN:STANDARD
TZOFFSETFROM:+0100
TZOFFSETTO:+0000
TZNAME:GMT
DTSTART:20261025T010000
END:STANDARD
BEGIN:DAYLIGHT
TZOFFSETFROM:+0000
TZOFFSETTO:+0100
TZNAME:BST
DTSTART:20270328T010000
END:DAYLIGHT
BEGIN:STANDARD
TZOFFSETFROM:+0100
TZOFFSETTO:+0000
TZNAME:GMT
DTSTART:20271031T010000
END:STANDARD
END:VTIMEZONE
BEGIN:VEVENT
DTSTART;VALUE=DATE:20260511
DTEND;VALUE=DATE:20260518
DTSTAMP:20260420T144125
CREATED:20220430T050836Z
LAST-MODIFIED:20260420T122408Z
UID:5445-1778457600-1779062399@adoddle.org
SUMMARY:Mental Health Awareness Week
DESCRIPTION:Today is the start of #MentalHealthAwarenessWeek\nThis week runs from the 11th to 17th May and was started by The Mental Health Foundation. It provides an opportunity for the UK to focus on achieving good mental health\, and to raise awareness for mental health issues. \nThe theme for 2026 is “Take Action”\nThis Mental Health Awareness Week we’re asking people to join us in taking action to support good mental health. Even small actions can help us feel hopeful and less powerless. And while our individual actions matter\, when we come together we are even more powerful. \n\n\n\n\nWe’ve chosen Action as this year’s theme because\, while awareness is vital\, real change comes when we take action too. Together\, we’ve come a long way on mental health\, but we can’t risk going backwards. There’s still much we can do to prevent people becoming unwell in the first place. \n\n\n\n\n\n\n\n\nRaising awareness is vital\, but real change comes when we take action to !\n\n\n\n\nSource: Mental Health Awareness Week | Mental Health Foundation
URL:https://adoddle.org/events-calendar/mental-health-awareness-week/
CATEGORIES:Awareness Week,International,National,UK,World
ATTACH;FMTTYPE=image/png:https://adoddle.org/wp-content/uploads/2022/04/Mental-Health-Awareness-Week.png
END:VEVENT
BEGIN:VEVENT
DTSTART;VALUE=DATE:20260515
DTEND;VALUE=DATE:20260516
DTSTAMP:20260420T144125
CREATED:20220430T064152Z
LAST-MODIFIED:20260419T192703Z
UID:5451-1778803200-1778889599@adoddle.org
SUMMARY:Endangered Species Day
DESCRIPTION:It’s #EndangeredSpeciesDay\nThis day was created as a way to remind us of how fragile the existence of some animals\, plants and insects is\, and to encourage us to learn about why it is so important to protect these species. \nIt is also a perfect time to learn about and celebrate the progress made to protect wildlife since the creation of the Endangered Species Act in 1973. \nFour Ways to Celebrate\n1. Become a Member of the National Wildlife Federation\nJoin millions across the country in supporting wildlife conservation efforts. \n2. Update Your Facebook Cover Photo\nShow your support for endangered species with a photo of your favourite wildlife species. Let us know you did it by tagging the National Wildlife Federation. \n3. Attend an Endangered Species Day event\nEvents are held across the country to highlight endangered species stories. Find an event near you. \n4. Help Kids Learn About Biodiversity\nThe National Wildlife Federation’s Eco-Schools USA has resources to get students ready to celebrate biodiversity and conservation. \nSources*Endangered Species Day – Endangered Species Coalition
URL:https://adoddle.org/events-calendar/endangered-species-day/
CATEGORIES:Awareness Day,International,National,World
ATTACH;FMTTYPE=image/png:https://adoddle.org/wp-content/uploads/2022/04/20th-May-Endangered-Species-Day-IG.png
END:VEVENT
BEGIN:VEVENT
DTSTART;VALUE=DATE:20260521
DTEND;VALUE=DATE:20260522
DTSTAMP:20260420T144125
CREATED:20220430T051548Z
LAST-MODIFIED:20260419T193606Z
UID:5448-1779321600-1779407999@adoddle.org
SUMMARY:Global Accessibility Awareness Day
DESCRIPTION:It’s #GlobalAccessibilityAwarenessDay!\nWe’re in the process of forging a new digital world\, and making it accessible for everyone is as important as ever. \nEvery user deserves a first-rate digital experience on the web. Someone with a disability must be able to experience web-based services\, content and other digital products with the same successful outcome as those without disabilities. This awareness and commitment to inclusion is the goal of Global Accessibility Awareness Day (GAAD)\, a global event that shines a light on digital access and inclusion for people with disabilities. \nGlobal Accessibility Awareness Day on the 21st May  is all about getting everyone talking\, thinking and learning about digital access and inclusion\, and the more than One Billion people with disabilities/impairments. \nAccessibility isn’t just about making features more accessible for the disabled\, it’s about making changes that will benefit everyone. The curb cut effect exemplifies this perfectly. \n  \n#GAAD #GlobalAccessibility \nSource* https://accessibility.day/ \n  \n 
URL:https://adoddle.org/events-calendar/global-accessibility-awareness-day/
CATEGORIES:Awareness Day,International,World
ATTACH;FMTTYPE=image/png:https://adoddle.org/wp-content/uploads/2022/04/19th-May-GAAD-Global-Accessibility-Awareness-Day-IG.png
END:VEVENT
BEGIN:VEVENT
DTSTART;VALUE=DATE:20260528
DTEND;VALUE=DATE:20260529
DTSTAMP:20260420T144125
CREATED:20220503T070732Z
LAST-MODIFIED:20260419T194839Z
UID:5583-1779926400-1780012799@adoddle.org
SUMMARY:World Hunger Day
DESCRIPTION:It’s World Hunger Day on 28th May. \nHunger is not inevitable. It is created by systems we have the power to change. Every day\, people around the world are proving that transformation is possible: farmers regenerating their land\, women leading local governments\, youth launching climate-smart innovations and communities organizing for their own development. \nThis year’s World Hunger Day celebrates the contributions we all make: the hands that plant seeds\, lift others up\, learn new skills\, build solutions\, share knowledge\, raise voices and open new futures. \nAnd it invites the world to join them. \n#WorldHungerDay #GoodNutrition #SowingResiliance \n  \nSource & Find Out More: http://worldhungerday.org/
URL:https://adoddle.org/events-calendar/world-hunger-day/
CATEGORIES:Awareness Day,International,UK,World
ATTACH;FMTTYPE=image/png:https://adoddle.org/wp-content/uploads/2022/05/World-Hunger-Day.png
END:VEVENT
END:VCALENDAR