BEGIN:VCALENDAR
VERSION:2.0
PRODID:-//aDoddle - Community Mapping - ECPv6.15.11//NONSGML v1.0//EN
CALSCALE:GREGORIAN
METHOD:PUBLISH
X-WR-CALNAME:aDoddle - Community Mapping
X-ORIGINAL-URL:https://adoddle.org
X-WR-CALDESC:Events for aDoddle - Community Mapping
REFRESH-INTERVAL;VALUE=DURATION:PT1H
X-Robots-Tag:noindex
X-PUBLISHED-TTL:PT1H
BEGIN:VTIMEZONE
TZID:Europe/London
BEGIN:DAYLIGHT
TZOFFSETFROM:+0000
TZOFFSETTO:+0100
TZNAME:BST
DTSTART:20240331T010000
END:DAYLIGHT
BEGIN:STANDARD
TZOFFSETFROM:+0100
TZOFFSETTO:+0000
TZNAME:GMT
DTSTART:20241027T010000
END:STANDARD
BEGIN:DAYLIGHT
TZOFFSETFROM:+0000
TZOFFSETTO:+0100
TZNAME:BST
DTSTART:20250330T010000
END:DAYLIGHT
BEGIN:STANDARD
TZOFFSETFROM:+0100
TZOFFSETTO:+0000
TZNAME:GMT
DTSTART:20251026T010000
END:STANDARD
BEGIN:DAYLIGHT
TZOFFSETFROM:+0000
TZOFFSETTO:+0100
TZNAME:BST
DTSTART:20260329T010000
END:DAYLIGHT
BEGIN:STANDARD
TZOFFSETFROM:+0100
TZOFFSETTO:+0000
TZNAME:GMT
DTSTART:20261025T010000
END:STANDARD
BEGIN:DAYLIGHT
TZOFFSETFROM:+0000
TZOFFSETTO:+0100
TZNAME:BST
DTSTART:20270328T010000
END:DAYLIGHT
BEGIN:STANDARD
TZOFFSETFROM:+0100
TZOFFSETTO:+0000
TZNAME:GMT
DTSTART:20271031T010000
END:STANDARD
END:VTIMEZONE
BEGIN:VEVENT
DTSTART;VALUE=DATE:20251220
DTEND;VALUE=DATE:20260105
DTSTAMP:20260424T193102
CREATED:20231204T103340Z
LAST-MODIFIED:20251111T134353Z
UID:9255-1766188800-1767571199@adoddle.org
SUMMARY:Festival of Winter Walks
DESCRIPTION:The Festival of Winter Walks is an annual event that encourages people to embrace the beauty of #Winter by going for walks in nature. It’s a celebration of the great outdoors during the colder months and an opportunity to connect with nature\, stay active\, and enjoy the crisp\, winter air. \nThe Festival of Winter Walks is a time to explore the tranquillity and serenity of winter landscapes. It encourages individuals and families to bundle up\, step outside\, and go for refreshing walks in parks\, forests\, and scenic areas. \nCelebrating the Festival of Winter Walks is all about embracing the magic of winter landscapes and enjoying the benefits of outdoor activity. Here are some ways to celebrate: \n\nPlan a Winter Hike: Choose a nearby nature trail\, park\, or woodland area and plan a winter hike with friends or family.\nExplore Local Scenery: Take the time to explore the beauty of your local surroundings\, whether it’s a snowy forest or a frosty beach.\nStay Warm: Bundle up in warm clothing\, wear comfortable boots\, and bring along hot beverages or snacks to enjoy during your walk.\nBirdwatching: Winter is a great time for birdwatching\, as many species of birds can be spotted more easily without the foliage of spring and summer.\nPhotography: Capture the stunning winter landscapes with your camera and share your photos with friends and on social media\n\n  \n#WinterWalks #FestivalOfWinterWalks #NatureExploration #WinterWonderland  #OutdoorAdventure  #StayActive \nSource:  Festival Of Winter Walks 2025 | December 20\, 2025 | Awareness Days \n 
URL:https://adoddle.org/events-calendar/festival-of-winter-walks/
CATEGORIES:Awareness Day,National,UK
ATTACH;FMTTYPE=image/png:https://adoddle.org/wp-content/uploads/2023/12/Festival-Winter-Walks.png
END:VEVENT
BEGIN:VEVENT
DTSTART;VALUE=DATE:20260101
DTEND;VALUE=DATE:20260102
DTSTAMP:20260424T193102
CREATED:20221207T142641Z
LAST-MODIFIED:20251215T123843Z
UID:6701-1767225600-1767311999@adoddle.org
SUMMARY:Dry January
DESCRIPTION:Alcohol use has been part of different cultures and societies for thousands of years. While many people find that alcohol is an enjoyable part of their lives\, it can have a tendency to create some difficulties and even throw their health out of balance. Some of the things people want to avoid may include the calories from alcohol that can create weight gain\, as well as the cost involved with drinking alcohol. Taking the month of January to reset and rebuild new\, healthy habits is what #DryJanuary is all about.  \nWhile the term first made an appearance in the early 2000s\, the official day didn’t happen until about a decade later. It all started in 2011 when Emily Robinson signed up to run a half marathon in February and realized she needed to get her body ready during the month of January. Because her training regimen included giving up alcohol\, she found that she was sleeping better\, losing weight and had more energy.  \nSo the following year\, Emily joined Alcohol Change UK and decided to give up drinking for the month of January again. The following year\, Alcohol Change UK launched its official celebration of Dry January and the practice has been catching on over the years since then. In 2014\, Dry January became a registered trademark by the Alcohol Change UK charity. As it turns out\, many people have been finding that Dry January offers a variety of benefits to their lives.  \nWhen a group of people who had participated in Dry January were surveyed\, it was discovered that the celebration of the day had helped them to establish healthier habits around drinking. \n Each year\, many of the people who participate in Dry January have considered it to be a positive experience\, saying that they have lost weight and are drinking less even six months later. Many of them have dropped from ‘harmful’ categories of drinking to ‘low risk’. In a few countries\, like in Czech Republic or Canada\, the non-drinking month is actually celebrated as Dry February.  \nBut no matter when it is\, the concept is the same – bringing balance and health to thousands of people by helping them reset their drinking habits. * \n#AlcoholFree #Sobriety #SoberLife #RecoveryIsPossible #DryJanuary \n  \n*Source: https://alcoholchange.org.uk/get-involved/campaigns/dry-january
URL:https://adoddle.org/events-calendar/dry-january-2/
CATEGORIES:Awareness Month,National,UK
ATTACH;FMTTYPE=image/png:https://adoddle.org/wp-content/uploads/2022/12/dry-january-2.png
END:VEVENT
BEGIN:VEVENT
DTSTART;VALUE=DATE:20260101
DTEND;VALUE=DATE:20260102
DTSTAMP:20260424T193102
CREATED:20221208T112247Z
LAST-MODIFIED:20251215T124927Z
UID:6696-1767225600-1767311999@adoddle.org
SUMMARY:Love Your Liver Awareness Month
DESCRIPTION:January is Love Your Liver Month ! \nThe liver is an amazing multi-tasker and has over 500 vital jobs to do to keep you alive. It’s just as important as other organs like your heart and lungs\, but they tend to steal most of the limelight. \nSadly\, people with liver disease often don’t have any symptoms until the disease has progressed and it’s far too late for treatment. That’s why it’s so important to know the risk factors and to keep your liver happy and healthy for life. \n\n\n\n\nThis January\, let’s show our livers some love by doing something healthy. \n\n\n\n\n  \nSource: https://britishlivertrust.org.uk/love-your-liver-month/
URL:https://adoddle.org/events-calendar/love-your-liver-awareness-month/
CATEGORIES:Awareness Month,National,UK
ATTACH;FMTTYPE=image/png:https://adoddle.org/wp-content/uploads/2022/12/love-your-liver-1.png
END:VEVENT
BEGIN:VEVENT
DTSTART;VALUE=DATE:20260103
DTEND;VALUE=DATE:20260104
DTSTAMP:20260424T193102
CREATED:20211205T201459Z
LAST-MODIFIED:20251215T122134Z
UID:4879-1767398400-1767484799@adoddle.org
SUMMARY:Festival of Sleep Day
DESCRIPTION:We’ve been enjoying forty winks ever since the human race came into existence\, but we haven’t always understood it. Early speculation by the Ancient Greeks about the reason for sleep was that it is due to lack of circulation\, causing the body to become unconscious for a period of time while it rebalanced. Theorists were divided at first on whether this was due to the brain or the heart\, which were known to be the two most important organs. \nBack then\, #Sleep was separated into a first and second sleep of the day\, instead of the single long stretch we enjoy today. In the interlude between sleep\, people would socialize and relax. This routine stayed the same for centuries but was disrupted by the Industrial Revolution and the invention of artificial light\, which allowed for a longer working day and therefore pushed together the periods of sleep. The socializing section of the day was moved to before bed instead. \nThe desire for success in the newly industrialized world would eat into the sleeping time of many workers and businesspeople\, as it continues to do today. A new regulation was introduced by Ford in 1926\, when it became the first American company to provide employees with a fixed schedule of an eight-hour working day and a 40-hour working week\, allowing those on the payroll to get to bed on time. \nFestival of Sleep Day is a modern-day celebration\, supposedly invented to help us recharge our batteries from all the lost sleep around the festive season at the end of the year. It reminds us to practice self-care for the coming year and take advantage of the numerous benefits of a good night’s sleep. \n#FestivalOfSleepDay #SelfCare \nSource: https://nationaltoday.com/festival-of-sleep-day/
URL:https://adoddle.org/events-calendar/festival-of-sleep-day/
CATEGORIES:Awareness Day,National,UK
ATTACH;FMTTYPE=image/png:https://adoddle.org/wp-content/uploads/2021/12/Jan-3rd-Festival-of-Sleep-Day-FB.png
END:VEVENT
BEGIN:VEVENT
DTSTART;VALUE=DATE:20260104
DTEND;VALUE=DATE:20260105
DTSTAMP:20260424T193102
CREATED:20211205T201948Z
LAST-MODIFIED:20251215T122652Z
UID:4882-1767484800-1767571199@adoddle.org
SUMMARY:World Braille Day
DESCRIPTION:World Braille Day is an international day of awareness to highlight the importance of Braille as a means of communication for blind and visually impaired people. \nThe date\, 4 January\, is significant as it also marks Louis Braille’s birthday in 1809. \nLouis first presented his tactile system of reading and writing in 1824 when he was just 15 years old and spent the rest of his life perfecting it. \nBraille continues to be used globally in many different languages\, including music\, and even with the advent of accessible technology\, Braille continues to thrive\, allowing its readers to submerge themselves into language completely giving independence\, knowledge and freedom. \nRNC offers accredited BTEC qualifications in Braille to its students alongside their other studies. More details can be found here. \nHappy World Braille Day! \n  \nSource: News (rnc.ac.uk)
URL:https://adoddle.org/events-calendar/world-braille-day/
CATEGORIES:Awareness Day,UK,World
ATTACH;FMTTYPE=image/png:https://adoddle.org/wp-content/uploads/2021/11/4th-January-World-Braille-Day-FB.png
END:VEVENT
BEGIN:VEVENT
DTSTART;VALUE=DATE:20260107
DTEND;VALUE=DATE:20260214
DTSTAMP:20260424T193102
CREATED:20211205T205041Z
LAST-MODIFIED:20260105T114827Z
UID:4884-1767744000-1771027199@adoddle.org
SUMMARY:Big Schools' Birdwatch
DESCRIPTION:Big Schools’ Birdwatch\nThe RSPB’s Big Schools’ Birdwatch is a citizen science project for schools across the UK. It takes place alongside\, the RSPB’s Big Garden Birdwatch. \nIt’s easy (and free!) to get involved\, and we find that most children are excited to be a part of this important research. All you have to do is count the bird species you can see in your school\, and then send the results to the RSPB. Easy! \nSubmission for results is open between 6th January – 13th February. \nRSPB’s Big Schools’ Birdwatch has been running for over 20 years\, and the reason it’s been going for so long is that it’s such valuable work. The results that schools submit to the RSPB are used by scientists to help create a picture of how birds are faring across the UK. \nTo register for RSPB’s Big Schools’ Birdwatch\, you can follow this link\, which takes you to their website. \n  \nSource: Big Schools’ Birdwatch (rspb.org.uk)
URL:https://adoddle.org/events-calendar/big-schools-birdwatch/
CATEGORIES:Awareness Week,National,UK
ATTACH;FMTTYPE=image/png:https://adoddle.org/wp-content/uploads/2021/12/Birdwatch-2.png
END:VEVENT
BEGIN:VEVENT
DTSTART;VALUE=DATE:20260111
DTEND;VALUE=DATE:20260112
DTSTAMP:20260424T193102
CREATED:20221208T125937Z
LAST-MODIFIED:20251223T124321Z
UID:6717-1768089600-1768175999@adoddle.org
SUMMARY:Heritage Treasure's Day
DESCRIPTION:Heritage Treasure’s Day is marked on January 11th of every year.  \nIt’s the perfect day to let everyone know about our unique heritage. It’s also a day to preserve monuments and raise funds for iconic landmarks all over the globe. Conserving wildlife is also part of this day.  \nBy raising awareness and educating others about these structures and creatures\, we celebrate who we are\, where we have come from\, and how we are all connected.  \nThe Heritage Fund is the largest dedicated grant funder of the U.K.’s heritage\, working to champion the value of heritage for everyone. Anything from the past that is valuable and worthy to pass on to future generations can be considered heritage. Positive things happen when we share\, understand\, and value our #Heritage.  \n#Conservation #Wildlife #Heritage #HeritageFund #HeritageTreasuresDay #IconicLandmarks \nSource:  https://www.heritagefund.org.uk/
URL:https://adoddle.org/events-calendar/heritage-treasures-day/
CATEGORIES:Awareness Day,National,UK
ATTACH;FMTTYPE=image/png:https://adoddle.org/wp-content/uploads/2022/12/Heritage-Day-1.png
END:VEVENT
BEGIN:VEVENT
DTSTART;VALUE=DATE:20260114
DTEND;VALUE=DATE:20260115
DTSTAMP:20260424T193102
CREATED:20241215T131017Z
LAST-MODIFIED:20251215T131126Z
UID:11529-1768348800-1768435199@adoddle.org
SUMMARY:Caesarean Section Day
DESCRIPTION:Caesarean Section Day\, also known as C-Section Day\, takes place on the 14th January every year. It highlights the importance of this medical procedure and its impact on maternal and infant health and raises awareness about maternity care and surgical interventions during childbirth. \nThis day recognises the importance of C-sections in childbirth\, a life-saving surgical procedure that is essential for the health and safety of both mother and baby in certain situations. Caesarean Section Day aims to educate people about the reasons for C-sections\, the recovery process\, and to support those who have undergone this major surgery. It’s also an opportunity to dispel myths and stigma associated with C-sections and to celebrate the strength and resilience of mothers who bring life into the world through this method. This observance highlights the advancements in maternal healthcare and the importance of accessible and safe childbirth options for all women. \nLooking to share information and support around Caesarean Section Day? Here are some content ideas for your social media: \n\nEducational Posts: Share informative content about what a C-section is\, why it’s performed\, and the care required post-surgery.\nPersonal Stories: Feature stories from mothers who have had C-sections\, focusing on their experiences and recovery journey.\nMedical Professional Insights: Offer insights from obstetricians and midwives about the procedure\, advancements in care\, and best practices.\nSupport and Resources: Provide resources for pre and post-C-section care\, including support groups\, recovery tips\, and mental health resources.\nCelebrating Mothers: Use this day to celebrate the strength and resilience of all mothers\, acknowledging the diverse experiences of childbirth.\n\n#CesareanSectionDay #CSectionAwareness #MaternalHealth #ChildbirthEducation #CSectionRecovery #BirthStories #Obstetrics #MaternalCare #CSectionSupport #SafeChildbirth #MotherhoodJourney #CSectionStrong #EmpoweredBirth #CSectionMoms #MedicalAwareness #PostpartumSupport #HealthyBirths #CSectionCare #MaternityCare #MotherhoodStrength #NewbornCare #CSectionAdvocacy #FamilyHealth #CSectionExperience #BirthOptions #WomenHealth #HealthyMothers #CSectionWarriors #SupportingMoms #BirthJourney \n  \nSource: Cesarean Section Day | Awareness Days
URL:https://adoddle.org/events-calendar/caesarean-section-day/
CATEGORIES:Awareness Day,National,UK
ATTACH;FMTTYPE=image/png:https://adoddle.org/wp-content/uploads/2024/12/C-Section-AW.png
END:VEVENT
BEGIN:VEVENT
DTSTART;VALUE=DATE:20260119
DTEND;VALUE=DATE:20260120
DTSTAMP:20260424T193102
CREATED:20221207T143531Z
LAST-MODIFIED:20260105T120653Z
UID:6722-1768780800-1768867199@adoddle.org
SUMMARY:Brew Monday (BlueMonday)
DESCRIPTION:The third Monday in January is sometimes referred to as ‘the most difficult day of the year’ but this is a myth. \nAt Samaritans\, they know there’s no such thing as ‘Blue Monday’ – we all have our good days and our bad days\, and those aren’t for the calendar to decide. So lets say it’s time to stop this myth about Monday being ‘blue’ and instead start a conversation over a brew! ​Reach out and connect with family\, friends\, colleagues and loved ones. We can always make time for a cuppa and a catch-up. It doesn’t matter if it’s a Monday morning or Saturday night\, or if you’re drinking green tea\, black coffee or orange juice. If you’re sharing a cuppa and listening\, you’re doing it right. \nSamaritans are there for you round the clock\, every single day of the year. Whatever you’re going through\, call them free any time\, from any phone on 116 123. \n#BlueMonday #BrewMonday #Samaritans #MentalHealth #DepressionAwareness #EmotionalSupport \n  \nSource: https://www.samaritans.org/support-us/campaign/brew-monday/
URL:https://adoddle.org/events-calendar/brew-monday/
CATEGORIES:Awareness Day,National,UK
ATTACH;FMTTYPE=image/png:https://adoddle.org/wp-content/uploads/2022/12/Brew-Monday-3.png
END:VEVENT
BEGIN:VEVENT
DTSTART;VALUE=DATE:20260119
DTEND;VALUE=DATE:20260126
DTSTAMP:20260424T193102
CREATED:20220603T091013Z
LAST-MODIFIED:20260109T133345Z
UID:5968-1768780800-1769385599@adoddle.org
SUMMARY:Cervical Cancer Prevention Week
DESCRIPTION:This week is Cervical Cancer Prevention Week. \nStatistics show that 1 in 3 people don’t go to their cervical screening appointment due to embarrassment or fear. There’s a lot of built-up stigma around the test\, but it’s one that’s vitally important. \nAccording to the NHS\, the early signs of ovarian cancer can be: \n\na swollen tummy or feeling bloated\npain or tenderness in your tummy or the area between the hips (pelvis)\nno appetite or feeling full quickly after eating\nan urgent need to pee or needing to pee more often\n\nCervical cancer is curable with early detection. It is also very slow to spread\, increasing the chances of cure. All we have to do is test and start treatment before cancer grows. \nTherefore it is crucial that women aged 25 – 64 take up their free cervical screening on the NHS as soon as they receive their invitation. \n  \nFind out more at: Cervical Cancer Prevention Week | Awareness Days \n 
URL:https://adoddle.org/events-calendar/cervical-cancer-prevention-week/
CATEGORIES:Awareness Week,National,UK
ATTACH;FMTTYPE=image/png:https://adoddle.org/wp-content/uploads/2022/06/Cervical-Cancer-AW-1.png
END:VEVENT
BEGIN:VEVENT
DTSTART;VALUE=DATE:20260120
DTEND;VALUE=DATE:20260121
DTSTAMP:20260424T193102
CREATED:20240105T104006Z
LAST-MODIFIED:20260105T122411Z
UID:9474-1768867200-1768953599@adoddle.org
SUMMARY:International Day of Acceptance
DESCRIPTION:International Day of Acceptance takes place on the 20th of January every year as a powerful reminder of the importance of social acceptance and the inclusion of people with disabilities. \nThis day is dedicated to fostering a more inclusive society that recognises the abilities\, contributions\, and rights of all individuals\, regardless of their physical or mental challenges. \nIt emphasises the need to embrace diversity in all its forms and to advocate for equal opportunities and accessibility in every aspect of life. International Day of Acceptance is not only about raising awareness but also about taking action to create environments where differences are respected and celebrated. \nIt’s a call to individuals\, organisations\, and governments to promote understanding\, respect\, and equality for people with disabilities\, thereby enriching communities with diverse perspectives and talents. \n#InternationalDayOfAcceptance #InclusionMatters #DiversityAndInclusion #AccessibilityForAll #EqualOpportunities #EmbraceDiversity #InclusiveSociety \nSource:  International Day Of Acceptance | Awareness Days
URL:https://adoddle.org/events-calendar/international-day-of-acceptance/
CATEGORIES:Awareness Day,International,National,UK,World
ATTACH;FMTTYPE=image/png:https://adoddle.org/wp-content/uploads/2024/01/Day-of-Acceptance.png
END:VEVENT
BEGIN:VEVENT
DTSTART;VALUE=DATE:20260121
DTEND;VALUE=DATE:20260122
DTSTAMP:20260424T193102
CREATED:20231221T112450Z
LAST-MODIFIED:20260105T123830Z
UID:9469-1768953600-1769039999@adoddle.org
SUMMARY:National Hug Day
DESCRIPTION:Open up your heart … and your arms\, this January 21st for National Hug Day! As you might guess\, this day is an annual event dedicated to the underrated art form of the hug. We love all types of hugs\, from the one-armed bro hug to full bear hugs. So let’s get hugging! \nThe simplest and most effective way of expressing affection is celebrated on National Hug Day. Even though a #Hug is one of the most natural gestures\, it’s not practiced enough these days! This holiday encourages hugging\, as a therapeutic way to convey affection and emotions. \nThe word “hug” is believed to come from the word “hugga” meaning “to comfort” in the Old Norse language\, first appearing approximately 450 years ago. However\, the history of hugging itself is a bit more uncertain. What is known is that it is only very recently (within the past 50 years) that we have seen a full acceptance of hugging in public\, separating it from other distinguished displays of affection such as kissing. The widespread adoption of hugging over the recent years has been debated to be due to two primary reasons: the reduced formality of dress code and manners between relationships\, along with the changing behaviours of political figures in pursuit of a more relatable\, warm-hearted perception to the public. \nNowadays\, we don’t even think about the fact that #Hugging in public was considered indecent PDA. We hug to greet friends and family\, to say goodbye\, or to congratulate someone. To console someone or to show support. We hug before sports and performance teams begin their match\, and to show a general sign of affection between intimate relationships. There are also Free Hugs charity fundraisers! \nThe best way National Hug Day is celebrated is by spreading the love and offering a hug to your friends and family. It’s amazing how much difference a simple hug can make. Spend your day letting your nearest and dearest know that you’re there for them by giving them hugs and lifting their spirits. \n  \n#FreeHugs #NationalHugDay2026 #SpreadTheLove \nSource:  NATIONAL HUGGING DAY – January 21\, 2026 – National Today
URL:https://adoddle.org/events-calendar/national-hug-day/
CATEGORIES:Awareness Day,National,UK
ATTACH;FMTTYPE=image/png:https://adoddle.org/wp-content/uploads/2023/12/National-Hug-Day.png
END:VEVENT
BEGIN:VEVENT
DTSTART;VALUE=DATE:20260124
DTEND;VALUE=DATE:20260125
DTSTAMP:20260424T193102
CREATED:20241218T111914Z
LAST-MODIFIED:20260105T122931Z
UID:11532-1769212800-1769299199@adoddle.org
SUMMARY:National Compliment Day
DESCRIPTION:National Compliment Day takes place on the 24th of January every year as a wonderful opportunity to spread kindness and positivity through the simple act of giving compliments. \nThis day encourages individuals to recognise and vocalise the good in others\, reinforcing the power of positive words in uplifting spirits and strengthening connections. National Compliment Day is not just about praising achievements; it’s about acknowledging character\, effort\, and the little things that often go unnoticed. \nWhether it’s complimenting a colleague’s work\, a friend’s resilience\, or a stranger’s kindness\, this day reminds us of the impact that thoughtful\, sincere compliments can have on people’s lives. It’s a chance to create a ripple of positivity and to make the world a little brighter\, one compliment at a time. \nTo celebrate National Compliment Day\, here are some content ideas for your social media: \n\nCompliment Challenges: Encourage your audience to share compliments with others and post about their experiences or the reactions they receive.\nThe Power of Kind Words: Share quotes or stories that demonstrate the impact of positive words and compliments.\nTips on Giving Compliments: Offer tips on how to give genuine and meaningful compliments\, emphasising the importance of sincerity.\nCompliment-Themed Activities: Suggest engaging activities or games that revolve around giving and receiving compliments\, suitable for schools\, workplaces\, or communities.\nHighlight Acts of Kindness: Feature stories or examples of acts of kindness within your community or network\, complimenting those involved for their efforts and impact.\n\n#NationalComplimentDay #SpreadKindness #PositiveVibes #ComplimentsMatter #KindWordsCount #UpliftingOthers #SpreadPositivity #ComplimentChallenge #SaySomethingNice #KindnessMatters #PowerOfCompliments #AppreciationPost #KindWordsHeal #ComplimentSomeone #BrightenADay #PositiveImpact #ThoughtfulCompliments #SpreadJoy \n  \nSource: National Compliment Day | Awareness Days
URL:https://adoddle.org/events-calendar/national-compliment-day/
CATEGORIES:Awareness Day,National,UK
ATTACH;FMTTYPE=image/png:https://adoddle.org/wp-content/uploads/2024/12/Compliment-Day.png
END:VEVENT
BEGIN:VEVENT
DTSTART;VALUE=DATE:20260125
DTEND;VALUE=DATE:20260126
DTSTAMP:20260424T193102
CREATED:20221214T145932Z
LAST-MODIFIED:20251223T124839Z
UID:6769-1769299200-1769385599@adoddle.org
SUMMARY:Burns Night
DESCRIPTION:The 25th January is known nationally as Burns Night.\n\n\n \n\n\nKnown in medieval Celtic culture as a story teller\, verse maker and composer\, the word ‘Bard’ has become synonymous with the world’s greatest poets. However\, few are as celebrated as Scotland’s own ‘National Bard’\, Robert Burns\, who we pay tribute to on 25 January each year.\n\n\n \n\n\nBorn in Ayrshire in 1759\, Robert Burns is Scotland’s national bard. Affectionately known as ‘the Ploughman Poet’\, his verses stand as a fitting testament to Scotland’s proud literary history.\n\n\n \n\n\nAuld Lang Syne\, perhaps Burns’ most famous work\, is one of the most widely sung songs of the English language. The song has crossed borders and oceans and can be heard across the globe on Hogmanay and New Year.\n\n\n \n\n\nSource:  https://www.scotland.org/events/burns-night\n\n\n \n\n\n#BurnsNight #Scotland #VisitScotland #AuldLangSyne #RobertBurns
URL:https://adoddle.org/events-calendar/burns-night/
CATEGORIES:Awareness Day,National,UK
ATTACH;FMTTYPE=image/png:https://adoddle.org/wp-content/uploads/2022/12/burnsnight-1.png
END:VEVENT
BEGIN:VEVENT
DTSTART;VALUE=DATE:20260127
DTEND;VALUE=DATE:20260128
DTSTAMP:20260424T193102
CREATED:20221214T152354Z
LAST-MODIFIED:20260109T134418Z
UID:6774-1769472000-1769558399@adoddle.org
SUMMARY:Holocaust Memorial Day
DESCRIPTION:Holocaust Memorial Day (#HMD) takes place on 27 January each year and is a time to remember the millions of people murdered during the Holocaust\, under Nazi Persecution and in the genocides which followed in Cambodia\, Rwanda\, Bosnia and Darfur.\n\n\n \n\n\nHolocaust Memorial Day is a time when we seek to learn the lessons of the past and recognise that genocide does not just take place on its own – it’s a steady process which can begin if discrimination\, racism and hatred are not checked and prevented. We’re fortunate here in the UK; we are not at immediate risk of genocide. However\, discrimination has not ended\, nor has the use of the language of hatred or exclusion. There is still much to do to create a safer future and HMD is an opportunity to start this process.\n\n\n \n\n\nThe aims of HMD are laid out in the statement of commitment. HMD activity organisers bring together the diverse strands of their communities to commemorate Holocaust Memorial Day in their neighbourhoods. This is a real demonstration of how the lessons of the past can inform our lives today and ensure that everyone works together to create a safer\, better future.\n\n\n \n\n\nEach year thousands of activities take place for HMD\, bringing people from all backgrounds together to learn lessons from the past in creative\, reflective and inspiring ways. From schools to libraries\, workplaces to local authorities\, HMD activities offer a real opportunity to honour the experiences of people affected by the Holocaust and genocide\, and challenge ourselves to work for a safer\, better future.\n\n\n \n\n\n#HolocaustMemorialDay #HumanRights #History #OnThisDay #HMD2026\n\n\n \n\n\nSource:  Holocaust Memorial Day Trust | What is Holocaust Memorial Day?
URL:https://adoddle.org/events-calendar/holocaust-memorial-day/
CATEGORIES:Awareness Day,International,National,UK
ATTACH;FMTTYPE=image/png:https://adoddle.org/wp-content/uploads/2022/12/holocaust-memorial.png
END:VEVENT
END:VCALENDAR